BEGIN:VCALENDAR
VERSION:2.0
PRODID:-//CNIA 07, District 21 Events - ECPv6.8.3//NONSGML v1.0//EN
CALSCALE:GREGORIAN
METHOD:PUBLISH
X-WR-CALNAME:CNIA 07, District 21 Events
X-ORIGINAL-URL:https://events.aaplacer.org
X-WR-CALDESC:Events for CNIA 07, District 21 Events
REFRESH-INTERVAL;VALUE=DURATION:PT1H
X-Robots-Tag:noindex
X-PUBLISHED-TTL:PT1H
BEGIN:VTIMEZONE
TZID:America/Los_Angeles
BEGIN:DAYLIGHT
TZOFFSETFROM:-0800
TZOFFSETTO:-0700
TZNAME:PDT
DTSTART:20220313T100000
END:DAYLIGHT
BEGIN:STANDARD
TZOFFSETFROM:-0700
TZOFFSETTO:-0800
TZNAME:PST
DTSTART:20221106T090000
END:STANDARD
END:VTIMEZONE
BEGIN:VEVENT
DTSTART;TZID=America/Los_Angeles:20221014T190000
DTEND;TZID=America/Los_Angeles:20221016T120000
DTSTAMP:20260423T224958
CREATED:20220820T180952Z
LAST-MODIFIED:20220824T011357Z
UID:1866-1665774000-1665921600@events.aaplacer.org
SUMMARY:CNIA Mini PRAASA 2022
DESCRIPTION:
URL:https://events.aaplacer.org/event/cnia-mini-praasa-2022/
LOCATION:Yuba Sutter Fairgrounds\, Franklin Hall\, 442 Franklin Avenue\, Yuba City\, CA\, 95991\, United States
ORGANIZER;CN="Brad E.":MAILTO:minipraasa2022@cnia.org
END:VEVENT
END:VCALENDAR