BEGIN:VCALENDAR
VERSION:2.0
PRODID:-//CNIA 07, District 21 Events - ECPv6.8.3//NONSGML v1.0//EN
CALSCALE:GREGORIAN
METHOD:PUBLISH
X-ORIGINAL-URL:https://events.aaplacer.org
X-WR-CALDESC:Events for CNIA 07, District 21 Events
REFRESH-INTERVAL;VALUE=DURATION:PT1H
X-Robots-Tag:noindex
X-PUBLISHED-TTL:PT1H
BEGIN:VTIMEZONE
TZID:America/Los_Angeles
BEGIN:DAYLIGHT
TZOFFSETFROM:-0800
TZOFFSETTO:-0700
TZNAME:PDT
DTSTART:20240310T100000
END:DAYLIGHT
BEGIN:STANDARD
TZOFFSETFROM:-0700
TZOFFSETTO:-0800
TZNAME:PST
DTSTART:20241103T090000
END:STANDARD
END:VTIMEZONE
BEGIN:VEVENT
DTSTART;TZID=America/Los_Angeles:20240427T100000
DTEND;TZID=America/Los_Angeles:20240427T120000
DTSTAMP:20260424T010116
CREATED:20240423T045528Z
LAST-MODIFIED:20240423T045528Z
UID:4212-1714212000-1714219200@events.aaplacer.org
SUMMARY:H&I Workshop Loomis
DESCRIPTION:
URL:https://events.aaplacer.org/event/hi-workshop-loomis/
LOCATION:Sierra Presbyterian Church Fellowship Center\, 5400 Barton Road\, Bldg F\, Loomis\, CA\, 95650\, United States
END:VEVENT
END:VCALENDAR