BEGIN:VCALENDAR
VERSION:2.0
PRODID:-//CNIA 07, District 21 Events - ECPv6.8.3//NONSGML v1.0//EN
CALSCALE:GREGORIAN
METHOD:PUBLISH
X-WR-CALNAME:CNIA 07, District 21 Events
X-ORIGINAL-URL:https://events.aaplacer.org
X-WR-CALDESC:Events for CNIA 07, District 21 Events
REFRESH-INTERVAL;VALUE=DURATION:PT1H
X-Robots-Tag:noindex
X-PUBLISHED-TTL:PT1H
BEGIN:VTIMEZONE
TZID:America/Los_Angeles
BEGIN:DAYLIGHT
TZOFFSETFROM:-0800
TZOFFSETTO:-0700
TZNAME:PDT
DTSTART:20230312T100000
END:DAYLIGHT
BEGIN:STANDARD
TZOFFSETFROM:-0700
TZOFFSETTO:-0800
TZNAME:PST
DTSTART:20231105T090000
END:STANDARD
BEGIN:DAYLIGHT
TZOFFSETFROM:-0800
TZOFFSETTO:-0700
TZNAME:PDT
DTSTART:20240310T100000
END:DAYLIGHT
BEGIN:STANDARD
TZOFFSETFROM:-0700
TZOFFSETTO:-0800
TZNAME:PST
DTSTART:20241103T090000
END:STANDARD
END:VTIMEZONE
BEGIN:VEVENT
DTSTART;TZID=America/Los_Angeles:20240518T190000
DTEND;TZID=America/Los_Angeles:20240518T203000
DTSTAMP:20260424T010936
CREATED:20240113T214740Z
LAST-MODIFIED:20241002T235446Z
UID:3828-1716058800-1716064200@events.aaplacer.org
SUMMARY:RTNG Saturday Night Speaker Meeting
DESCRIPTION:Roseville Tuesday Night Group – Saturday Night Speaker Meeting
URL:https://events.aaplacer.org/event/rtng-saturday-night-speaker-meeting/2024-05-18/
LOCATION:Roseville Tuesday Night Group\, 315 Lincoln Street\, Roseville\, CA\, 95678\, United States
END:VEVENT
BEGIN:VEVENT
DTSTART;TZID=America/Los_Angeles:20240511T190000
DTEND;TZID=America/Los_Angeles:20240511T203000
DTSTAMP:20260424T010936
CREATED:20240113T214740Z
LAST-MODIFIED:20241002T235445Z
UID:3827-1715454000-1715459400@events.aaplacer.org
SUMMARY:RTNG Saturday Night Speaker Meeting
DESCRIPTION:Roseville Tuesday Night Group – Saturday Night Speaker Meeting
URL:https://events.aaplacer.org/event/rtng-saturday-night-speaker-meeting/2024-05-11/
LOCATION:Roseville Tuesday Night Group\, 315 Lincoln Street\, Roseville\, CA\, 95678\, United States
END:VEVENT
BEGIN:VEVENT
DTSTART;TZID=America/Los_Angeles:20240504T190000
DTEND;TZID=America/Los_Angeles:20240504T203000
DTSTAMP:20260424T010936
CREATED:20240113T214740Z
LAST-MODIFIED:20241002T235445Z
UID:3826-1714849200-1714854600@events.aaplacer.org
SUMMARY:RTNG Saturday Night Speaker Meeting
DESCRIPTION:Roseville Tuesday Night Group – Saturday Night Speaker Meeting
URL:https://events.aaplacer.org/event/rtng-saturday-night-speaker-meeting/2024-05-04/
LOCATION:Roseville Tuesday Night Group\, 315 Lincoln Street\, Roseville\, CA\, 95678\, United States
END:VEVENT
BEGIN:VEVENT
DTSTART;TZID=America/Los_Angeles:20240427T190000
DTEND;TZID=America/Los_Angeles:20240427T203000
DTSTAMP:20260424T010936
CREATED:20240113T214740Z
LAST-MODIFIED:20241002T235445Z
UID:3825-1714244400-1714249800@events.aaplacer.org
SUMMARY:RTNG Saturday Night Speaker Meeting
DESCRIPTION:Roseville Tuesday Night Group – Saturday Night Speaker Meeting
URL:https://events.aaplacer.org/event/rtng-saturday-night-speaker-meeting/2024-04-27/
LOCATION:Roseville Tuesday Night Group\, 315 Lincoln Street\, Roseville\, CA\, 95678\, United States
END:VEVENT
BEGIN:VEVENT
DTSTART;TZID=America/Los_Angeles:20240210T190000
DTEND;TZID=America/Los_Angeles:20240210T203000
DTSTAMP:20260424T010936
CREATED:20240113T214740Z
LAST-MODIFIED:20241002T235437Z
UID:3658-1707591600-1707597000@events.aaplacer.org
SUMMARY:RTNG Saturday Night Speaker Meeting
DESCRIPTION:Roseville Tuesday Night Group – Saturday Night Speaker Meeting
URL:https://events.aaplacer.org/event/rtng-saturday-night-speaker-meeting/2024-02-10/
LOCATION:Roseville Tuesday Night Group\, 315 Lincoln Street\, Roseville\, CA\, 95678\, United States
END:VEVENT
BEGIN:VEVENT
DTSTART;TZID=America/Los_Angeles:20230128T190000
DTEND;TZID=America/Los_Angeles:20230128T203000
DTSTAMP:20260424T010936
CREATED:20230115T185831Z
LAST-MODIFIED:20231005T025412Z
UID:2224-1674932400-1674937800@events.aaplacer.org
SUMMARY:RTNG Saturday Night Speaker Meeting
DESCRIPTION:
URL:https://events.aaplacer.org/event/rtng-saturday-night-speaker-meeting-2023-01-28/2023-01-28/
LOCATION:Roseville Tuesday Night Group\, 315 Lincoln Street\, Roseville\, CA\, 95678\, United States
END:VEVENT
END:VCALENDAR