BEGIN:VCALENDAR
VERSION:2.0
PRODID:-//CNIA 07, District 21 Events - ECPv6.8.3//NONSGML v1.0//EN
CALSCALE:GREGORIAN
METHOD:PUBLISH
X-WR-CALNAME:CNIA 07, District 21 Events
X-ORIGINAL-URL:https://events.aaplacer.org
X-WR-CALDESC:Events for CNIA 07, District 21 Events
REFRESH-INTERVAL;VALUE=DURATION:PT1H
X-Robots-Tag:noindex
X-PUBLISHED-TTL:PT1H
BEGIN:VTIMEZONE
TZID:America/Los_Angeles
BEGIN:DAYLIGHT
TZOFFSETFROM:-0800
TZOFFSETTO:-0700
TZNAME:PDT
DTSTART:20240310T100000
END:DAYLIGHT
BEGIN:STANDARD
TZOFFSETFROM:-0700
TZOFFSETTO:-0800
TZNAME:PST
DTSTART:20241103T090000
END:STANDARD
BEGIN:DAYLIGHT
TZOFFSETFROM:-0800
TZOFFSETTO:-0700
TZNAME:PDT
DTSTART:20250309T100000
END:DAYLIGHT
BEGIN:STANDARD
TZOFFSETFROM:-0700
TZOFFSETTO:-0800
TZNAME:PST
DTSTART:20251102T090000
END:STANDARD
BEGIN:DAYLIGHT
TZOFFSETFROM:-0800
TZOFFSETTO:-0700
TZNAME:PDT
DTSTART:20260308T100000
END:DAYLIGHT
BEGIN:STANDARD
TZOFFSETFROM:-0700
TZOFFSETTO:-0800
TZNAME:PST
DTSTART:20261101T090000
END:STANDARD
END:VTIMEZONE
BEGIN:VEVENT
DTSTART;TZID=America/Los_Angeles:20260208T143000
DTEND;TZID=America/Los_Angeles:20260208T170000
DTSTAMP:20260423T164314
CREATED:20260128T173143Z
LAST-MODIFIED:20260128T173143Z
UID:4952-1770561000-1770570000@events.aaplacer.org
SUMMARY:Panel 76 Conference Agenda Items Discussion
DESCRIPTION:
URL:https://events.aaplacer.org/event/panel-76-conference-agenda-items-discussion/
LOCATION:Rocklin Fellowship\, 6015 Pacific St. #6\, Rocklin\, CA\, 95677\, United States
ORGANIZER;CN="Theresa M.":MAILTO:dcm@aaplacer.org
END:VEVENT
BEGIN:VEVENT
DTSTART;TZID=America/Los_Angeles:20241109T150000
DTEND;TZID=America/Los_Angeles:20241109T170000
DTSTAMP:20260423T164314
CREATED:20240924T202811Z
LAST-MODIFIED:20240924T202811Z
UID:4517-1731164400-1731171600@events.aaplacer.org
SUMMARY:Writing for the Grapevine Workshop
DESCRIPTION:6015 Pacific Street\, UNIT 6\, Rocklin
URL:https://events.aaplacer.org/event/writing-for-the-grapevine-workshop/
LOCATION:Rocklin Fellowship\, 6015 Pacific St. #6\, Rocklin\, CA\, 95677\, United States
END:VEVENT
BEGIN:VEVENT
DTSTART;TZID=America/Los_Angeles:20240629T143000
DTEND;TZID=America/Los_Angeles:20240629T170000
DTSTAMP:20260423T164314
CREATED:20240610T033249Z
LAST-MODIFIED:20240610T033249Z
UID:4249-1719671400-1719680400@events.aaplacer.org
SUMMARY:06-29-2024 Delegates Report. HYBRID Meeting
DESCRIPTION:
URL:https://events.aaplacer.org/event/06-29-2024-delegates-report-hybrid-meeting/
LOCATION:Rocklin Fellowship\, 6015 Pacific St. #6\, Rocklin\, CA\, 95677\, United States
END:VEVENT
END:VCALENDAR