BEGIN:VCALENDAR
VERSION:2.0
PRODID:-//CNIA 07, District 21 Events - ECPv6.8.3//NONSGML v1.0//EN
CALSCALE:GREGORIAN
METHOD:PUBLISH
X-ORIGINAL-URL:https://events.aaplacer.org
X-WR-CALDESC:Events for CNIA 07, District 21 Events
REFRESH-INTERVAL;VALUE=DURATION:PT1H
X-Robots-Tag:noindex
X-PUBLISHED-TTL:PT1H
BEGIN:VTIMEZONE
TZID:America/Los_Angeles
BEGIN:DAYLIGHT
TZOFFSETFROM:-0800
TZOFFSETTO:-0700
TZNAME:PDT
DTSTART:20240310T100000
END:DAYLIGHT
BEGIN:STANDARD
TZOFFSETFROM:-0700
TZOFFSETTO:-0800
TZNAME:PST
DTSTART:20241103T090000
END:STANDARD
END:VTIMEZONE
BEGIN:VEVENT
DTSTART;TZID=America/Los_Angeles:20240704T080000
DTEND;TZID=America/Los_Angeles:20240704T150000
DTSTAMP:20260423T183549
CREATED:20240322T163500Z
LAST-MODIFIED:20240322T163500Z
UID:4078-1720080000-1720105200@events.aaplacer.org
SUMMARY:NAG 4th of July CELEBRATION
DESCRIPTION:North Auburn Group 4th of July CELEBRATION
URL:https://events.aaplacer.org/event/nag-4th-of-july-celebration/
LOCATION:Recreation Park\, 123 RECREATION DR.\, Auburn\, 95603\, United States
END:VEVENT
END:VCALENDAR