BEGIN:VCALENDAR
VERSION:2.0
PRODID:-//CNIA 07, District 21 Events - ECPv6.8.3//NONSGML v1.0//EN
CALSCALE:GREGORIAN
METHOD:PUBLISH
X-WR-CALNAME:CNIA 07, District 21 Events
X-ORIGINAL-URL:https://events.aaplacer.org
X-WR-CALDESC:Events for CNIA 07, District 21 Events
REFRESH-INTERVAL;VALUE=DURATION:PT1H
X-Robots-Tag:noindex
X-PUBLISHED-TTL:PT1H
BEGIN:VTIMEZONE
TZID:America/Los_Angeles
BEGIN:DAYLIGHT
TZOFFSETFROM:-0800
TZOFFSETTO:-0700
TZNAME:PDT
DTSTART:20240310T100000
END:DAYLIGHT
BEGIN:STANDARD
TZOFFSETFROM:-0700
TZOFFSETTO:-0800
TZNAME:PST
DTSTART:20241103T090000
END:STANDARD
END:VTIMEZONE
BEGIN:VEVENT
DTSTART;TZID=America/Los_Angeles:20240721T110000
DTEND;TZID=America/Los_Angeles:20240721T150000
DTSTAMP:20260423T233035
CREATED:20240623T204702Z
LAST-MODIFIED:20240623T204702Z
UID:4288-1721559600-1721574000@events.aaplacer.org
SUMMARY:AA Grapevine 80th Birthday 072124 Modesto
DESCRIPTION:
URL:https://events.aaplacer.org/event/aa-grapevine-80th-birthday-072124-modesto/
LOCATION:Harvest Hall\, 3800 Cornucopia Way\, Modesto\, CA 95358\, 3800 Cornucopia Way\, Modesto\, CA\, 95358\, United States
END:VEVENT
END:VCALENDAR