BEGIN:VCALENDAR
VERSION:2.0
PRODID:-//CNIA 07, District 21 Events - ECPv6.8.3//NONSGML v1.0//EN
CALSCALE:GREGORIAN
METHOD:PUBLISH
X-WR-CALNAME:CNIA 07, District 21 Events
X-ORIGINAL-URL:https://events.aaplacer.org
X-WR-CALDESC:Events for CNIA 07, District 21 Events
REFRESH-INTERVAL;VALUE=DURATION:PT1H
X-Robots-Tag:noindex
X-PUBLISHED-TTL:PT1H
BEGIN:VTIMEZONE
TZID:America/Los_Angeles
BEGIN:DAYLIGHT
TZOFFSETFROM:-0800
TZOFFSETTO:-0700
TZNAME:PDT
DTSTART:20240310T100000
END:DAYLIGHT
BEGIN:STANDARD
TZOFFSETFROM:-0700
TZOFFSETTO:-0800
TZNAME:PST
DTSTART:20241103T090000
END:STANDARD
BEGIN:DAYLIGHT
TZOFFSETFROM:-0800
TZOFFSETTO:-0700
TZNAME:PDT
DTSTART:20250309T100000
END:DAYLIGHT
BEGIN:STANDARD
TZOFFSETFROM:-0700
TZOFFSETTO:-0800
TZNAME:PST
DTSTART:20251102T090000
END:STANDARD
END:VTIMEZONE
BEGIN:VEVENT
DTSTART;TZID=America/Los_Angeles:20250804T193000
DTEND;TZID=America/Los_Angeles:20250804T203000
DTSTAMP:20260423T150901
CREATED:20231031T070120Z
LAST-MODIFIED:20231031T070120Z
UID:3592-1754335800-1754339400@events.aaplacer.org
SUMMARY:Back to Basics - Loomis
DESCRIPTION:
URL:https://events.aaplacer.org/event/back-to-basics-loomis-3/2025-08-04/
LOCATION:First United Methodist Church\, 6414 Brace Road\, Loomis\, 95622\, United States
END:VEVENT
BEGIN:VEVENT
DTSTART;TZID=America/Los_Angeles:20250728T193000
DTEND;TZID=America/Los_Angeles:20250728T203000
DTSTAMP:20260423T150901
CREATED:20231031T070120Z
LAST-MODIFIED:20231031T070120Z
UID:3591-1753731000-1753734600@events.aaplacer.org
SUMMARY:Back to Basics - Loomis
DESCRIPTION:
URL:https://events.aaplacer.org/event/back-to-basics-loomis-3/2025-07-28/
LOCATION:First United Methodist Church\, 6414 Brace Road\, Loomis\, 95622\, United States
END:VEVENT
BEGIN:VEVENT
DTSTART;TZID=America/Los_Angeles:20250721T193000
DTEND;TZID=America/Los_Angeles:20250721T203000
DTSTAMP:20260423T150901
CREATED:20231031T070120Z
LAST-MODIFIED:20231031T070120Z
UID:3590-1753126200-1753129800@events.aaplacer.org
SUMMARY:Back to Basics - Loomis
DESCRIPTION:
URL:https://events.aaplacer.org/event/back-to-basics-loomis-3/2025-07-21/
LOCATION:First United Methodist Church\, 6414 Brace Road\, Loomis\, 95622\, United States
END:VEVENT
BEGIN:VEVENT
DTSTART;TZID=America/Los_Angeles:20250714T193000
DTEND;TZID=America/Los_Angeles:20250714T203000
DTSTAMP:20260423T150901
CREATED:20231031T070120Z
LAST-MODIFIED:20231031T070120Z
UID:3589-1752521400-1752525000@events.aaplacer.org
SUMMARY:Back to Basics - Loomis
DESCRIPTION:
URL:https://events.aaplacer.org/event/back-to-basics-loomis-3/2025-07-14/
LOCATION:First United Methodist Church\, 6414 Brace Road\, Loomis\, 95622\, United States
END:VEVENT
BEGIN:VEVENT
DTSTART;TZID=America/Los_Angeles:20250707T193000
DTEND;TZID=America/Los_Angeles:20250707T203000
DTSTAMP:20260423T150901
CREATED:20231031T070120Z
LAST-MODIFIED:20231031T070120Z
UID:3588-1751916600-1751920200@events.aaplacer.org
SUMMARY:Back to Basics - Loomis
DESCRIPTION:
URL:https://events.aaplacer.org/event/back-to-basics-loomis-3/2025-07-07/
LOCATION:First United Methodist Church\, 6414 Brace Road\, Loomis\, 95622\, United States
END:VEVENT
BEGIN:VEVENT
DTSTART;TZID=America/Los_Angeles:20250623T193000
DTEND;TZID=America/Los_Angeles:20250623T203000
DTSTAMP:20260423T150901
CREATED:20231031T070120Z
LAST-MODIFIED:20231031T070120Z
UID:3587-1750707000-1750710600@events.aaplacer.org
SUMMARY:Back to Basics - Loomis
DESCRIPTION:
URL:https://events.aaplacer.org/event/back-to-basics-loomis-3/2025-06-23/
LOCATION:First United Methodist Church\, 6414 Brace Road\, Loomis\, 95622\, United States
END:VEVENT
BEGIN:VEVENT
DTSTART;TZID=America/Los_Angeles:20250616T193000
DTEND;TZID=America/Los_Angeles:20250616T203000
DTSTAMP:20260423T150901
CREATED:20231031T070120Z
LAST-MODIFIED:20231031T070120Z
UID:3586-1750102200-1750105800@events.aaplacer.org
SUMMARY:Back to Basics - Loomis
DESCRIPTION:
URL:https://events.aaplacer.org/event/back-to-basics-loomis-3/2025-06-16/
LOCATION:First United Methodist Church\, 6414 Brace Road\, Loomis\, 95622\, United States
END:VEVENT
BEGIN:VEVENT
DTSTART;TZID=America/Los_Angeles:20250609T193000
DTEND;TZID=America/Los_Angeles:20250609T203000
DTSTAMP:20260423T150901
CREATED:20231031T070120Z
LAST-MODIFIED:20231031T070120Z
UID:3585-1749497400-1749501000@events.aaplacer.org
SUMMARY:Back to Basics - Loomis
DESCRIPTION:
URL:https://events.aaplacer.org/event/back-to-basics-loomis-3/2025-06-09/
LOCATION:First United Methodist Church\, 6414 Brace Road\, Loomis\, 95622\, United States
END:VEVENT
BEGIN:VEVENT
DTSTART;TZID=America/Los_Angeles:20250602T193000
DTEND;TZID=America/Los_Angeles:20250602T203000
DTSTAMP:20260423T150901
CREATED:20231031T070120Z
LAST-MODIFIED:20231031T070120Z
UID:3584-1748892600-1748896200@events.aaplacer.org
SUMMARY:Back to Basics - Loomis
DESCRIPTION:
URL:https://events.aaplacer.org/event/back-to-basics-loomis-3/2025-06-02/
LOCATION:First United Methodist Church\, 6414 Brace Road\, Loomis\, 95622\, United States
END:VEVENT
BEGIN:VEVENT
DTSTART;TZID=America/Los_Angeles:20250526T193000
DTEND;TZID=America/Los_Angeles:20250526T203000
DTSTAMP:20260423T150901
CREATED:20231031T070120Z
LAST-MODIFIED:20231031T070120Z
UID:3583-1748287800-1748291400@events.aaplacer.org
SUMMARY:Back to Basics - Loomis
DESCRIPTION:
URL:https://events.aaplacer.org/event/back-to-basics-loomis-3/2025-05-26/
LOCATION:First United Methodist Church\, 6414 Brace Road\, Loomis\, 95622\, United States
END:VEVENT
BEGIN:VEVENT
DTSTART;TZID=America/Los_Angeles:20250519T193000
DTEND;TZID=America/Los_Angeles:20250519T203000
DTSTAMP:20260423T150901
CREATED:20231031T070120Z
LAST-MODIFIED:20231031T070120Z
UID:3582-1747683000-1747686600@events.aaplacer.org
SUMMARY:Back to Basics - Loomis
DESCRIPTION:
URL:https://events.aaplacer.org/event/back-to-basics-loomis-3/2025-05-19/
LOCATION:First United Methodist Church\, 6414 Brace Road\, Loomis\, 95622\, United States
END:VEVENT
BEGIN:VEVENT
DTSTART;TZID=America/Los_Angeles:20250512T193000
DTEND;TZID=America/Los_Angeles:20250512T203000
DTSTAMP:20260423T150901
CREATED:20231031T070120Z
LAST-MODIFIED:20231031T070120Z
UID:3581-1747078200-1747081800@events.aaplacer.org
SUMMARY:Back to Basics - Loomis
DESCRIPTION:
URL:https://events.aaplacer.org/event/back-to-basics-loomis-3/2025-05-12/
LOCATION:First United Methodist Church\, 6414 Brace Road\, Loomis\, 95622\, United States
END:VEVENT
BEGIN:VEVENT
DTSTART;TZID=America/Los_Angeles:20250505T193000
DTEND;TZID=America/Los_Angeles:20250505T203000
DTSTAMP:20260423T150901
CREATED:20231031T070120Z
LAST-MODIFIED:20231031T070120Z
UID:3580-1746473400-1746477000@events.aaplacer.org
SUMMARY:Back to Basics - Loomis
DESCRIPTION:
URL:https://events.aaplacer.org/event/back-to-basics-loomis-3/2025-05-05/
LOCATION:First United Methodist Church\, 6414 Brace Road\, Loomis\, 95622\, United States
END:VEVENT
BEGIN:VEVENT
DTSTART;TZID=America/Los_Angeles:20250421T193000
DTEND;TZID=America/Los_Angeles:20250421T203000
DTSTAMP:20260423T150901
CREATED:20231031T070120Z
LAST-MODIFIED:20231031T070120Z
UID:3578-1745263800-1745267400@events.aaplacer.org
SUMMARY:Back to Basics - Loomis
DESCRIPTION:
URL:https://events.aaplacer.org/event/back-to-basics-loomis-3/2025-04-21/
LOCATION:First United Methodist Church\, 6414 Brace Road\, Loomis\, 95622\, United States
END:VEVENT
BEGIN:VEVENT
DTSTART;TZID=America/Los_Angeles:20250414T193000
DTEND;TZID=America/Los_Angeles:20250414T203000
DTSTAMP:20260423T150901
CREATED:20231031T070120Z
LAST-MODIFIED:20231031T070120Z
UID:3577-1744659000-1744662600@events.aaplacer.org
SUMMARY:Back to Basics - Loomis
DESCRIPTION:
URL:https://events.aaplacer.org/event/back-to-basics-loomis-3/2025-04-14/
LOCATION:First United Methodist Church\, 6414 Brace Road\, Loomis\, 95622\, United States
END:VEVENT
BEGIN:VEVENT
DTSTART;TZID=America/Los_Angeles:20250407T193000
DTEND;TZID=America/Los_Angeles:20250407T203000
DTSTAMP:20260423T150901
CREATED:20231031T070120Z
LAST-MODIFIED:20231031T070120Z
UID:3576-1744054200-1744057800@events.aaplacer.org
SUMMARY:Back to Basics - Loomis
DESCRIPTION:
URL:https://events.aaplacer.org/event/back-to-basics-loomis-3/2025-04-07/
LOCATION:First United Methodist Church\, 6414 Brace Road\, Loomis\, 95622\, United States
END:VEVENT
BEGIN:VEVENT
DTSTART;TZID=America/Los_Angeles:20250324T193000
DTEND;TZID=America/Los_Angeles:20250324T203000
DTSTAMP:20260423T150901
CREATED:20231031T070120Z
LAST-MODIFIED:20231031T070120Z
UID:3575-1742844600-1742848200@events.aaplacer.org
SUMMARY:Back to Basics - Loomis
DESCRIPTION:
URL:https://events.aaplacer.org/event/back-to-basics-loomis-3/2025-03-24/
LOCATION:First United Methodist Church\, 6414 Brace Road\, Loomis\, 95622\, United States
END:VEVENT
BEGIN:VEVENT
DTSTART;TZID=America/Los_Angeles:20250317T193000
DTEND;TZID=America/Los_Angeles:20250317T203000
DTSTAMP:20260423T150901
CREATED:20231031T070120Z
LAST-MODIFIED:20231031T070120Z
UID:3574-1742239800-1742243400@events.aaplacer.org
SUMMARY:Back to Basics - Loomis
DESCRIPTION:
URL:https://events.aaplacer.org/event/back-to-basics-loomis-3/2025-03-17/
LOCATION:First United Methodist Church\, 6414 Brace Road\, Loomis\, 95622\, United States
END:VEVENT
BEGIN:VEVENT
DTSTART;TZID=America/Los_Angeles:20250310T193000
DTEND;TZID=America/Los_Angeles:20250310T203000
DTSTAMP:20260423T150901
CREATED:20231031T070120Z
LAST-MODIFIED:20231031T070120Z
UID:3573-1741635000-1741638600@events.aaplacer.org
SUMMARY:Back to Basics - Loomis
DESCRIPTION:
URL:https://events.aaplacer.org/event/back-to-basics-loomis-3/2025-03-10/
LOCATION:First United Methodist Church\, 6414 Brace Road\, Loomis\, 95622\, United States
END:VEVENT
BEGIN:VEVENT
DTSTART;TZID=America/Los_Angeles:20250303T193000
DTEND;TZID=America/Los_Angeles:20250303T203000
DTSTAMP:20260423T150901
CREATED:20231031T070120Z
LAST-MODIFIED:20231031T070120Z
UID:3572-1741030200-1741033800@events.aaplacer.org
SUMMARY:Back to Basics - Loomis
DESCRIPTION:
URL:https://events.aaplacer.org/event/back-to-basics-loomis-3/2025-03-03/
LOCATION:First United Methodist Church\, 6414 Brace Road\, Loomis\, 95622\, United States
END:VEVENT
BEGIN:VEVENT
DTSTART;TZID=America/Los_Angeles:20250224T193000
DTEND;TZID=America/Los_Angeles:20250224T203000
DTSTAMP:20260423T150901
CREATED:20231031T070120Z
LAST-MODIFIED:20231031T070120Z
UID:3571-1740425400-1740429000@events.aaplacer.org
SUMMARY:Back to Basics - Loomis
DESCRIPTION:
URL:https://events.aaplacer.org/event/back-to-basics-loomis-3/2025-02-24/
LOCATION:First United Methodist Church\, 6414 Brace Road\, Loomis\, 95622\, United States
END:VEVENT
BEGIN:VEVENT
DTSTART;TZID=America/Los_Angeles:20250217T193000
DTEND;TZID=America/Los_Angeles:20250217T203000
DTSTAMP:20260423T150901
CREATED:20231031T070120Z
LAST-MODIFIED:20231031T070120Z
UID:3570-1739820600-1739824200@events.aaplacer.org
SUMMARY:Back to Basics - Loomis
DESCRIPTION:
URL:https://events.aaplacer.org/event/back-to-basics-loomis-3/2025-02-17/
LOCATION:First United Methodist Church\, 6414 Brace Road\, Loomis\, 95622\, United States
END:VEVENT
BEGIN:VEVENT
DTSTART;TZID=America/Los_Angeles:20250210T193000
DTEND;TZID=America/Los_Angeles:20250210T203000
DTSTAMP:20260423T150901
CREATED:20231031T070120Z
LAST-MODIFIED:20231031T070120Z
UID:3569-1739215800-1739219400@events.aaplacer.org
SUMMARY:Back to Basics - Loomis
DESCRIPTION:
URL:https://events.aaplacer.org/event/back-to-basics-loomis-3/2025-02-10/
LOCATION:First United Methodist Church\, 6414 Brace Road\, Loomis\, 95622\, United States
END:VEVENT
BEGIN:VEVENT
DTSTART;TZID=America/Los_Angeles:20250203T193000
DTEND;TZID=America/Los_Angeles:20250203T203000
DTSTAMP:20260423T150901
CREATED:20231031T070120Z
LAST-MODIFIED:20231031T070120Z
UID:3568-1738611000-1738614600@events.aaplacer.org
SUMMARY:Back to Basics - Loomis
DESCRIPTION:
URL:https://events.aaplacer.org/event/back-to-basics-loomis-3/2025-02-03/
LOCATION:First United Methodist Church\, 6414 Brace Road\, Loomis\, 95622\, United States
END:VEVENT
BEGIN:VEVENT
DTSTART;TZID=America/Los_Angeles:20250127T193000
DTEND;TZID=America/Los_Angeles:20250127T203000
DTSTAMP:20260423T150901
CREATED:20231031T070120Z
LAST-MODIFIED:20231031T070120Z
UID:3567-1738006200-1738009800@events.aaplacer.org
SUMMARY:Back to Basics - Loomis
DESCRIPTION:
URL:https://events.aaplacer.org/event/back-to-basics-loomis-3/2025-01-27/
LOCATION:First United Methodist Church\, 6414 Brace Road\, Loomis\, 95622\, United States
END:VEVENT
BEGIN:VEVENT
DTSTART;TZID=America/Los_Angeles:20250120T193000
DTEND;TZID=America/Los_Angeles:20250120T203000
DTSTAMP:20260423T150901
CREATED:20231031T070120Z
LAST-MODIFIED:20231031T070120Z
UID:3566-1737401400-1737405000@events.aaplacer.org
SUMMARY:Back to Basics - Loomis
DESCRIPTION:
URL:https://events.aaplacer.org/event/back-to-basics-loomis-3/2025-01-20/
LOCATION:First United Methodist Church\, 6414 Brace Road\, Loomis\, 95622\, United States
END:VEVENT
BEGIN:VEVENT
DTSTART;TZID=America/Los_Angeles:20250113T193000
DTEND;TZID=America/Los_Angeles:20250113T203000
DTSTAMP:20260423T150901
CREATED:20231031T070120Z
LAST-MODIFIED:20231031T070120Z
UID:3565-1736796600-1736800200@events.aaplacer.org
SUMMARY:Back to Basics - Loomis
DESCRIPTION:
URL:https://events.aaplacer.org/event/back-to-basics-loomis-3/2025-01-13/
LOCATION:First United Methodist Church\, 6414 Brace Road\, Loomis\, 95622\, United States
END:VEVENT
BEGIN:VEVENT
DTSTART;TZID=America/Los_Angeles:20250106T193000
DTEND;TZID=America/Los_Angeles:20250106T203000
DTSTAMP:20260423T150901
CREATED:20231031T070120Z
LAST-MODIFIED:20231031T070120Z
UID:3564-1736191800-1736195400@events.aaplacer.org
SUMMARY:Back to Basics - Loomis
DESCRIPTION:
URL:https://events.aaplacer.org/event/back-to-basics-loomis-3/2025-01-06/
LOCATION:First United Methodist Church\, 6414 Brace Road\, Loomis\, 95622\, United States
END:VEVENT
BEGIN:VEVENT
DTSTART;TZID=America/Los_Angeles:20241223T193000
DTEND;TZID=America/Los_Angeles:20241223T203000
DTSTAMP:20260423T150901
CREATED:20231031T070120Z
LAST-MODIFIED:20231031T070120Z
UID:3563-1734982200-1734985800@events.aaplacer.org
SUMMARY:Back to Basics - Loomis
DESCRIPTION:
URL:https://events.aaplacer.org/event/back-to-basics-loomis-3/2024-12-23/
LOCATION:First United Methodist Church\, 6414 Brace Road\, Loomis\, 95622\, United States
END:VEVENT
BEGIN:VEVENT
DTSTART;TZID=America/Los_Angeles:20241216T193000
DTEND;TZID=America/Los_Angeles:20241216T203000
DTSTAMP:20260423T150901
CREATED:20231031T070120Z
LAST-MODIFIED:20231031T070120Z
UID:3562-1734377400-1734381000@events.aaplacer.org
SUMMARY:Back to Basics - Loomis
DESCRIPTION:
URL:https://events.aaplacer.org/event/back-to-basics-loomis-3/2024-12-16/
LOCATION:First United Methodist Church\, 6414 Brace Road\, Loomis\, 95622\, United States
END:VEVENT
END:VCALENDAR