BEGIN:VCALENDAR
VERSION:2.0
PRODID:-//CNIA 07, District 21 Events - ECPv6.8.3//NONSGML v1.0//EN
CALSCALE:GREGORIAN
METHOD:PUBLISH
X-WR-CALNAME:CNIA 07, District 21 Events
X-ORIGINAL-URL:https://events.aaplacer.org
X-WR-CALDESC:Events for CNIA 07, District 21 Events
REFRESH-INTERVAL;VALUE=DURATION:PT1H
X-Robots-Tag:noindex
X-PUBLISHED-TTL:PT1H
BEGIN:VTIMEZONE
TZID:America/Los_Angeles
BEGIN:DAYLIGHT
TZOFFSETFROM:-0800
TZOFFSETTO:-0700
TZNAME:PDT
DTSTART:20230312T100000
END:DAYLIGHT
BEGIN:STANDARD
TZOFFSETFROM:-0700
TZOFFSETTO:-0800
TZNAME:PST
DTSTART:20231105T090000
END:STANDARD
BEGIN:DAYLIGHT
TZOFFSETFROM:-0800
TZOFFSETTO:-0700
TZNAME:PDT
DTSTART:20240310T100000
END:DAYLIGHT
BEGIN:STANDARD
TZOFFSETFROM:-0700
TZOFFSETTO:-0800
TZNAME:PST
DTSTART:20241103T090000
END:STANDARD
END:VTIMEZONE
BEGIN:VEVENT
DTSTART;TZID=America/Los_Angeles:20240727T160000
DTEND;TZID=America/Los_Angeles:20240727T213000
DTSTAMP:20260423T235957
CREATED:20240715T145239Z
LAST-MODIFIED:20240715T145239Z
UID:4418-1722096000-1722115800@events.aaplacer.org
SUMMARY:Colfax 6th Anniversary BBQ
DESCRIPTION:
URL:https://events.aaplacer.org/event/colfax-6th-anniversary-bbq/
LOCATION:Colfax Ball Park\, 101 Rising Sun Road\, Colfax\, CA\, 95713\, United States
END:VEVENT
BEGIN:VEVENT
DTSTART;TZID=America/Los_Angeles:20230729T150000
DTEND;TZID=America/Los_Angeles:20230729T203000
DTSTAMP:20260423T235957
CREATED:20230719T232959Z
LAST-MODIFIED:20230719T232959Z
UID:2749-1690642800-1690662600@events.aaplacer.org
SUMMARY:Colfax Fellowship BBQ 2023
DESCRIPTION:
URL:https://events.aaplacer.org/event/colfax-fellowship-bbq-2023/
LOCATION:Colfax Ball Park\, 101 Rising Sun Road\, Colfax\, CA\, 95713\, United States
END:VEVENT
END:VCALENDAR