BEGIN:VCALENDAR
VERSION:2.0
PRODID:-//CNIA 07, District 21 Events - ECPv6.8.3//NONSGML v1.0//EN
CALSCALE:GREGORIAN
METHOD:PUBLISH
X-WR-CALNAME:CNIA 07, District 21 Events
X-ORIGINAL-URL:https://events.aaplacer.org
X-WR-CALDESC:Events for CNIA 07, District 21 Events
REFRESH-INTERVAL;VALUE=DURATION:PT1H
X-Robots-Tag:noindex
X-PUBLISHED-TTL:PT1H
BEGIN:VTIMEZONE
TZID:America/Los_Angeles
BEGIN:DAYLIGHT
TZOFFSETFROM:-0800
TZOFFSETTO:-0700
TZNAME:PDT
DTSTART:20250309T100000
END:DAYLIGHT
BEGIN:STANDARD
TZOFFSETFROM:-0700
TZOFFSETTO:-0800
TZNAME:PST
DTSTART:20251102T090000
END:STANDARD
END:VTIMEZONE
BEGIN:VEVENT
DTSTART;TZID=America/Los_Angeles:20250614T180000
DTEND;TZID=America/Los_Angeles:20250614T203000
DTSTAMP:20260423T201256
CREATED:20250414T174547Z
LAST-MODIFIED:20250414T174547Z
UID:4747-1749924000-1749933000@events.aaplacer.org
SUMMARY:Loomis Ice Cream Social
DESCRIPTION:
URL:https://events.aaplacer.org/event/loomis-ice-cream-social/
LOCATION:6414 Brace Rd\, 64141 Brace Road\, Loomis\, CA\, 95650\, United States
END:VEVENT
END:VCALENDAR