BEGIN:VCALENDAR
VERSION:2.0
PRODID:-//CNIA 07, District 21 Events - ECPv6.8.3//NONSGML v1.0//EN
CALSCALE:GREGORIAN
METHOD:PUBLISH
X-WR-CALNAME:CNIA 07, District 21 Events
X-ORIGINAL-URL:https://events.aaplacer.org
X-WR-CALDESC:Events for CNIA 07, District 21 Events
REFRESH-INTERVAL;VALUE=DURATION:PT1H
X-Robots-Tag:noindex
X-PUBLISHED-TTL:PT1H
BEGIN:VTIMEZONE
TZID:America/Los_Angeles
BEGIN:DAYLIGHT
TZOFFSETFROM:-0800
TZOFFSETTO:-0700
TZNAME:PDT
DTSTART:20240310T100000
END:DAYLIGHT
BEGIN:STANDARD
TZOFFSETFROM:-0700
TZOFFSETTO:-0800
TZNAME:PST
DTSTART:20241103T090000
END:STANDARD
BEGIN:DAYLIGHT
TZOFFSETFROM:-0800
TZOFFSETTO:-0700
TZNAME:PDT
DTSTART:20250309T100000
END:DAYLIGHT
BEGIN:STANDARD
TZOFFSETFROM:-0700
TZOFFSETTO:-0800
TZNAME:PST
DTSTART:20251102T090000
END:STANDARD
END:VTIMEZONE
BEGIN:VEVENT
DTSTART;TZID=America/Los_Angeles:20250301T160000
DTEND;TZID=America/Los_Angeles:20250301T170000
DTSTAMP:20260423T164954
CREATED:20240125T195219Z
LAST-MODIFIED:20240804T222015Z
UID:3993-1740844800-1740848400@events.aaplacer.org
SUMMARY:PLAYPAA Business Meeting
DESCRIPTION:First Saturday of every month @ 4pm!  Come be of service.  Positions available.
URL:https://events.aaplacer.org/event/playpaa-business-meeting/2025-03-01/
LOCATION:5645 Rocklin Road\, Loomis\, CA\, 5645 Rocklin Road\, Loomis\, CA\, United States
END:VEVENT
BEGIN:VEVENT
DTSTART;TZID=America/Los_Angeles:20250201T180000
DTEND;TZID=America/Los_Angeles:20250201T203000
DTSTAMP:20260423T164954
CREATED:20250117T172626Z
LAST-MODIFIED:20250117T172626Z
UID:4718-1738432800-1738441800@events.aaplacer.org
SUMMARY:PLAYPAA Presents Rose & Thorn Bingo
DESCRIPTION:
URL:https://events.aaplacer.org/event/playpaa-presents-rose-thorn-bingo/
LOCATION:5645 Rocklin Road\, Loomis\, CA\, 5645 Rocklin Road\, Loomis\, CA\, United States
END:VEVENT
BEGIN:VEVENT
DTSTART;TZID=America/Los_Angeles:20250201T160000
DTEND;TZID=America/Los_Angeles:20250201T170000
DTSTAMP:20260423T164954
CREATED:20240125T195219Z
LAST-MODIFIED:20240804T222014Z
UID:3992-1738425600-1738429200@events.aaplacer.org
SUMMARY:PLAYPAA Business Meeting
DESCRIPTION:First Saturday of every month @ 4pm!  Come be of service.  Positions available.
URL:https://events.aaplacer.org/event/playpaa-business-meeting/2025-02-01/
LOCATION:5645 Rocklin Road\, Loomis\, CA\, 5645 Rocklin Road\, Loomis\, CA\, United States
END:VEVENT
BEGIN:VEVENT
DTSTART;TZID=America/Los_Angeles:20250104T160000
DTEND;TZID=America/Los_Angeles:20250104T170000
DTSTAMP:20260423T164954
CREATED:20240125T195219Z
LAST-MODIFIED:20240804T222014Z
UID:3991-1736006400-1736010000@events.aaplacer.org
SUMMARY:PLAYPAA Business Meeting
DESCRIPTION:First Saturday of every month @ 4pm!  Come be of service.  Positions available.
URL:https://events.aaplacer.org/event/playpaa-business-meeting/2025-01-04/
LOCATION:5645 Rocklin Road\, Loomis\, CA\, 5645 Rocklin Road\, Loomis\, CA\, United States
END:VEVENT
BEGIN:VEVENT
DTSTART;TZID=America/Los_Angeles:20241207T160000
DTEND;TZID=America/Los_Angeles:20241207T170000
DTSTAMP:20260423T164954
CREATED:20240125T195219Z
LAST-MODIFIED:20240804T222012Z
UID:3990-1733587200-1733590800@events.aaplacer.org
SUMMARY:PLAYPAA Business Meeting
DESCRIPTION:First Saturday of every month @ 4pm!  Come be of service.  Positions available.
URL:https://events.aaplacer.org/event/playpaa-business-meeting/2024-12-07/
LOCATION:5645 Rocklin Road\, Loomis\, CA\, 5645 Rocklin Road\, Loomis\, CA\, United States
END:VEVENT
BEGIN:VEVENT
DTSTART;TZID=America/Los_Angeles:20241102T160000
DTEND;TZID=America/Los_Angeles:20241102T170000
DTSTAMP:20260423T164954
CREATED:20240125T195219Z
LAST-MODIFIED:20240804T222012Z
UID:3989-1730563200-1730566800@events.aaplacer.org
SUMMARY:PLAYPAA Business Meeting
DESCRIPTION:First Saturday of every month @ 4pm!  Come be of service.  Positions available.
URL:https://events.aaplacer.org/event/playpaa-business-meeting/2024-11-02/
LOCATION:5645 Rocklin Road\, Loomis\, CA\, 5645 Rocklin Road\, Loomis\, CA\, United States
END:VEVENT
BEGIN:VEVENT
DTSTART;TZID=America/Los_Angeles:20241005T160000
DTEND;TZID=America/Los_Angeles:20241005T170000
DTSTAMP:20260423T164954
CREATED:20240125T195219Z
LAST-MODIFIED:20240804T222012Z
UID:3988-1728144000-1728147600@events.aaplacer.org
SUMMARY:PLAYPAA Business Meeting
DESCRIPTION:First Saturday of every month @ 4pm!  Come be of service.  Positions available.
URL:https://events.aaplacer.org/event/playpaa-business-meeting/2024-10-05/
LOCATION:5645 Rocklin Road\, Loomis\, CA\, 5645 Rocklin Road\, Loomis\, CA\, United States
END:VEVENT
BEGIN:VEVENT
DTSTART;TZID=America/Los_Angeles:20240907T180000
DTEND;TZID=America/Los_Angeles:20240907T203000
DTSTAMP:20260423T164954
CREATED:20240804T222703Z
LAST-MODIFIED:20240804T222703Z
UID:4492-1725732000-1725741000@events.aaplacer.org
SUMMARY:PLAYPAA Comedy Night
DESCRIPTION:Suggested Donation: $15
URL:https://events.aaplacer.org/event/playpaa-comedy-night/
LOCATION:5645 Rocklin Road\, Loomis\, CA\, 5645 Rocklin Road\, Loomis\, CA\, United States
END:VEVENT
BEGIN:VEVENT
DTSTART;TZID=America/Los_Angeles:20240907T160000
DTEND;TZID=America/Los_Angeles:20240907T170000
DTSTAMP:20260423T164954
CREATED:20240125T195219Z
LAST-MODIFIED:20240804T222012Z
UID:3987-1725724800-1725728400@events.aaplacer.org
SUMMARY:PLAYPAA Business Meeting
DESCRIPTION:First Saturday of every month @ 4pm!  Come be of service.  Positions available.
URL:https://events.aaplacer.org/event/playpaa-business-meeting/2024-09-07/
LOCATION:5645 Rocklin Road\, Loomis\, CA\, 5645 Rocklin Road\, Loomis\, CA\, United States
END:VEVENT
BEGIN:VEVENT
DTSTART;TZID=America/Los_Angeles:20240803T180000
DTEND;TZID=America/Los_Angeles:20240803T210000
DTSTAMP:20260423T164954
CREATED:20240711T010219Z
LAST-MODIFIED:20240711T010219Z
UID:4411-1722708000-1722718800@events.aaplacer.org
SUMMARY:PLAYPAA Bob Ross Paint Night
DESCRIPTION:Suggested Donation: $15
URL:https://events.aaplacer.org/event/playpaa-bob-ross-paint-night/
LOCATION:5645 Rocklin Road\, Loomis\, CA\, 5645 Rocklin Road\, Loomis\, CA\, United States
END:VEVENT
BEGIN:VEVENT
DTSTART;TZID=America/Los_Angeles:20240803T160000
DTEND;TZID=America/Los_Angeles:20240803T170000
DTSTAMP:20260423T164954
CREATED:20240125T195219Z
LAST-MODIFIED:20240804T222012Z
UID:3986-1722700800-1722704400@events.aaplacer.org
SUMMARY:PLAYPAA Business Meeting
DESCRIPTION:First Saturday of every month @ 4pm!  Come be of service.  Positions available.
URL:https://events.aaplacer.org/event/playpaa-business-meeting/2024-08-03/
LOCATION:5645 Rocklin Road\, Loomis\, CA\, 5645 Rocklin Road\, Loomis\, CA\, United States
END:VEVENT
BEGIN:VEVENT
DTSTART;TZID=America/Los_Angeles:20240706T180000
DTEND;TZID=America/Los_Angeles:20240706T210000
DTSTAMP:20260423T164954
CREATED:20240610T033644Z
LAST-MODIFIED:20240610T033644Z
UID:4254-1720288800-1720299600@events.aaplacer.org
SUMMARY:PLAYPAA TRIVIA NIGHT 07-06-2024
DESCRIPTION:Suggested Donation $10
URL:https://events.aaplacer.org/event/playpaa-trivia-night-07-06-2024/
LOCATION:5645 Rocklin Road\, Loomis\, CA\, 5645 Rocklin Road\, Loomis\, CA\, United States
END:VEVENT
BEGIN:VEVENT
DTSTART;TZID=America/Los_Angeles:20240706T160000
DTEND;TZID=America/Los_Angeles:20240706T170000
DTSTAMP:20260423T164954
CREATED:20240125T195219Z
LAST-MODIFIED:20240804T222011Z
UID:3985-1720281600-1720285200@events.aaplacer.org
SUMMARY:PLAYPAA Business Meeting
DESCRIPTION:First Saturday of every month @ 4pm!  Come be of service.  Positions available.
URL:https://events.aaplacer.org/event/playpaa-business-meeting/2024-07-06/
LOCATION:5645 Rocklin Road\, Loomis\, CA\, 5645 Rocklin Road\, Loomis\, CA\, United States
END:VEVENT
BEGIN:VEVENT
DTSTART;TZID=America/Los_Angeles:20240601T160000
DTEND;TZID=America/Los_Angeles:20240601T170000
DTSTAMP:20260423T164954
CREATED:20240125T195219Z
LAST-MODIFIED:20240804T222011Z
UID:3984-1717257600-1717261200@events.aaplacer.org
SUMMARY:PLAYPAA Business Meeting
DESCRIPTION:First Saturday of every month @ 4pm!  Come be of service.  Positions available.
URL:https://events.aaplacer.org/event/playpaa-business-meeting/2024-06-01/
LOCATION:5645 Rocklin Road\, Loomis\, CA\, 5645 Rocklin Road\, Loomis\, CA\, United States
END:VEVENT
BEGIN:VEVENT
DTSTART;TZID=America/Los_Angeles:20240504T160000
DTEND;TZID=America/Los_Angeles:20240504T170000
DTSTAMP:20260423T164954
CREATED:20240125T195219Z
LAST-MODIFIED:20240804T222011Z
UID:3983-1714838400-1714842000@events.aaplacer.org
SUMMARY:PLAYPAA Business Meeting
DESCRIPTION:First Saturday of every month @ 4pm!  Come be of service.  Positions available.
URL:https://events.aaplacer.org/event/playpaa-business-meeting/2024-05-04/
LOCATION:5645 Rocklin Road\, Loomis\, CA\, 5645 Rocklin Road\, Loomis\, CA\, United States
END:VEVENT
BEGIN:VEVENT
DTSTART;TZID=America/Los_Angeles:20240406T180000
DTEND;TZID=America/Los_Angeles:20240406T200000
DTSTAMP:20260423T164954
CREATED:20240303T231619Z
LAST-MODIFIED:20240303T231701Z
UID:4065-1712426400-1712433600@events.aaplacer.org
SUMMARY:PLAYPAA Easter Egg Hunt
DESCRIPTION:Suggested Donation: $10
URL:https://events.aaplacer.org/event/playpaa-easter-egg-hunt/
LOCATION:5645 Rocklin Road\, Loomis\, CA\, 5645 Rocklin Road\, Loomis\, CA\, United States
END:VEVENT
BEGIN:VEVENT
DTSTART;TZID=America/Los_Angeles:20240302T180000
DTEND;TZID=America/Los_Angeles:20240302T210000
DTSTAMP:20260423T164954
CREATED:20240209T062327Z
LAST-MODIFIED:20240209T062327Z
UID:4006-1709402400-1709413200@events.aaplacer.org
SUMMARY:PLAYPAA Cup Quest
DESCRIPTION:See flyer for details \nSuggested Donation $10
URL:https://events.aaplacer.org/event/playpaa-cup-quest/
LOCATION:5645 Rocklin Road\, Loomis\, CA\, 5645 Rocklin Road\, Loomis\, CA\, United States
END:VEVENT
BEGIN:VEVENT
DTSTART;TZID=America/Los_Angeles:20240203T180000
DTEND;TZID=America/Los_Angeles:20240203T213000
DTSTAMP:20260423T164954
CREATED:20240125T195604Z
LAST-MODIFIED:20240128T194149Z
UID:3698-1706983200-1706995800@events.aaplacer.org
SUMMARY:PLAYPAA EMO BINGO
DESCRIPTION:Presents EMO BINGO – An Alternative to Valentine’s Day \nMeeting at 6pm with event to follow – Speaker:  Sheila O \nSuggested donation:  $10.00
URL:https://events.aaplacer.org/event/emo-bingo-2/
LOCATION:5645 Rocklin Road\, Loomis\, CA\, 5645 Rocklin Road\, Loomis\, CA\, United States
END:VEVENT
BEGIN:VEVENT
DTSTART;TZID=America/Los_Angeles:20240203T160000
DTEND;TZID=America/Los_Angeles:20240203T170000
DTSTAMP:20260423T164954
CREATED:20240125T195219Z
LAST-MODIFIED:20240804T222010Z
UID:3686-1706976000-1706979600@events.aaplacer.org
SUMMARY:PLAYPAA Business Meeting
DESCRIPTION:First Saturday of every month @ 4pm!  Come be of service.  Positions available.
URL:https://events.aaplacer.org/event/playpaa-business-meeting/2024-02-03/
LOCATION:5645 Rocklin Road\, Loomis\, CA\, 5645 Rocklin Road\, Loomis\, CA\, United States
END:VEVENT
END:VCALENDAR