BEGIN:VCALENDAR
VERSION:2.0
PRODID:-//CNIA 07, District 21 Events - ECPv6.8.3//NONSGML v1.0//EN
CALSCALE:GREGORIAN
METHOD:PUBLISH
X-WR-CALNAME:CNIA 07, District 21 Events
X-ORIGINAL-URL:https://events.aaplacer.org
X-WR-CALDESC:Events for CNIA 07, District 21 Events
REFRESH-INTERVAL;VALUE=DURATION:PT1H
X-Robots-Tag:noindex
X-PUBLISHED-TTL:PT1H
BEGIN:VTIMEZONE
TZID:America/Los_Angeles
BEGIN:DAYLIGHT
TZOFFSETFROM:-0800
TZOFFSETTO:-0700
TZNAME:PDT
DTSTART:20240310T100000
END:DAYLIGHT
BEGIN:STANDARD
TZOFFSETFROM:-0700
TZOFFSETTO:-0800
TZNAME:PST
DTSTART:20241103T090000
END:STANDARD
END:VTIMEZONE
BEGIN:VEVENT
DTSTART;TZID=America/Los_Angeles:20241212T193000
DTEND;TZID=America/Los_Angeles:20241212T203000
DTSTAMP:20260423T184449
CREATED:20220526T003633Z
LAST-MODIFIED:20230822T011456Z
UID:2123-1734031800-1734035400@events.aaplacer.org
SUMMARY:Back to Basics - Auburn Fellowship
DESCRIPTION:
URL:https://events.aaplacer.org/event/back-to-basics-auburn-fellowship/2024-12-12/
LOCATION:534 Auburn Ravine Road\, 534 Auburn Ravine Road\, Auburn\, 95603\, United States
END:VEVENT
BEGIN:VEVENT
DTSTART;TZID=America/Los_Angeles:20241205T193000
DTEND;TZID=America/Los_Angeles:20241205T203000
DTSTAMP:20260423T184449
CREATED:20220526T003633Z
LAST-MODIFIED:20230822T011456Z
UID:2119-1733427000-1733430600@events.aaplacer.org
SUMMARY:Back to Basics - Auburn Fellowship
DESCRIPTION:
URL:https://events.aaplacer.org/event/back-to-basics-auburn-fellowship/2024-12-05/
LOCATION:534 Auburn Ravine Road\, 534 Auburn Ravine Road\, Auburn\, 95603\, United States
END:VEVENT
BEGIN:VEVENT
DTSTART;TZID=America/Los_Angeles:20241128T193000
DTEND;TZID=America/Los_Angeles:20241128T203000
DTSTAMP:20260423T184449
CREATED:20220526T003633Z
LAST-MODIFIED:20230822T011455Z
UID:2083-1732822200-1732825800@events.aaplacer.org
SUMMARY:Back to Basics - Auburn Fellowship
DESCRIPTION:
URL:https://events.aaplacer.org/event/back-to-basics-auburn-fellowship/2024-11-28/
LOCATION:534 Auburn Ravine Road\, 534 Auburn Ravine Road\, Auburn\, 95603\, United States
END:VEVENT
BEGIN:VEVENT
DTSTART;TZID=America/Los_Angeles:20241126T180000
DTEND;TZID=America/Los_Angeles:20241126T190000
DTSTAMP:20260423T184449
CREATED:20220115T213047Z
LAST-MODIFIED:20240224T221424Z
UID:2080-1732644000-1732647600@events.aaplacer.org
SUMMARY:District Business Meeting
DESCRIPTION:Hybrid/Virtual login details: \nURL: https://zoom.us/j/2236613304\nMeeting ID: 223 661 3304\nPassword: District21
URL:https://events.aaplacer.org/event/district-business-meeting/2024-11-26/
LOCATION:534 Auburn Ravine Road\, 534 Auburn Ravine Road\, Auburn\, 95603\, United States
ORGANIZER;CN="Christina A.":MAILTO:dcm@aaplacer.org
END:VEVENT
BEGIN:VEVENT
DTSTART;TZID=America/Los_Angeles:20241121T193000
DTEND;TZID=America/Los_Angeles:20241121T203000
DTSTAMP:20260423T184449
CREATED:20220526T003633Z
LAST-MODIFIED:20230822T011455Z
UID:2078-1732217400-1732221000@events.aaplacer.org
SUMMARY:Back to Basics - Auburn Fellowship
DESCRIPTION:
URL:https://events.aaplacer.org/event/back-to-basics-auburn-fellowship/2024-11-21/
LOCATION:534 Auburn Ravine Road\, 534 Auburn Ravine Road\, Auburn\, 95603\, United States
END:VEVENT
BEGIN:VEVENT
DTSTART;TZID=America/Los_Angeles:20241114T193000
DTEND;TZID=America/Los_Angeles:20241114T203000
DTSTAMP:20260423T184449
CREATED:20220526T003633Z
LAST-MODIFIED:20230822T011454Z
UID:2008-1731612600-1731616200@events.aaplacer.org
SUMMARY:Back to Basics - Auburn Fellowship
DESCRIPTION:
URL:https://events.aaplacer.org/event/back-to-basics-auburn-fellowship/2024-11-14/
LOCATION:534 Auburn Ravine Road\, 534 Auburn Ravine Road\, Auburn\, 95603\, United States
END:VEVENT
BEGIN:VEVENT
DTSTART;TZID=America/Los_Angeles:20241107T193000
DTEND;TZID=America/Los_Angeles:20241107T203000
DTSTAMP:20260423T184449
CREATED:20220526T003633Z
LAST-MODIFIED:20230822T011454Z
UID:2003-1731007800-1731011400@events.aaplacer.org
SUMMARY:Back to Basics - Auburn Fellowship
DESCRIPTION:
URL:https://events.aaplacer.org/event/back-to-basics-auburn-fellowship/2024-11-07/
LOCATION:534 Auburn Ravine Road\, 534 Auburn Ravine Road\, Auburn\, 95603\, United States
END:VEVENT
BEGIN:VEVENT
DTSTART;TZID=America/Los_Angeles:20241024T193000
DTEND;TZID=America/Los_Angeles:20241024T203000
DTSTAMP:20260423T184449
CREATED:20220526T003633Z
LAST-MODIFIED:20230822T011454Z
UID:1969-1729798200-1729801800@events.aaplacer.org
SUMMARY:Back to Basics - Auburn Fellowship
DESCRIPTION:
URL:https://events.aaplacer.org/event/back-to-basics-auburn-fellowship/2024-10-24/
LOCATION:534 Auburn Ravine Road\, 534 Auburn Ravine Road\, Auburn\, 95603\, United States
END:VEVENT
BEGIN:VEVENT
DTSTART;TZID=America/Los_Angeles:20241022T180000
DTEND;TZID=America/Los_Angeles:20241022T190000
DTSTAMP:20260423T184450
CREATED:20220115T213047Z
LAST-MODIFIED:20240224T221423Z
UID:1968-1729620000-1729623600@events.aaplacer.org
SUMMARY:District Business Meeting
DESCRIPTION:Hybrid/Virtual login details: \nURL: https://zoom.us/j/2236613304\nMeeting ID: 223 661 3304\nPassword: District21
URL:https://events.aaplacer.org/event/district-business-meeting/2024-10-22/
LOCATION:534 Auburn Ravine Road\, 534 Auburn Ravine Road\, Auburn\, 95603\, United States
ORGANIZER;CN="Christina A.":MAILTO:dcm@aaplacer.org
END:VEVENT
BEGIN:VEVENT
DTSTART;TZID=America/Los_Angeles:20241017T193000
DTEND;TZID=America/Los_Angeles:20241017T203000
DTSTAMP:20260423T184450
CREATED:20220526T003633Z
LAST-MODIFIED:20230822T011453Z
UID:1965-1729193400-1729197000@events.aaplacer.org
SUMMARY:Back to Basics - Auburn Fellowship
DESCRIPTION:
URL:https://events.aaplacer.org/event/back-to-basics-auburn-fellowship/2024-10-17/
LOCATION:534 Auburn Ravine Road\, 534 Auburn Ravine Road\, Auburn\, 95603\, United States
END:VEVENT
BEGIN:VEVENT
DTSTART;TZID=America/Los_Angeles:20241010T193000
DTEND;TZID=America/Los_Angeles:20241010T203000
DTSTAMP:20260423T184450
CREATED:20220526T003633Z
LAST-MODIFIED:20230822T011452Z
UID:1933-1728588600-1728592200@events.aaplacer.org
SUMMARY:Back to Basics - Auburn Fellowship
DESCRIPTION:
URL:https://events.aaplacer.org/event/back-to-basics-auburn-fellowship/2024-10-10/
LOCATION:534 Auburn Ravine Road\, 534 Auburn Ravine Road\, Auburn\, 95603\, United States
END:VEVENT
BEGIN:VEVENT
DTSTART;TZID=America/Los_Angeles:20241008T180000
DTEND;TZID=America/Los_Angeles:20241008T190000
DTSTAMP:20260423T184450
CREATED:20240911T184041Z
LAST-MODIFIED:20240911T184246Z
UID:4508-1728410400-1728414000@events.aaplacer.org
SUMMARY:Auburn Fellowship: DO YOU THINK YOU ARE DIFFERENT? Workshop
DESCRIPTION:
URL:https://events.aaplacer.org/event/do-you-think-you-are-different-workshop-october-8-2024/
LOCATION:534 Auburn Ravine Road\, 534 Auburn Ravine Road\, Auburn\, 95603\, United States
END:VEVENT
BEGIN:VEVENT
DTSTART;TZID=America/Los_Angeles:20241003T193000
DTEND;TZID=America/Los_Angeles:20241003T203000
DTSTAMP:20260423T184450
CREATED:20220526T003633Z
LAST-MODIFIED:20230822T011451Z
UID:1928-1727983800-1727987400@events.aaplacer.org
SUMMARY:Back to Basics - Auburn Fellowship
DESCRIPTION:
URL:https://events.aaplacer.org/event/back-to-basics-auburn-fellowship/2024-10-03/
LOCATION:534 Auburn Ravine Road\, 534 Auburn Ravine Road\, Auburn\, 95603\, United States
END:VEVENT
BEGIN:VEVENT
DTSTART;TZID=America/Los_Angeles:20240926T193000
DTEND;TZID=America/Los_Angeles:20240926T203000
DTSTAMP:20260423T184450
CREATED:20220526T003633Z
LAST-MODIFIED:20230822T011451Z
UID:1926-1727379000-1727382600@events.aaplacer.org
SUMMARY:Back to Basics - Auburn Fellowship
DESCRIPTION:
URL:https://events.aaplacer.org/event/back-to-basics-auburn-fellowship/2024-09-26/
LOCATION:534 Auburn Ravine Road\, 534 Auburn Ravine Road\, Auburn\, 95603\, United States
END:VEVENT
BEGIN:VEVENT
DTSTART;TZID=America/Los_Angeles:20240924T180000
DTEND;TZID=America/Los_Angeles:20240924T190000
DTSTAMP:20260423T184450
CREATED:20220115T213047Z
LAST-MODIFIED:20240224T221423Z
UID:1919-1727200800-1727204400@events.aaplacer.org
SUMMARY:District Business Meeting
DESCRIPTION:Hybrid/Virtual login details: \nURL: https://zoom.us/j/2236613304\nMeeting ID: 223 661 3304\nPassword: District21
URL:https://events.aaplacer.org/event/district-business-meeting/2024-09-24/
LOCATION:534 Auburn Ravine Road\, 534 Auburn Ravine Road\, Auburn\, 95603\, United States
ORGANIZER;CN="Christina A.":MAILTO:dcm@aaplacer.org
END:VEVENT
BEGIN:VEVENT
DTSTART;TZID=America/Los_Angeles:20240919T193000
DTEND;TZID=America/Los_Angeles:20240919T203000
DTSTAMP:20260423T184450
CREATED:20220526T003633Z
LAST-MODIFIED:20230822T011450Z
UID:1901-1726774200-1726777800@events.aaplacer.org
SUMMARY:Back to Basics - Auburn Fellowship
DESCRIPTION:
URL:https://events.aaplacer.org/event/back-to-basics-auburn-fellowship/2024-09-19/
LOCATION:534 Auburn Ravine Road\, 534 Auburn Ravine Road\, Auburn\, 95603\, United States
END:VEVENT
BEGIN:VEVENT
DTSTART;TZID=America/Los_Angeles:20240912T193000
DTEND;TZID=America/Los_Angeles:20240912T203000
DTSTAMP:20260423T184450
CREATED:20220526T003633Z
LAST-MODIFIED:20230822T011450Z
UID:1898-1726169400-1726173000@events.aaplacer.org
SUMMARY:Back to Basics - Auburn Fellowship
DESCRIPTION:
URL:https://events.aaplacer.org/event/back-to-basics-auburn-fellowship/2024-09-12/
LOCATION:534 Auburn Ravine Road\, 534 Auburn Ravine Road\, Auburn\, 95603\, United States
END:VEVENT
BEGIN:VEVENT
DTSTART;TZID=America/Los_Angeles:20240905T193000
DTEND;TZID=America/Los_Angeles:20240905T203000
DTSTAMP:20260423T184450
CREATED:20220526T003633Z
LAST-MODIFIED:20230822T011449Z
UID:1894-1725564600-1725568200@events.aaplacer.org
SUMMARY:Back to Basics - Auburn Fellowship
DESCRIPTION:
URL:https://events.aaplacer.org/event/back-to-basics-auburn-fellowship/2024-09-05/
LOCATION:534 Auburn Ravine Road\, 534 Auburn Ravine Road\, Auburn\, 95603\, United States
END:VEVENT
BEGIN:VEVENT
DTSTART;TZID=America/Los_Angeles:20240827T180000
DTEND;TZID=America/Los_Angeles:20240827T190000
DTSTAMP:20260423T184450
CREATED:20220115T213047Z
LAST-MODIFIED:20240224T221423Z
UID:1887-1724781600-1724785200@events.aaplacer.org
SUMMARY:District Business Meeting
DESCRIPTION:Hybrid/Virtual login details: \nURL: https://zoom.us/j/2236613304\nMeeting ID: 223 661 3304\nPassword: District21
URL:https://events.aaplacer.org/event/district-business-meeting/2024-08-27/
LOCATION:534 Auburn Ravine Road\, 534 Auburn Ravine Road\, Auburn\, 95603\, United States
ORGANIZER;CN="Christina A.":MAILTO:dcm@aaplacer.org
END:VEVENT
BEGIN:VEVENT
DTSTART;TZID=America/Los_Angeles:20240822T193000
DTEND;TZID=America/Los_Angeles:20240822T203000
DTSTAMP:20260423T184450
CREATED:20220526T003633Z
LAST-MODIFIED:20230822T011449Z
UID:1884-1724355000-1724358600@events.aaplacer.org
SUMMARY:Back to Basics - Auburn Fellowship
DESCRIPTION:
URL:https://events.aaplacer.org/event/back-to-basics-auburn-fellowship/2024-08-22/
LOCATION:534 Auburn Ravine Road\, 534 Auburn Ravine Road\, Auburn\, 95603\, United States
END:VEVENT
BEGIN:VEVENT
DTSTART;TZID=America/Los_Angeles:20240815T193000
DTEND;TZID=America/Los_Angeles:20240815T203000
DTSTAMP:20260423T184450
CREATED:20220526T003633Z
LAST-MODIFIED:20230822T011448Z
UID:1864-1723750200-1723753800@events.aaplacer.org
SUMMARY:Back to Basics - Auburn Fellowship
DESCRIPTION:
URL:https://events.aaplacer.org/event/back-to-basics-auburn-fellowship/2024-08-15/
LOCATION:534 Auburn Ravine Road\, 534 Auburn Ravine Road\, Auburn\, 95603\, United States
END:VEVENT
BEGIN:VEVENT
DTSTART;TZID=America/Los_Angeles:20240808T193000
DTEND;TZID=America/Los_Angeles:20240808T203000
DTSTAMP:20260423T184450
CREATED:20220526T003633Z
LAST-MODIFIED:20230822T011448Z
UID:1834-1723145400-1723149000@events.aaplacer.org
SUMMARY:Back to Basics - Auburn Fellowship
DESCRIPTION:
URL:https://events.aaplacer.org/event/back-to-basics-auburn-fellowship/2024-08-08/
LOCATION:534 Auburn Ravine Road\, 534 Auburn Ravine Road\, Auburn\, 95603\, United States
END:VEVENT
BEGIN:VEVENT
DTSTART;TZID=America/Los_Angeles:20240801T193000
DTEND;TZID=America/Los_Angeles:20240801T203000
DTSTAMP:20260423T184450
CREATED:20220526T003633Z
LAST-MODIFIED:20230822T011447Z
UID:1830-1722540600-1722544200@events.aaplacer.org
SUMMARY:Back to Basics - Auburn Fellowship
DESCRIPTION:
URL:https://events.aaplacer.org/event/back-to-basics-auburn-fellowship/2024-08-01/
LOCATION:534 Auburn Ravine Road\, 534 Auburn Ravine Road\, Auburn\, 95603\, United States
END:VEVENT
BEGIN:VEVENT
DTSTART;TZID=America/Los_Angeles:20240725T193000
DTEND;TZID=America/Los_Angeles:20240725T203000
DTSTAMP:20260423T184450
CREATED:20220526T003633Z
LAST-MODIFIED:20230822T011447Z
UID:1826-1721935800-1721939400@events.aaplacer.org
SUMMARY:Back to Basics - Auburn Fellowship
DESCRIPTION:
URL:https://events.aaplacer.org/event/back-to-basics-auburn-fellowship/2024-07-25/
LOCATION:534 Auburn Ravine Road\, 534 Auburn Ravine Road\, Auburn\, 95603\, United States
END:VEVENT
BEGIN:VEVENT
DTSTART;TZID=America/Los_Angeles:20240723T180000
DTEND;TZID=America/Los_Angeles:20240723T190000
DTSTAMP:20260423T184450
CREATED:20220115T213047Z
LAST-MODIFIED:20240224T221422Z
UID:1824-1721757600-1721761200@events.aaplacer.org
SUMMARY:District Business Meeting
DESCRIPTION:Hybrid/Virtual login details: \nURL: https://zoom.us/j/2236613304\nMeeting ID: 223 661 3304\nPassword: District21
URL:https://events.aaplacer.org/event/district-business-meeting/2024-07-23/
LOCATION:534 Auburn Ravine Road\, 534 Auburn Ravine Road\, Auburn\, 95603\, United States
ORGANIZER;CN="Christina A.":MAILTO:dcm@aaplacer.org
END:VEVENT
BEGIN:VEVENT
DTSTART;TZID=America/Los_Angeles:20240718T193000
DTEND;TZID=America/Los_Angeles:20240718T203000
DTSTAMP:20260423T184450
CREATED:20220526T003633Z
LAST-MODIFIED:20230822T011446Z
UID:1789-1721331000-1721334600@events.aaplacer.org
SUMMARY:Back to Basics - Auburn Fellowship
DESCRIPTION:
URL:https://events.aaplacer.org/event/back-to-basics-auburn-fellowship/2024-07-18/
LOCATION:534 Auburn Ravine Road\, 534 Auburn Ravine Road\, Auburn\, 95603\, United States
END:VEVENT
BEGIN:VEVENT
DTSTART;TZID=America/Los_Angeles:20240711T193000
DTEND;TZID=America/Los_Angeles:20240711T203000
DTSTAMP:20260423T184450
CREATED:20220526T003633Z
LAST-MODIFIED:20230822T011446Z
UID:1786-1720726200-1720729800@events.aaplacer.org
SUMMARY:Back to Basics - Auburn Fellowship
DESCRIPTION:
URL:https://events.aaplacer.org/event/back-to-basics-auburn-fellowship/2024-07-11/
LOCATION:534 Auburn Ravine Road\, 534 Auburn Ravine Road\, Auburn\, 95603\, United States
END:VEVENT
BEGIN:VEVENT
DTSTART;TZID=America/Los_Angeles:20240704T193000
DTEND;TZID=America/Los_Angeles:20240704T203000
DTSTAMP:20260423T184450
CREATED:20220526T003633Z
LAST-MODIFIED:20230822T011445Z
UID:1779-1720121400-1720125000@events.aaplacer.org
SUMMARY:Back to Basics - Auburn Fellowship
DESCRIPTION:
URL:https://events.aaplacer.org/event/back-to-basics-auburn-fellowship/2024-07-04/
LOCATION:534 Auburn Ravine Road\, 534 Auburn Ravine Road\, Auburn\, 95603\, United States
END:VEVENT
BEGIN:VEVENT
DTSTART;TZID=America/Los_Angeles:20240627T193000
DTEND;TZID=America/Los_Angeles:20240627T203000
DTSTAMP:20260423T184450
CREATED:20220526T003633Z
LAST-MODIFIED:20230822T011444Z
UID:1724-1719516600-1719520200@events.aaplacer.org
SUMMARY:Back to Basics - Auburn Fellowship
DESCRIPTION:
URL:https://events.aaplacer.org/event/back-to-basics-auburn-fellowship/2024-06-27/
LOCATION:534 Auburn Ravine Road\, 534 Auburn Ravine Road\, Auburn\, 95603\, United States
END:VEVENT
BEGIN:VEVENT
DTSTART;TZID=America/Los_Angeles:20240625T180000
DTEND;TZID=America/Los_Angeles:20240625T190000
DTSTAMP:20260423T184450
CREATED:20220115T213047Z
LAST-MODIFIED:20240224T221422Z
UID:1642-1719338400-1719342000@events.aaplacer.org
SUMMARY:District Business Meeting
DESCRIPTION:Hybrid/Virtual login details: \nURL: https://zoom.us/j/2236613304\nMeeting ID: 223 661 3304\nPassword: District21
URL:https://events.aaplacer.org/event/district-business-meeting/2024-06-25/
LOCATION:534 Auburn Ravine Road\, 534 Auburn Ravine Road\, Auburn\, 95603\, United States
ORGANIZER;CN="Christina A.":MAILTO:dcm@aaplacer.org
END:VEVENT
END:VCALENDAR