BEGIN:VCALENDAR
VERSION:2.0
PRODID:-//CNIA 07, District 21 Events - ECPv6.8.3//NONSGML v1.0//EN
CALSCALE:GREGORIAN
METHOD:PUBLISH
X-ORIGINAL-URL:https://events.aaplacer.org
X-WR-CALDESC:Events for CNIA 07, District 21 Events
REFRESH-INTERVAL;VALUE=DURATION:PT1H
X-Robots-Tag:noindex
X-PUBLISHED-TTL:PT1H
BEGIN:VTIMEZONE
TZID:America/Los_Angeles
BEGIN:DAYLIGHT
TZOFFSETFROM:-0800
TZOFFSETTO:-0700
TZNAME:PDT
DTSTART:20220313T100000
END:DAYLIGHT
BEGIN:STANDARD
TZOFFSETFROM:-0700
TZOFFSETTO:-0800
TZNAME:PST
DTSTART:20221106T090000
END:STANDARD
BEGIN:DAYLIGHT
TZOFFSETFROM:-0800
TZOFFSETTO:-0700
TZNAME:PDT
DTSTART:20230312T100000
END:DAYLIGHT
BEGIN:STANDARD
TZOFFSETFROM:-0700
TZOFFSETTO:-0800
TZNAME:PST
DTSTART:20231105T090000
END:STANDARD
BEGIN:DAYLIGHT
TZOFFSETFROM:-0800
TZOFFSETTO:-0700
TZNAME:PDT
DTSTART:20240310T100000
END:DAYLIGHT
BEGIN:STANDARD
TZOFFSETFROM:-0700
TZOFFSETTO:-0800
TZNAME:PST
DTSTART:20241103T090000
END:STANDARD
BEGIN:DAYLIGHT
TZOFFSETFROM:-0800
TZOFFSETTO:-0700
TZNAME:PDT
DTSTART:20250309T100000
END:DAYLIGHT
BEGIN:STANDARD
TZOFFSETFROM:-0700
TZOFFSETTO:-0800
TZNAME:PST
DTSTART:20251102T090000
END:STANDARD
END:VTIMEZONE
BEGIN:VEVENT
DTSTART;TZID=America/Los_Angeles:20250520T060000
DTEND;TZID=America/Los_Angeles:20250520T080000
DTSTAMP:20260423T201844
CREATED:20250510T235928Z
LAST-MODIFIED:20250510T235928Z
UID:4777-1747720800-1747728000@events.aaplacer.org
SUMMARY:Spiritual Awakening Workshop
DESCRIPTION:
URL:https://events.aaplacer.org/event/spiritual-awakening-workshop/
LOCATION:Auburn Fellowship\, 244 Palm Avenue\, Auburn\, CA\, 95604\, United States
ORGANIZER;CN="Mason G.":MAILTO:masongoodale@gmail.com
END:VEVENT
BEGIN:VEVENT
DTSTART;TZID=America/Los_Angeles:20250101T070000
DTEND;TZID=America/Los_Angeles:20250101T223000
DTSTAMP:20260423T201844
CREATED:20241222T233552Z
LAST-MODIFIED:20241222T233552Z
UID:4706-1735714800-1735770600@events.aaplacer.org
SUMMARY:New Year's Day Alkathon
DESCRIPTION:New Year’s Day Alkathon a meeting every hour and a half – first meeting at 7:00 AM last meeting at 10:30 PM
URL:https://events.aaplacer.org/event/new-years-day-alkathon/
LOCATION:Auburn Fellowship\, 244 Palm Avenue\, Auburn\, CA\, 95604\, United States
ORGANIZER;CN="Christy P.":MAILTO:1118Clparsons@gmail.com
END:VEVENT
BEGIN:VEVENT
DTSTART;VALUE=DATE:20241231
DTEND;VALUE=DATE:20250101
DTSTAMP:20260423T201844
CREATED:20241222T233453Z
LAST-MODIFIED:20241222T233453Z
UID:4704-1735603200-1735689599@events.aaplacer.org
SUMMARY:New Years Eve Alkathon
DESCRIPTION:New Year’s Eve Alkathon a meeting every hour and a half – first meeting at noon last meeting at midnight
URL:https://events.aaplacer.org/event/new-years-eve-alkathon/
LOCATION:Auburn Fellowship\, 244 Palm Avenue\, Auburn\, CA\, 95604\, United States
ORGANIZER;CN="Christy P.":MAILTO:1118Clparsons@gmail.com
END:VEVENT
BEGIN:VEVENT
DTSTART;VALUE=DATE:20241225
DTEND;VALUE=DATE:20241226
DTSTAMP:20260423T201844
CREATED:20241222T233402Z
LAST-MODIFIED:20241222T233402Z
UID:4702-1735084800-1735171199@events.aaplacer.org
SUMMARY:Christmas Day Alkathon
DESCRIPTION:Christmas Day Alkathon meetings every hour and a half – first meeting at 7:00 AM last meeting at midnight
URL:https://events.aaplacer.org/event/christmas-day-alkathon/
LOCATION:Auburn Fellowship\, 244 Palm Avenue\, Auburn\, CA\, 95604\, United States
ORGANIZER;CN="Christy P.":MAILTO:1118Clparsons@gmail.com
END:VEVENT
BEGIN:VEVENT
DTSTART;VALUE=DATE:20241224
DTEND;VALUE=DATE:20241225
DTSTAMP:20260423T201844
CREATED:20241222T233304Z
LAST-MODIFIED:20241222T233304Z
UID:4699-1734998400-1735084799@events.aaplacer.org
SUMMARY:Christmas Eve Alkathon
DESCRIPTION:A meeting every hour and a half first meeting at noon and last meeting at midnight
URL:https://events.aaplacer.org/event/christmas-eve-alkathon/
LOCATION:Auburn Fellowship\, 244 Palm Avenue\, Auburn\, CA\, 95604\, United States
ORGANIZER;CN="Christy P.":MAILTO:1118Clparsons@gmail.com
END:VEVENT
BEGIN:VEVENT
DTSTART;TZID=America/Los_Angeles:20241116T140000
DTEND;TZID=America/Los_Angeles:20241116T150000
DTSTAMP:20260423T201844
CREATED:20241017T192116Z
LAST-MODIFIED:20241017T192116Z
UID:4637-1731765600-1731769200@events.aaplacer.org
SUMMARY:11/16/24 H&I Auburn Workshop
DESCRIPTION:
URL:https://events.aaplacer.org/event/11-16-24-hi-auburn-workshop/
LOCATION:Auburn Fellowship\, 244 Palm Avenue\, Auburn\, CA\, 95604\, United States
END:VEVENT
BEGIN:VEVENT
DTSTART;TZID=America/Los_Angeles:20230725T180000
DTEND;TZID=America/Los_Angeles:20230725T190000
DTSTAMP:20260423T201844
CREATED:20220115T213047Z
LAST-MODIFIED:20230725T201551Z
UID:113-1690308000-1690311600@events.aaplacer.org
SUMMARY:District Business Meeting - ONLINE ONLY
DESCRIPTION:In-person meeting unavailable tonight.  \nPlease join via Zoom using the credentials below.  \nHybrid/Virtual login details: \nURL: https://zoom.us/j/2236613304\nMeeting ID: 223 661 3304\nPassword: District21
URL:https://events.aaplacer.org/event/district-business-meeting-2023-07-25/
LOCATION:Auburn Fellowship\, 244 Palm Avenue\, Auburn\, CA\, 95604\, United States
ORGANIZER;CN="Sam P.":MAILTO:dcm@aaplacer.org
END:VEVENT
BEGIN:VEVENT
DTSTART;TZID=America/Los_Angeles:20230318T133000
DTEND;TZID=America/Los_Angeles:20230318T153000
DTSTAMP:20260423T201844
CREATED:20230216T210402Z
LAST-MODIFIED:20230217T003539Z
UID:2342-1679146200-1679153400@events.aaplacer.org
SUMMARY:Placer County H&I Workshop - Auburn Fellowship
DESCRIPTION:Come join us and learn how YOU can be of service!  Snacks\, soda & water will be available.
URL:https://events.aaplacer.org/event/placer-county-hi-workshop/
LOCATION:Auburn Fellowship\, 244 Palm Avenue\, Auburn\, CA\, 95604\, United States
END:VEVENT
BEGIN:VEVENT
DTSTART;TZID=America/Los_Angeles:20221227T180000
DTEND;TZID=America/Los_Angeles:20221227T190000
DTSTAMP:20260423T201844
CREATED:20220115T213047Z
LAST-MODIFIED:20221227T195043Z
UID:106-1672164000-1672167600@events.aaplacer.org
SUMMARY:CANCELLED - District Business Meeting
DESCRIPTION:CANCELLED: We will return January 24\, 2023. \nHybrid/Virtual login details: \nURL: https://zoom.us/j/2236613304\nMeeting ID: 223 661 3304\nPassword: District21
URL:https://events.aaplacer.org/event/district-business-meeting-2022-12-27/
LOCATION:Auburn Fellowship\, 244 Palm Avenue\, Auburn\, CA\, 95604\, United States
ORGANIZER;CN="Sam P.":MAILTO:dcm@aaplacer.org
END:VEVENT
BEGIN:VEVENT
DTSTART;TZID=America/Los_Angeles:20221129T180000
DTEND;TZID=America/Los_Angeles:20221129T190000
DTSTAMP:20260423T201844
CREATED:20220115T213047Z
LAST-MODIFIED:20221119T201152Z
UID:105-1669744800-1669748400@events.aaplacer.org
SUMMARY:District Business Meeting
DESCRIPTION:Hybrid/Virtual login details: \nZoom URL: https://zoom.us/j/2236613304\nZoom ID: 223 661 3304\nPassword: District21
URL:https://events.aaplacer.org/event/district-business-meeting-2022-11-29/
LOCATION:Auburn Fellowship\, 244 Palm Avenue\, Auburn\, CA\, 95604\, United States
ORGANIZER;CN="Sam P.":MAILTO:dcm@aaplacer.org
END:VEVENT
BEGIN:VEVENT
DTSTART;TZID=America/Los_Angeles:20220927T180000
DTEND;TZID=America/Los_Angeles:20220927T190000
DTSTAMP:20260423T201844
CREATED:20220115T213047Z
LAST-MODIFIED:20220927T132120Z
UID:103-1664301600-1664305200@events.aaplacer.org
SUMMARY:District Business Meeting -- IN-PERSON ONLY tonight
DESCRIPTION:Meeting is IN-PERSON only tonight. Hybrid/Virtual will be unavailable. Virtual will be back next month.
URL:https://events.aaplacer.org/event/district-business-meeting-2022-09-27/
LOCATION:Auburn Fellowship\, 244 Palm Avenue\, Auburn\, CA\, 95604\, United States
ORGANIZER;CN="Sam P.":MAILTO:dcm@aaplacer.org
END:VEVENT
END:VCALENDAR