BEGIN:VCALENDAR
VERSION:2.0
PRODID:-//CNIA 07, District 21 Events - ECPv6.8.3//NONSGML v1.0//EN
CALSCALE:GREGORIAN
METHOD:PUBLISH
X-ORIGINAL-URL:https://events.aaplacer.org
X-WR-CALDESC:Events for CNIA 07, District 21 Events
REFRESH-INTERVAL;VALUE=DURATION:PT1H
X-Robots-Tag:noindex
X-PUBLISHED-TTL:PT1H
BEGIN:VTIMEZONE
TZID:America/Los_Angeles
BEGIN:DAYLIGHT
TZOFFSETFROM:-0800
TZOFFSETTO:-0700
TZNAME:PDT
DTSTART:20230312T100000
END:DAYLIGHT
BEGIN:STANDARD
TZOFFSETFROM:-0700
TZOFFSETTO:-0800
TZNAME:PST
DTSTART:20231105T090000
END:STANDARD
BEGIN:DAYLIGHT
TZOFFSETFROM:-0800
TZOFFSETTO:-0700
TZNAME:PDT
DTSTART:20240310T100000
END:DAYLIGHT
BEGIN:STANDARD
TZOFFSETFROM:-0700
TZOFFSETTO:-0800
TZNAME:PST
DTSTART:20241103T090000
END:STANDARD
END:VTIMEZONE
BEGIN:VEVENT
DTSTART;TZID=America/Los_Angeles:20240812T193000
DTEND;TZID=America/Los_Angeles:20240812T203000
DTSTAMP:20260424T020147
CREATED:20231031T070120Z
LAST-MODIFIED:20231031T070120Z
UID:3545-1723491000-1723494600@events.aaplacer.org
SUMMARY:Back to Basics - Loomis
DESCRIPTION:
URL:https://events.aaplacer.org/event/back-to-basics-loomis-3/2024-08-12/
LOCATION:First United Methodist Church\, 6414 Brace Road\, Loomis\, 95622\, United States
END:VEVENT
BEGIN:VEVENT
DTSTART;TZID=America/Los_Angeles:20240808T193000
DTEND;TZID=America/Los_Angeles:20240808T203000
DTSTAMP:20260424T020147
CREATED:20220526T003633Z
LAST-MODIFIED:20230822T011448Z
UID:1834-1723145400-1723149000@events.aaplacer.org
SUMMARY:Back to Basics - Auburn Fellowship
DESCRIPTION:
URL:https://events.aaplacer.org/event/back-to-basics-auburn-fellowship/2024-08-08/
LOCATION:534 Auburn Ravine Road\, 534 Auburn Ravine Road\, Auburn\, 95603\, United States
END:VEVENT
BEGIN:VEVENT
DTSTART;TZID=America/Los_Angeles:20240805T193000
DTEND;TZID=America/Los_Angeles:20240805T203000
DTSTAMP:20260424T020147
CREATED:20231031T070120Z
LAST-MODIFIED:20231031T070120Z
UID:3544-1722886200-1722889800@events.aaplacer.org
SUMMARY:Back to Basics - Loomis
DESCRIPTION:
URL:https://events.aaplacer.org/event/back-to-basics-loomis-3/2024-08-05/
LOCATION:First United Methodist Church\, 6414 Brace Road\, Loomis\, 95622\, United States
END:VEVENT
BEGIN:VEVENT
DTSTART;TZID=America/Los_Angeles:20240801T193000
DTEND;TZID=America/Los_Angeles:20240801T203000
DTSTAMP:20260424T020147
CREATED:20220526T003633Z
LAST-MODIFIED:20230822T011447Z
UID:1830-1722540600-1722544200@events.aaplacer.org
SUMMARY:Back to Basics - Auburn Fellowship
DESCRIPTION:
URL:https://events.aaplacer.org/event/back-to-basics-auburn-fellowship/2024-08-01/
LOCATION:534 Auburn Ravine Road\, 534 Auburn Ravine Road\, Auburn\, 95603\, United States
END:VEVENT
BEGIN:VEVENT
DTSTART;TZID=America/Los_Angeles:20240725T193000
DTEND;TZID=America/Los_Angeles:20240725T203000
DTSTAMP:20260424T020147
CREATED:20220526T003633Z
LAST-MODIFIED:20230822T011447Z
UID:1826-1721935800-1721939400@events.aaplacer.org
SUMMARY:Back to Basics - Auburn Fellowship
DESCRIPTION:
URL:https://events.aaplacer.org/event/back-to-basics-auburn-fellowship/2024-07-25/
LOCATION:534 Auburn Ravine Road\, 534 Auburn Ravine Road\, Auburn\, 95603\, United States
END:VEVENT
BEGIN:VEVENT
DTSTART;TZID=America/Los_Angeles:20240722T193000
DTEND;TZID=America/Los_Angeles:20240722T203000
DTSTAMP:20260424T020147
CREATED:20231031T070120Z
LAST-MODIFIED:20231031T070120Z
UID:3543-1721676600-1721680200@events.aaplacer.org
SUMMARY:Back to Basics - Loomis
DESCRIPTION:
URL:https://events.aaplacer.org/event/back-to-basics-loomis-3/2024-07-22/
LOCATION:First United Methodist Church\, 6414 Brace Road\, Loomis\, 95622\, United States
END:VEVENT
BEGIN:VEVENT
DTSTART;TZID=America/Los_Angeles:20240718T193000
DTEND;TZID=America/Los_Angeles:20240718T203000
DTSTAMP:20260424T020147
CREATED:20220526T003633Z
LAST-MODIFIED:20230822T011446Z
UID:1789-1721331000-1721334600@events.aaplacer.org
SUMMARY:Back to Basics - Auburn Fellowship
DESCRIPTION:
URL:https://events.aaplacer.org/event/back-to-basics-auburn-fellowship/2024-07-18/
LOCATION:534 Auburn Ravine Road\, 534 Auburn Ravine Road\, Auburn\, 95603\, United States
END:VEVENT
BEGIN:VEVENT
DTSTART;TZID=America/Los_Angeles:20240715T193000
DTEND;TZID=America/Los_Angeles:20240715T203000
DTSTAMP:20260424T020147
CREATED:20231031T070120Z
LAST-MODIFIED:20231031T070120Z
UID:3542-1721071800-1721075400@events.aaplacer.org
SUMMARY:Back to Basics - Loomis
DESCRIPTION:
URL:https://events.aaplacer.org/event/back-to-basics-loomis-3/2024-07-15/
LOCATION:First United Methodist Church\, 6414 Brace Road\, Loomis\, 95622\, United States
END:VEVENT
BEGIN:VEVENT
DTSTART;TZID=America/Los_Angeles:20240711T193000
DTEND;TZID=America/Los_Angeles:20240711T203000
DTSTAMP:20260424T020147
CREATED:20220526T003633Z
LAST-MODIFIED:20230822T011446Z
UID:1786-1720726200-1720729800@events.aaplacer.org
SUMMARY:Back to Basics - Auburn Fellowship
DESCRIPTION:
URL:https://events.aaplacer.org/event/back-to-basics-auburn-fellowship/2024-07-11/
LOCATION:534 Auburn Ravine Road\, 534 Auburn Ravine Road\, Auburn\, 95603\, United States
END:VEVENT
BEGIN:VEVENT
DTSTART;TZID=America/Los_Angeles:20240708T193000
DTEND;TZID=America/Los_Angeles:20240708T203000
DTSTAMP:20260424T020147
CREATED:20231031T070120Z
LAST-MODIFIED:20231031T070120Z
UID:3541-1720467000-1720470600@events.aaplacer.org
SUMMARY:Back to Basics - Loomis
DESCRIPTION:
URL:https://events.aaplacer.org/event/back-to-basics-loomis-3/2024-07-08/
LOCATION:First United Methodist Church\, 6414 Brace Road\, Loomis\, 95622\, United States
END:VEVENT
BEGIN:VEVENT
DTSTART;TZID=America/Los_Angeles:20240704T193000
DTEND;TZID=America/Los_Angeles:20240704T203000
DTSTAMP:20260424T020147
CREATED:20220526T003633Z
LAST-MODIFIED:20230822T011445Z
UID:1779-1720121400-1720125000@events.aaplacer.org
SUMMARY:Back to Basics - Auburn Fellowship
DESCRIPTION:
URL:https://events.aaplacer.org/event/back-to-basics-auburn-fellowship/2024-07-04/
LOCATION:534 Auburn Ravine Road\, 534 Auburn Ravine Road\, Auburn\, 95603\, United States
END:VEVENT
BEGIN:VEVENT
DTSTART;TZID=America/Los_Angeles:20240701T193000
DTEND;TZID=America/Los_Angeles:20240701T203000
DTSTAMP:20260424T020147
CREATED:20231031T070120Z
LAST-MODIFIED:20231031T070120Z
UID:3540-1719862200-1719865800@events.aaplacer.org
SUMMARY:Back to Basics - Loomis
DESCRIPTION:
URL:https://events.aaplacer.org/event/back-to-basics-loomis-3/2024-07-01/
LOCATION:First United Methodist Church\, 6414 Brace Road\, Loomis\, 95622\, United States
END:VEVENT
BEGIN:VEVENT
DTSTART;TZID=America/Los_Angeles:20240627T193000
DTEND;TZID=America/Los_Angeles:20240627T203000
DTSTAMP:20260424T020147
CREATED:20220526T003633Z
LAST-MODIFIED:20230822T011444Z
UID:1724-1719516600-1719520200@events.aaplacer.org
SUMMARY:Back to Basics - Auburn Fellowship
DESCRIPTION:
URL:https://events.aaplacer.org/event/back-to-basics-auburn-fellowship/2024-06-27/
LOCATION:534 Auburn Ravine Road\, 534 Auburn Ravine Road\, Auburn\, 95603\, United States
END:VEVENT
BEGIN:VEVENT
DTSTART;TZID=America/Los_Angeles:20240624T193000
DTEND;TZID=America/Los_Angeles:20240624T203000
DTSTAMP:20260424T020147
CREATED:20231031T070120Z
LAST-MODIFIED:20231031T070120Z
UID:3539-1719257400-1719261000@events.aaplacer.org
SUMMARY:Back to Basics - Loomis
DESCRIPTION:
URL:https://events.aaplacer.org/event/back-to-basics-loomis-3/2024-06-24/
LOCATION:First United Methodist Church\, 6414 Brace Road\, Loomis\, 95622\, United States
END:VEVENT
BEGIN:VEVENT
DTSTART;TZID=America/Los_Angeles:20240620T193000
DTEND;TZID=America/Los_Angeles:20240620T203000
DTSTAMP:20260424T020147
CREATED:20220526T003633Z
LAST-MODIFIED:20230822T011443Z
UID:1639-1718911800-1718915400@events.aaplacer.org
SUMMARY:Back to Basics - Auburn Fellowship
DESCRIPTION:
URL:https://events.aaplacer.org/event/back-to-basics-auburn-fellowship/2024-06-20/
LOCATION:534 Auburn Ravine Road\, 534 Auburn Ravine Road\, Auburn\, 95603\, United States
END:VEVENT
BEGIN:VEVENT
DTSTART;TZID=America/Los_Angeles:20240617T193000
DTEND;TZID=America/Los_Angeles:20240617T203000
DTSTAMP:20260424T020147
CREATED:20231031T070120Z
LAST-MODIFIED:20231031T070120Z
UID:3538-1718652600-1718656200@events.aaplacer.org
SUMMARY:Back to Basics - Loomis
DESCRIPTION:
URL:https://events.aaplacer.org/event/back-to-basics-loomis-3/2024-06-17/
LOCATION:First United Methodist Church\, 6414 Brace Road\, Loomis\, 95622\, United States
END:VEVENT
BEGIN:VEVENT
DTSTART;TZID=America/Los_Angeles:20240613T193000
DTEND;TZID=America/Los_Angeles:20240613T203000
DTSTAMP:20260424T020147
CREATED:20220526T003633Z
LAST-MODIFIED:20230822T011443Z
UID:1635-1718307000-1718310600@events.aaplacer.org
SUMMARY:Back to Basics - Auburn Fellowship
DESCRIPTION:
URL:https://events.aaplacer.org/event/back-to-basics-auburn-fellowship/2024-06-13/
LOCATION:534 Auburn Ravine Road\, 534 Auburn Ravine Road\, Auburn\, 95603\, United States
END:VEVENT
BEGIN:VEVENT
DTSTART;TZID=America/Los_Angeles:20240610T193000
DTEND;TZID=America/Los_Angeles:20240610T203000
DTSTAMP:20260424T020147
CREATED:20231031T070120Z
LAST-MODIFIED:20231031T070120Z
UID:3537-1718047800-1718051400@events.aaplacer.org
SUMMARY:Back to Basics - Loomis
DESCRIPTION:
URL:https://events.aaplacer.org/event/back-to-basics-loomis-3/2024-06-10/
LOCATION:First United Methodist Church\, 6414 Brace Road\, Loomis\, 95622\, United States
END:VEVENT
BEGIN:VEVENT
DTSTART;TZID=America/Los_Angeles:20240606T193000
DTEND;TZID=America/Los_Angeles:20240606T203000
DTSTAMP:20260424T020147
CREATED:20220526T003633Z
LAST-MODIFIED:20230822T011443Z
UID:1631-1717702200-1717705800@events.aaplacer.org
SUMMARY:Back to Basics - Auburn Fellowship
DESCRIPTION:
URL:https://events.aaplacer.org/event/back-to-basics-auburn-fellowship/2024-06-06/
LOCATION:534 Auburn Ravine Road\, 534 Auburn Ravine Road\, Auburn\, 95603\, United States
END:VEVENT
BEGIN:VEVENT
DTSTART;TZID=America/Los_Angeles:20240603T193000
DTEND;TZID=America/Los_Angeles:20240603T203000
DTSTAMP:20260424T020147
CREATED:20231031T070120Z
LAST-MODIFIED:20231031T070120Z
UID:3536-1717443000-1717446600@events.aaplacer.org
SUMMARY:Back to Basics - Loomis
DESCRIPTION:
URL:https://events.aaplacer.org/event/back-to-basics-loomis-3/2024-06-03/
LOCATION:First United Methodist Church\, 6414 Brace Road\, Loomis\, 95622\, United States
END:VEVENT
BEGIN:VEVENT
DTSTART;TZID=America/Los_Angeles:20240527T193000
DTEND;TZID=America/Los_Angeles:20240527T203000
DTSTAMP:20260424T020147
CREATED:20231031T070120Z
LAST-MODIFIED:20231031T070120Z
UID:3535-1716838200-1716841800@events.aaplacer.org
SUMMARY:Back to Basics - Loomis
DESCRIPTION:
URL:https://events.aaplacer.org/event/back-to-basics-loomis-3/2024-05-27/
LOCATION:First United Methodist Church\, 6414 Brace Road\, Loomis\, 95622\, United States
END:VEVENT
BEGIN:VEVENT
DTSTART;TZID=America/Los_Angeles:20240523T193000
DTEND;TZID=America/Los_Angeles:20240523T203000
DTSTAMP:20260424T020147
CREATED:20220526T003633Z
LAST-MODIFIED:20230822T011442Z
UID:1045-1716492600-1716496200@events.aaplacer.org
SUMMARY:Back to Basics - Auburn Fellowship
DESCRIPTION:
URL:https://events.aaplacer.org/event/back-to-basics-auburn-fellowship/2024-05-23/
LOCATION:534 Auburn Ravine Road\, 534 Auburn Ravine Road\, Auburn\, 95603\, United States
END:VEVENT
BEGIN:VEVENT
DTSTART;TZID=America/Los_Angeles:20240520T193000
DTEND;TZID=America/Los_Angeles:20240520T203000
DTSTAMP:20260424T020147
CREATED:20231031T070120Z
LAST-MODIFIED:20231031T070120Z
UID:3534-1716233400-1716237000@events.aaplacer.org
SUMMARY:Back to Basics - Loomis
DESCRIPTION:
URL:https://events.aaplacer.org/event/back-to-basics-loomis-3/2024-05-20/
LOCATION:First United Methodist Church\, 6414 Brace Road\, Loomis\, 95622\, United States
END:VEVENT
BEGIN:VEVENT
DTSTART;TZID=America/Los_Angeles:20240516T193000
DTEND;TZID=America/Los_Angeles:20240516T203000
DTSTAMP:20260424T020147
CREATED:20220526T003633Z
LAST-MODIFIED:20230822T011442Z
UID:1044-1715887800-1715891400@events.aaplacer.org
SUMMARY:Back to Basics - Auburn Fellowship
DESCRIPTION:
URL:https://events.aaplacer.org/event/back-to-basics-auburn-fellowship/2024-05-16/
LOCATION:534 Auburn Ravine Road\, 534 Auburn Ravine Road\, Auburn\, 95603\, United States
END:VEVENT
BEGIN:VEVENT
DTSTART;TZID=America/Los_Angeles:20240513T193000
DTEND;TZID=America/Los_Angeles:20240513T203000
DTSTAMP:20260424T020147
CREATED:20231031T070120Z
LAST-MODIFIED:20231031T070120Z
UID:3533-1715628600-1715632200@events.aaplacer.org
SUMMARY:Back to Basics - Loomis
DESCRIPTION:
URL:https://events.aaplacer.org/event/back-to-basics-loomis-3/2024-05-13/
LOCATION:First United Methodist Church\, 6414 Brace Road\, Loomis\, 95622\, United States
END:VEVENT
BEGIN:VEVENT
DTSTART;TZID=America/Los_Angeles:20240509T193000
DTEND;TZID=America/Los_Angeles:20240509T203000
DTSTAMP:20260424T020147
CREATED:20220526T003633Z
LAST-MODIFIED:20230822T011442Z
UID:1043-1715283000-1715286600@events.aaplacer.org
SUMMARY:Back to Basics - Auburn Fellowship
DESCRIPTION:
URL:https://events.aaplacer.org/event/back-to-basics-auburn-fellowship/2024-05-09/
LOCATION:534 Auburn Ravine Road\, 534 Auburn Ravine Road\, Auburn\, 95603\, United States
END:VEVENT
BEGIN:VEVENT
DTSTART;TZID=America/Los_Angeles:20240506T193000
DTEND;TZID=America/Los_Angeles:20240506T203000
DTSTAMP:20260424T020147
CREATED:20231031T070120Z
LAST-MODIFIED:20231031T070120Z
UID:3532-1715023800-1715027400@events.aaplacer.org
SUMMARY:Back to Basics - Loomis
DESCRIPTION:
URL:https://events.aaplacer.org/event/back-to-basics-loomis-3/2024-05-06/
LOCATION:First United Methodist Church\, 6414 Brace Road\, Loomis\, 95622\, United States
END:VEVENT
BEGIN:VEVENT
DTSTART;TZID=America/Los_Angeles:20240502T193000
DTEND;TZID=America/Los_Angeles:20240502T203000
DTSTAMP:20260424T020147
CREATED:20220526T003633Z
LAST-MODIFIED:20230822T011441Z
UID:1042-1714678200-1714681800@events.aaplacer.org
SUMMARY:Back to Basics - Auburn Fellowship
DESCRIPTION:
URL:https://events.aaplacer.org/event/back-to-basics-auburn-fellowship/2024-05-02/
LOCATION:534 Auburn Ravine Road\, 534 Auburn Ravine Road\, Auburn\, 95603\, United States
END:VEVENT
BEGIN:VEVENT
DTSTART;TZID=America/Los_Angeles:20240425T193000
DTEND;TZID=America/Los_Angeles:20240425T203000
DTSTAMP:20260424T020147
CREATED:20220526T003633Z
LAST-MODIFIED:20230822T011441Z
UID:1563-1714073400-1714077000@events.aaplacer.org
SUMMARY:Back to Basics - Auburn Fellowship
DESCRIPTION:
URL:https://events.aaplacer.org/event/back-to-basics-auburn-fellowship/2024-04-25/
LOCATION:534 Auburn Ravine Road\, 534 Auburn Ravine Road\, Auburn\, 95603\, United States
END:VEVENT
BEGIN:VEVENT
DTSTART;TZID=America/Los_Angeles:20231106T193000
DTEND;TZID=America/Los_Angeles:20231106T203000
DTSTAMP:20260424T020147
CREATED:20231031T070120Z
LAST-MODIFIED:20231028T234033Z
UID:3507-1699299000-1699302600@events.aaplacer.org
SUMMARY:Back to Basics - Loomis
DESCRIPTION:
URL:https://events.aaplacer.org/event/back-to-basics-loomis-3/2023-11-06/
LOCATION:First United Methodist Church\, 6414 Brace Road\, Loomis\, 95622\, United States
END:VEVENT
END:VCALENDAR