BEGIN:VCALENDAR
VERSION:2.0
PRODID:-//CNIA 07, District 21 Events - ECPv6.8.3//NONSGML v1.0//EN
CALSCALE:GREGORIAN
METHOD:PUBLISH
X-ORIGINAL-URL:https://events.aaplacer.org
X-WR-CALDESC:Events for CNIA 07, District 21 Events
REFRESH-INTERVAL;VALUE=DURATION:PT1H
X-Robots-Tag:noindex
X-PUBLISHED-TTL:PT1H
BEGIN:VTIMEZONE
TZID:America/Los_Angeles
BEGIN:DAYLIGHT
TZOFFSETFROM:-0800
TZOFFSETTO:-0700
TZNAME:PDT
DTSTART:20230312T100000
END:DAYLIGHT
BEGIN:STANDARD
TZOFFSETFROM:-0700
TZOFFSETTO:-0800
TZNAME:PST
DTSTART:20231105T090000
END:STANDARD
END:VTIMEZONE
BEGIN:VEVENT
DTSTART;TZID=America/Los_Angeles:20230930T100000
DTEND;TZID=America/Los_Angeles:20230930T153000
DTSTAMP:20260423T165435
CREATED:20230923T224634Z
LAST-MODIFIED:20230923T224700Z
UID:3427-1696068000-1696087800@events.aaplacer.org
SUMMARY:District 21 Service Faire & Celebration
DESCRIPTION:
URL:https://events.aaplacer.org/event/district-21-service-faire-celebration/
LOCATION:Shepard of the Sierra Church\, 5400 Barton Road\, Loomis\, CA\, 95650\, United States
ORGANIZER;CN="Sam P.":MAILTO:dcm@aaplacer.org
END:VEVENT
END:VCALENDAR