BEGIN:VCALENDAR
VERSION:2.0
PRODID:-//CNIA 07, District 21 Events - ECPv6.8.3//NONSGML v1.0//EN
CALSCALE:GREGORIAN
METHOD:PUBLISH
X-WR-CALNAME:CNIA 07, District 21 Events
X-ORIGINAL-URL:https://events.aaplacer.org
X-WR-CALDESC:Events for CNIA 07, District 21 Events
REFRESH-INTERVAL;VALUE=DURATION:PT1H
X-Robots-Tag:noindex
X-PUBLISHED-TTL:PT1H
BEGIN:VTIMEZONE
TZID:America/Los_Angeles
BEGIN:DAYLIGHT
TZOFFSETFROM:-0800
TZOFFSETTO:-0700
TZNAME:PDT
DTSTART:20230312T100000
END:DAYLIGHT
BEGIN:STANDARD
TZOFFSETFROM:-0700
TZOFFSETTO:-0800
TZNAME:PST
DTSTART:20231105T090000
END:STANDARD
BEGIN:DAYLIGHT
TZOFFSETFROM:-0800
TZOFFSETTO:-0700
TZNAME:PDT
DTSTART:20240310T100000
END:DAYLIGHT
BEGIN:STANDARD
TZOFFSETFROM:-0700
TZOFFSETTO:-0800
TZNAME:PST
DTSTART:20241103T090000
END:STANDARD
BEGIN:DAYLIGHT
TZOFFSETFROM:-0800
TZOFFSETTO:-0700
TZNAME:PDT
DTSTART:20250309T100000
END:DAYLIGHT
BEGIN:STANDARD
TZOFFSETFROM:-0700
TZOFFSETTO:-0800
TZNAME:PST
DTSTART:20251102T090000
END:STANDARD
END:VTIMEZONE
BEGIN:VEVENT
DTSTART;VALUE=DATE:20250822
DTEND;VALUE=DATE:20250825
DTSTAMP:20260423T193510
CREATED:20250703T213734Z
LAST-MODIFIED:20250703T213734Z
UID:4801-1755820800-1756079999@events.aaplacer.org
SUMMARY:Auburn Fellowship Annual Campout
DESCRIPTION:
URL:https://events.aaplacer.org/event/auburn-fellowship-annual-campout/
LOCATION:scotts flat campground\, 23333 Scotts Flat Lake\, Nevada City\, 95959\, United States
END:VEVENT
BEGIN:VEVENT
DTSTART;TZID=America/Los_Angeles:20250525T120000
DTEND;TZID=America/Los_Angeles:20250525T170000
DTSTAMP:20260423T193510
CREATED:20250414T174757Z
LAST-MODIFIED:20250414T174757Z
UID:4752-1748174400-1748192400@events.aaplacer.org
SUMMARY:Memorial Day Picnic in the Park
DESCRIPTION:
URL:https://events.aaplacer.org/event/memorial-day-picnic-in-the-park/
LOCATION:Recreation Park\, 123 RECREATION DR. AUBURN\, CA 95603\, 123 RECREATION DR.\, Auburn\, 95603\, United States
END:VEVENT
BEGIN:VEVENT
DTSTART;TZID=America/Los_Angeles:20240526T120000
DTEND;TZID=America/Los_Angeles:20240526T170000
DTSTAMP:20260423T193510
CREATED:20240430T040947Z
LAST-MODIFIED:20240430T040947Z
UID:4222-1716724800-1716742800@events.aaplacer.org
SUMMARY:2024 Auburn Fellowship Memorial Day Picnic
DESCRIPTION:
URL:https://events.aaplacer.org/event/2024-auburn-fellowship-memorial-day-picnic/
LOCATION:ARD Park\, 123 Recreation Drive\, Auburn\, CA\, 95603\, United States
END:VEVENT
BEGIN:VEVENT
DTSTART;TZID=America/Los_Angeles:20230805T170000
DTEND;TZID=America/Los_Angeles:20230805T183000
DTSTAMP:20260423T193510
CREATED:20230719T233134Z
LAST-MODIFIED:20230719T233134Z
UID:2754-1691254800-1691260200@events.aaplacer.org
SUMMARY:Bent Nickel Group - 41st Anniversary
DESCRIPTION:
URL:https://events.aaplacer.org/event/bent-nickel-group-41st-anniversary/
LOCATION:Calvary Bible Church\, 20801 Todd Valley Road\, Foresthill\, CA\, 95631\, United States
END:VEVENT
END:VCALENDAR