BEGIN:VCALENDAR
VERSION:2.0
PRODID:-//CNIA 07, District 21 Events - ECPv6.8.3//NONSGML v1.0//EN
CALSCALE:GREGORIAN
METHOD:PUBLISH
X-ORIGINAL-URL:https://events.aaplacer.org
X-WR-CALDESC:Events for CNIA 07, District 21 Events
REFRESH-INTERVAL;VALUE=DURATION:PT1H
X-Robots-Tag:noindex
X-PUBLISHED-TTL:PT1H
BEGIN:VTIMEZONE
TZID:America/Los_Angeles
BEGIN:DAYLIGHT
TZOFFSETFROM:-0800
TZOFFSETTO:-0700
TZNAME:PDT
DTSTART:20250309T100000
END:DAYLIGHT
BEGIN:STANDARD
TZOFFSETFROM:-0700
TZOFFSETTO:-0800
TZNAME:PST
DTSTART:20251102T090000
END:STANDARD
END:VTIMEZONE
BEGIN:VEVENT
DTSTART;TZID=America/Los_Angeles:20251031T200000
DTEND;TZID=America/Los_Angeles:20251031T233000
DTSTAMP:20260423T163431
CREATED:20250923T234151Z
LAST-MODIFIED:20250923T234151Z
UID:4849-1761940800-1761953400@events.aaplacer.org
SUMMARY:Rocklin Fellowship's Annual Halloween Dance and Trunk or Treat
DESCRIPTION:Join us for our Annual Halloween Dance and Trunk or Treat. Trunk or Treat is from 7pm-8:30pm in the front parking lot and then head inside to dance from 8pm-12am. We will have a live DJ\, costume contest\, 50/50 raffle\, dessert potluck and fun for the whole family.
URL:https://events.aaplacer.org/event/rocklin-fellowships-annual-halloween-dance-and-trunk-or-treat/
LOCATION:Johnson Springview Park\, 5480 Fifth Street\, Rocklin\, CA\, 95677\, United States
ORGANIZER;CN="marla m.":MAILTO:avalawday999@gmail.com
END:VEVENT
END:VCALENDAR