BEGIN:VCALENDAR
VERSION:2.0
PRODID:-//CNIA 07, District 21 Events - ECPv6.8.3//NONSGML v1.0//EN
CALSCALE:GREGORIAN
METHOD:PUBLISH
X-ORIGINAL-URL:https://events.aaplacer.org
X-WR-CALDESC:Events for CNIA 07, District 21 Events
REFRESH-INTERVAL;VALUE=DURATION:PT1H
X-Robots-Tag:noindex
X-PUBLISHED-TTL:PT1H
BEGIN:VTIMEZONE
TZID:America/Los_Angeles
BEGIN:DAYLIGHT
TZOFFSETFROM:-0800
TZOFFSETTO:-0700
TZNAME:PDT
DTSTART:20220313T100000
END:DAYLIGHT
BEGIN:STANDARD
TZOFFSETFROM:-0700
TZOFFSETTO:-0800
TZNAME:PST
DTSTART:20221106T090000
END:STANDARD
END:VTIMEZONE
BEGIN:VEVENT
DTSTART;TZID=America/Los_Angeles:20221112T170000
DTEND;TZID=America/Los_Angeles:20221112T210000
DTSTAMP:20260423T230729
CREATED:20221027T000230Z
LAST-MODIFIED:20221028T232355Z
UID:1971-1668272400-1668286800@events.aaplacer.org
SUMMARY:47th Annual Auburn Fellowship Speaker Meeting
DESCRIPTION:
URL:https://events.aaplacer.org/event/47th-annual-auburn-fellowship-speaker-meeting/
LOCATION:1st Congregational Church\, 710 Auburn Ravine Road\, Auburn\, CA\, 95603\, United States
END:VEVENT
END:VCALENDAR