BEGIN:VCALENDAR
VERSION:2.0
PRODID:-//CNIA 07, District 21 Events - ECPv6.8.3//NONSGML v1.0//EN
CALSCALE:GREGORIAN
METHOD:PUBLISH
X-WR-CALNAME:CNIA 07, District 21 Events
X-ORIGINAL-URL:https://events.aaplacer.org
X-WR-CALDESC:Events for CNIA 07, District 21 Events
REFRESH-INTERVAL;VALUE=DURATION:PT1H
X-Robots-Tag:noindex
X-PUBLISHED-TTL:PT1H
BEGIN:VTIMEZONE
TZID:America/Los_Angeles
BEGIN:DAYLIGHT
TZOFFSETFROM:-0800
TZOFFSETTO:-0700
TZNAME:PDT
DTSTART:20220313T100000
END:DAYLIGHT
BEGIN:STANDARD
TZOFFSETFROM:-0700
TZOFFSETTO:-0800
TZNAME:PST
DTSTART:20221106T090000
END:STANDARD
END:VTIMEZONE
BEGIN:VEVENT
DTSTART;TZID=America/Los_Angeles:20220116T090000
DTEND;TZID=America/Los_Angeles:20220116T120000
DTSTAMP:20260423T152702
CREATED:20220115T205555Z
LAST-MODIFIED:20220115T205555Z
UID:76-1642323600-1642334400@events.aaplacer.org
SUMMARY:CNIA07 Winter Assembly
DESCRIPTION:Virtual Winter Assembly on Zoom – January 15-16\, 2022 \nMeeting ID: 851 1033 4028   Passcode: winter
URL:https://events.aaplacer.org/event/cnia07-winter-assembly/
END:VEVENT
END:VCALENDAR