BEGIN:VCALENDAR
VERSION:2.0
PRODID:-//CNIA 07, District 21 Events - ECPv6.8.3//NONSGML v1.0//EN
CALSCALE:GREGORIAN
METHOD:PUBLISH
X-ORIGINAL-URL:https://events.aaplacer.org
X-WR-CALDESC:Events for CNIA 07, District 21 Events
REFRESH-INTERVAL;VALUE=DURATION:PT1H
X-Robots-Tag:noindex
X-PUBLISHED-TTL:PT1H
BEGIN:VTIMEZONE
TZID:America/Los_Angeles
BEGIN:DAYLIGHT
TZOFFSETFROM:-0800
TZOFFSETTO:-0700
TZNAME:PDT
DTSTART:20260308T100000
END:DAYLIGHT
BEGIN:STANDARD
TZOFFSETFROM:-0700
TZOFFSETTO:-0800
TZNAME:PST
DTSTART:20261101T090000
END:STANDARD
END:VTIMEZONE
BEGIN:VEVENT
DTSTART;TZID=America/Los_Angeles:20260421T180000
DTEND;TZID=America/Los_Angeles:20260421T190000
DTSTAMP:20260423T131724
CREATED:20260124T010336Z
LAST-MODIFIED:20260124T010336Z
UID:4930-1776794400-1776798000@events.aaplacer.org
SUMMARY:Area 34 H&I Monthly Business Meeting (zoom only)
DESCRIPTION:3rd Tuesday of each month  6-7pm\nID: 839 7354 8044\nPW:  449
URL:https://events.aaplacer.org/event/area-34-hi-monthly-business-meeting-zoom-only/2026-04-21/
END:VEVENT
BEGIN:VEVENT
DTSTART;TZID=America/Los_Angeles:20260317T180000
DTEND;TZID=America/Los_Angeles:20260317T190000
DTSTAMP:20260423T131724
CREATED:20260124T010336Z
LAST-MODIFIED:20260124T010336Z
UID:4929-1773770400-1773774000@events.aaplacer.org
SUMMARY:Area 34 H&I Monthly Business Meeting (zoom only)
DESCRIPTION:3rd Tuesday of each month  6-7pm\nID: 839 7354 8044\nPW:  449
URL:https://events.aaplacer.org/event/area-34-hi-monthly-business-meeting-zoom-only/2026-03-17/
END:VEVENT
BEGIN:VEVENT
DTSTART;TZID=America/Los_Angeles:20260217T180000
DTEND;TZID=America/Los_Angeles:20260217T190000
DTSTAMP:20260423T131724
CREATED:20260124T010336Z
LAST-MODIFIED:20260124T010336Z
UID:4927-1771351200-1771354800@events.aaplacer.org
SUMMARY:Area 34 H&I Monthly Business Meeting (zoom only)
DESCRIPTION:3rd Tuesday of each month  6-7pm\nID: 839 7354 8044\nPW:  449
URL:https://events.aaplacer.org/event/area-34-hi-monthly-business-meeting-zoom-only/2026-02-17/
END:VEVENT
END:VCALENDAR