BEGIN:VCALENDAR
VERSION:2.0
PRODID:-//CNIA 07, District 21 Events - ECPv6.8.3//NONSGML v1.0//EN
CALSCALE:GREGORIAN
METHOD:PUBLISH
X-WR-CALNAME:CNIA 07, District 21 Events
X-ORIGINAL-URL:https://events.aaplacer.org
X-WR-CALDESC:Events for CNIA 07, District 21 Events
REFRESH-INTERVAL;VALUE=DURATION:PT1H
X-Robots-Tag:noindex
X-PUBLISHED-TTL:PT1H
BEGIN:VTIMEZONE
TZID:America/Los_Angeles
BEGIN:DAYLIGHT
TZOFFSETFROM:-0800
TZOFFSETTO:-0700
TZNAME:PDT
DTSTART:20260308T100000
END:DAYLIGHT
BEGIN:STANDARD
TZOFFSETFROM:-0700
TZOFFSETTO:-0800
TZNAME:PST
DTSTART:20261101T090000
END:STANDARD
END:VTIMEZONE
BEGIN:VEVENT
DTSTART;TZID=America/Los_Angeles:20260207T170000
DTEND;TZID=America/Los_Angeles:20260207T210000
DTSTAMP:20260423T114209
CREATED:20260127T015752Z
LAST-MODIFIED:20260127T015752Z
UID:4947-1770483600-1770498000@events.aaplacer.org
SUMMARY:PLAYPAA Presents Emo Bingo
DESCRIPTION:
URL:https://events.aaplacer.org/event/playpaa-presents-emo-bingo/
LOCATION:5645 Rocklin Road\, Loomis\, CA\, 5645 Rocklin Road\, Loomis\, CA\, United States
END:VEVENT
BEGIN:VEVENT
DTSTART;TZID=America/Los_Angeles:20260208T143000
DTEND;TZID=America/Los_Angeles:20260208T170000
DTSTAMP:20260423T114209
CREATED:20260128T173143Z
LAST-MODIFIED:20260128T173143Z
UID:4952-1770561000-1770570000@events.aaplacer.org
SUMMARY:Panel 76 Conference Agenda Items Discussion
DESCRIPTION:
URL:https://events.aaplacer.org/event/panel-76-conference-agenda-items-discussion/
LOCATION:Rocklin Fellowship\, 6015 Pacific St. #6\, Rocklin\, CA\, 95677\, United States
ORGANIZER;CN="Theresa M.":MAILTO:dcm@aaplacer.org
END:VEVENT
BEGIN:VEVENT
DTSTART;TZID=America/Los_Angeles:20260217T180000
DTEND;TZID=America/Los_Angeles:20260217T190000
DTSTAMP:20260423T114209
CREATED:20260124T010336Z
LAST-MODIFIED:20260124T010336Z
UID:4927-1771351200-1771354800@events.aaplacer.org
SUMMARY:Area 34 H&I Monthly Business Meeting (zoom only)
DESCRIPTION:3rd Tuesday of each month  6-7pm\nID: 839 7354 8044\nPW:  449
URL:https://events.aaplacer.org/event/area-34-hi-monthly-business-meeting-zoom-only/2026-02-17/
END:VEVENT
BEGIN:VEVENT
DTSTART;VALUE=DATE:20260220
DTEND;VALUE=DATE:20260223
DTSTAMP:20260423T114209
CREATED:20250827T174340Z
LAST-MODIFIED:20250827T174340Z
UID:4838-1771545600-1771804799@events.aaplacer.org
SUMMARY:Meeting in Paradise
DESCRIPTION:
URL:https://events.aaplacer.org/event/meeting-in-paradise/
ORGANIZER;CN="Cory Y.":MAILTO:cory.yanez@summits-seas.com
END:VEVENT
END:VCALENDAR