BEGIN:VCALENDAR
VERSION:2.0
PRODID:-//CNIA 07, District 21 Events - ECPv6.8.3//NONSGML v1.0//EN
CALSCALE:GREGORIAN
METHOD:PUBLISH
X-ORIGINAL-URL:https://events.aaplacer.org
X-WR-CALDESC:Events for CNIA 07, District 21 Events
REFRESH-INTERVAL;VALUE=DURATION:PT1H
X-Robots-Tag:noindex
X-PUBLISHED-TTL:PT1H
BEGIN:VTIMEZONE
TZID:America/Los_Angeles
BEGIN:DAYLIGHT
TZOFFSETFROM:-0800
TZOFFSETTO:-0700
TZNAME:PDT
DTSTART:20250309T100000
END:DAYLIGHT
BEGIN:STANDARD
TZOFFSETFROM:-0700
TZOFFSETTO:-0800
TZNAME:PST
DTSTART:20251102T090000
END:STANDARD
END:VTIMEZONE
BEGIN:VEVENT
DTSTART;TZID=America/Los_Angeles:20251206T160000
DTEND;TZID=America/Los_Angeles:20251206T170000
DTSTAMP:20260423T145824
CREATED:20240125T195219Z
LAST-MODIFIED:20240804T222017Z
UID:4002-1765036800-1765040400@events.aaplacer.org
SUMMARY:PLAYPAA Business Meeting
DESCRIPTION:First Saturday of every month @ 4pm!  Come be of service.  Positions available.
URL:https://events.aaplacer.org/event/playpaa-business-meeting/2025-12-06/
LOCATION:5645 Rocklin Road\, Loomis\, CA\, 5645 Rocklin Road\, Loomis\, CA\, United States
END:VEVENT
BEGIN:VEVENT
DTSTART;TZID=America/Los_Angeles:20251206T163000
DTEND;TZID=America/Los_Angeles:20251206T180000
DTSTAMP:20260423T145824
CREATED:20251103T190423Z
LAST-MODIFIED:20251103T190423Z
UID:4869-1765038600-1765044000@events.aaplacer.org
SUMMARY:CCFAA Teleservice Virtual Workshop
DESCRIPTION:Zoom ID: 871 6035 9349
URL:https://events.aaplacer.org/event/ccfaa-teleservice-virtual-workshop-2/
ORGANIZER;CN="Elaine P.":MAILTO:teleserviceorientation@gmail.com
LOCATION:
END:VEVENT
BEGIN:VEVENT
DTSTART;TZID=America/Los_Angeles:20251206T190000
DTEND;TZID=America/Los_Angeles:20251206T203000
DTSTAMP:20260423T145824
CREATED:20240113T214740Z
LAST-MODIFIED:20241002T235602Z
UID:3909-1765047600-1765053000@events.aaplacer.org
SUMMARY:RTNG Saturday Night Speaker Meeting
DESCRIPTION:Roseville Tuesday Night Group – Saturday Night Speaker Meeting
URL:https://events.aaplacer.org/event/rtng-saturday-night-speaker-meeting/2025-12-06/
LOCATION:Roseville Tuesday Night Group\, 315 Lincoln Street\, Roseville\, CA\, 95678\, United States
END:VEVENT
BEGIN:VEVENT
DTSTART;TZID=America/Los_Angeles:20251206T190000
DTEND;TZID=America/Los_Angeles:20251206T203000
DTSTAMP:20260423T145824
CREATED:20251112T205853Z
LAST-MODIFIED:20251112T205853Z
UID:4874-1765047600-1765053000@events.aaplacer.org
SUMMARY:Rocklin Fellowship Quarterly Speaker Meeting
DESCRIPTION:
URL:https://events.aaplacer.org/event/rocklin-fellowship-quarterly-speaker-meeting-3/
LOCATION:5480 5th Street\, 5480 5th Street\, Rocklin\, CA\, 95677\, United States
ORGANIZER;CN="Heather O.":MAILTO:heatherdanielson2121@yahoo.com
END:VEVENT
BEGIN:VEVENT
DTSTART;TZID=America/Los_Angeles:20251208T180000
DTEND;TZID=America/Los_Angeles:20251208T190000
DTSTAMP:20260423T145824
CREATED:20240205T110618Z
LAST-MODIFIED:20240205T110656Z
UID:3786-1765216800-1765220400@events.aaplacer.org
SUMMARY:D21 Monthly Service Manual Study
DESCRIPTION:District 21 Zoom Credentials: Meeting ID: 223 661 3304\nPW: District21
URL:https://events.aaplacer.org/event/d21-monthly-service-manual-study/2025-12-08/
END:VEVENT
BEGIN:VEVENT
DTSTART;TZID=America/Los_Angeles:20251213T150000
DTEND;TZID=America/Los_Angeles:20251213T180000
DTSTAMP:20260423T145824
CREATED:20251210T023826Z
LAST-MODIFIED:20251210T023826Z
UID:4878-1765638000-1765648800@events.aaplacer.org
SUMMARY:Sierra Pines Group Holiday Party
DESCRIPTION:
URL:https://events.aaplacer.org/event/sierra-pines-group-holiday-party/
LOCATION:Sierra Pines Methodist Church\, 22550 W Hacienda Dr\, Grass Valley\, CA\, 95949\, United States
ORGANIZER;CN="Christina A.":MAILTO:dcm@aaplacer.org
END:VEVENT
BEGIN:VEVENT
DTSTART;TZID=America/Los_Angeles:20251213T190000
DTEND;TZID=America/Los_Angeles:20251213T203000
DTSTAMP:20260423T145824
CREATED:20240113T214740Z
LAST-MODIFIED:20241002T235602Z
UID:3910-1765652400-1765657800@events.aaplacer.org
SUMMARY:RTNG Saturday Night Speaker Meeting
DESCRIPTION:Roseville Tuesday Night Group – Saturday Night Speaker Meeting
URL:https://events.aaplacer.org/event/rtng-saturday-night-speaker-meeting/2025-12-13/
LOCATION:Roseville Tuesday Night Group\, 315 Lincoln Street\, Roseville\, CA\, 95678\, United States
END:VEVENT
BEGIN:VEVENT
DTSTART;TZID=America/Los_Angeles:20251220T190000
DTEND;TZID=America/Los_Angeles:20251220T203000
DTSTAMP:20260423T145824
CREATED:20240113T214740Z
LAST-MODIFIED:20241002T235602Z
UID:3911-1766257200-1766262600@events.aaplacer.org
SUMMARY:RTNG Saturday Night Speaker Meeting
DESCRIPTION:Roseville Tuesday Night Group – Saturday Night Speaker Meeting
URL:https://events.aaplacer.org/event/rtng-saturday-night-speaker-meeting/2025-12-20/
LOCATION:Roseville Tuesday Night Group\, 315 Lincoln Street\, Roseville\, CA\, 95678\, United States
END:VEVENT
BEGIN:VEVENT
DTSTART;TZID=America/Los_Angeles:20251223T180000
DTEND;TZID=America/Los_Angeles:20251223T190000
DTSTAMP:20260423T145824
CREATED:20220115T213047Z
LAST-MODIFIED:20240224T221448Z
UID:3654-1766512800-1766516400@events.aaplacer.org
SUMMARY:District Business Meeting
DESCRIPTION:Hybrid/Virtual login details: \nURL: https://zoom.us/j/2236613304\nMeeting ID: 223 661 3304\nPassword: District21
URL:https://events.aaplacer.org/event/district-business-meeting/2025-12-23/
LOCATION:534 Auburn Ravine Road\, 534 Auburn Ravine Road\, Auburn\, 95603\, United States
ORGANIZER;CN="Christina A.":MAILTO:dcm@aaplacer.org
END:VEVENT
BEGIN:VEVENT
DTSTART;TZID=America/Los_Angeles:20251227T190000
DTEND;TZID=America/Los_Angeles:20251227T203000
DTSTAMP:20260423T145824
CREATED:20240113T214740Z
LAST-MODIFIED:20241002T235602Z
UID:3912-1766862000-1766867400@events.aaplacer.org
SUMMARY:RTNG Saturday Night Speaker Meeting
DESCRIPTION:Roseville Tuesday Night Group – Saturday Night Speaker Meeting
URL:https://events.aaplacer.org/event/rtng-saturday-night-speaker-meeting/2025-12-27/
LOCATION:Roseville Tuesday Night Group\, 315 Lincoln Street\, Roseville\, CA\, 95678\, United States
END:VEVENT
BEGIN:VEVENT
DTSTART;TZID=America/Los_Angeles:20251228T160000
DTEND;TZID=America/Los_Angeles:20251228T173000
DTSTAMP:20260423T145824
CREATED:20240725T202711Z
LAST-MODIFIED:20240725T202711Z
UID:4460-1766937600-1766943000@events.aaplacer.org
SUMMARY:Accessiblity Interest Group (AIG) Monthly Zoom Meeting
DESCRIPTION:Zoom Meeting ID: 830 3187 6507  No password \nhttps://us06web.zoom.us/j/83031876507 \n \n 
URL:https://events.aaplacer.org/event/accessiblity-interest-group-aig-monthly-zoom-meeting/2025-12-28/
END:VEVENT
END:VCALENDAR