BEGIN:VCALENDAR
VERSION:2.0
PRODID:-//CNIA 07, District 21 Events - ECPv6.8.3//NONSGML v1.0//EN
CALSCALE:GREGORIAN
METHOD:PUBLISH
X-ORIGINAL-URL:https://events.aaplacer.org
X-WR-CALDESC:Events for CNIA 07, District 21 Events
REFRESH-INTERVAL;VALUE=DURATION:PT1H
X-Robots-Tag:noindex
X-PUBLISHED-TTL:PT1H
BEGIN:VTIMEZONE
TZID:America/Los_Angeles
BEGIN:DAYLIGHT
TZOFFSETFROM:-0800
TZOFFSETTO:-0700
TZNAME:PDT
DTSTART:20250309T100000
END:DAYLIGHT
BEGIN:STANDARD
TZOFFSETFROM:-0700
TZOFFSETTO:-0800
TZNAME:PST
DTSTART:20251102T090000
END:STANDARD
END:VTIMEZONE
BEGIN:VEVENT
DTSTART;TZID=America/Los_Angeles:20251101T160000
DTEND;TZID=America/Los_Angeles:20251101T170000
DTSTAMP:20260423T164359
CREATED:20240125T195219Z
LAST-MODIFIED:20240804T222017Z
UID:4001-1762012800-1762016400@events.aaplacer.org
SUMMARY:PLAYPAA Business Meeting
DESCRIPTION:First Saturday of every month @ 4pm!  Come be of service.  Positions available.
URL:https://events.aaplacer.org/event/playpaa-business-meeting/2025-11-01/
LOCATION:5645 Rocklin Road\, Loomis\, CA\, 5645 Rocklin Road\, Loomis\, CA\, United States
END:VEVENT
BEGIN:VEVENT
DTSTART;TZID=America/Los_Angeles:20251101T190000
DTEND;TZID=America/Los_Angeles:20251101T203000
DTSTAMP:20260423T164359
CREATED:20240113T214740Z
LAST-MODIFIED:20241002T235548Z
UID:3904-1762023600-1762029000@events.aaplacer.org
SUMMARY:RTNG Saturday Night Speaker Meeting
DESCRIPTION:Roseville Tuesday Night Group – Saturday Night Speaker Meeting
URL:https://events.aaplacer.org/event/rtng-saturday-night-speaker-meeting/2025-11-01/
LOCATION:Roseville Tuesday Night Group\, 315 Lincoln Street\, Roseville\, CA\, 95678\, United States
END:VEVENT
BEGIN:VEVENT
DTSTART;TZID=America/Los_Angeles:20251103T193000
DTEND;TZID=America/Los_Angeles:20251103T203000
DTSTAMP:20260423T164359
CREATED:20231031T070120Z
LAST-MODIFIED:20231031T070120Z
UID:3613-1762198200-1762201800@events.aaplacer.org
SUMMARY:Back to Basics - Loomis
DESCRIPTION:
URL:https://events.aaplacer.org/event/back-to-basics-loomis-3/2025-11-03/
LOCATION:First United Methodist Church\, 6414 Brace Road\, Loomis\, 95622\, United States
END:VEVENT
BEGIN:VEVENT
DTSTART;TZID=America/Los_Angeles:20251108T190000
DTEND;TZID=America/Los_Angeles:20251108T203000
DTSTAMP:20260423T164359
CREATED:20240113T214740Z
LAST-MODIFIED:20241002T235601Z
UID:3905-1762628400-1762633800@events.aaplacer.org
SUMMARY:RTNG Saturday Night Speaker Meeting
DESCRIPTION:Roseville Tuesday Night Group – Saturday Night Speaker Meeting
URL:https://events.aaplacer.org/event/rtng-saturday-night-speaker-meeting/2025-11-08/
LOCATION:Roseville Tuesday Night Group\, 315 Lincoln Street\, Roseville\, CA\, 95678\, United States
END:VEVENT
BEGIN:VEVENT
DTSTART;TZID=America/Los_Angeles:20251110T180000
DTEND;TZID=America/Los_Angeles:20251110T190000
DTSTAMP:20260423T164359
CREATED:20240205T110618Z
LAST-MODIFIED:20240205T110656Z
UID:3785-1762797600-1762801200@events.aaplacer.org
SUMMARY:D21 Monthly Service Manual Study
DESCRIPTION:District 21 Zoom Credentials: Meeting ID: 223 661 3304\nPW: District21
URL:https://events.aaplacer.org/event/d21-monthly-service-manual-study/2025-11-10/
END:VEVENT
BEGIN:VEVENT
DTSTART;TZID=America/Los_Angeles:20251115T190000
DTEND;TZID=America/Los_Angeles:20251115T203000
DTSTAMP:20260423T164359
CREATED:20240113T214740Z
LAST-MODIFIED:20241002T235601Z
UID:3906-1763233200-1763238600@events.aaplacer.org
SUMMARY:RTNG Saturday Night Speaker Meeting
DESCRIPTION:Roseville Tuesday Night Group – Saturday Night Speaker Meeting
URL:https://events.aaplacer.org/event/rtng-saturday-night-speaker-meeting/2025-11-15/
LOCATION:Roseville Tuesday Night Group\, 315 Lincoln Street\, Roseville\, CA\, 95678\, United States
END:VEVENT
BEGIN:VEVENT
DTSTART;TZID=America/Los_Angeles:20251122T170000
DTEND;TZID=America/Los_Angeles:20251122T203000
DTSTAMP:20260423T164359
CREATED:20251027T235304Z
LAST-MODIFIED:20251027T235304Z
UID:4861-1763830800-1763843400@events.aaplacer.org
SUMMARY:Auburn Fellowship 50th Anniversary Dinner
DESCRIPTION:
URL:https://events.aaplacer.org/event/auburn-fellowship-50th-anniversary-dinner/
LOCATION:First Congregational Church Of Auburn\, 710 Auburn Ravine Road\, Auburn\, CA\, 95603\, United States
ORGANIZER;CN="Christy P.":MAILTO:1118Clparsons@gmail.com
END:VEVENT
BEGIN:VEVENT
DTSTART;TZID=America/Los_Angeles:20251122T190000
DTEND;TZID=America/Los_Angeles:20251122T203000
DTSTAMP:20260423T164359
CREATED:20240113T214740Z
LAST-MODIFIED:20241002T235602Z
UID:3907-1763838000-1763843400@events.aaplacer.org
SUMMARY:RTNG Saturday Night Speaker Meeting
DESCRIPTION:Roseville Tuesday Night Group – Saturday Night Speaker Meeting
URL:https://events.aaplacer.org/event/rtng-saturday-night-speaker-meeting/2025-11-22/
LOCATION:Roseville Tuesday Night Group\, 315 Lincoln Street\, Roseville\, CA\, 95678\, United States
END:VEVENT
BEGIN:VEVENT
DTSTART;TZID=America/Los_Angeles:20251125T180000
DTEND;TZID=America/Los_Angeles:20251125T190000
DTSTAMP:20260423T164359
CREATED:20220115T213047Z
LAST-MODIFIED:20240224T221442Z
UID:3614-1764093600-1764097200@events.aaplacer.org
SUMMARY:District Business Meeting
DESCRIPTION:Hybrid/Virtual login details: \nURL: https://zoom.us/j/2236613304\nMeeting ID: 223 661 3304\nPassword: District21
URL:https://events.aaplacer.org/event/district-business-meeting/2025-11-25/
LOCATION:534 Auburn Ravine Road\, 534 Auburn Ravine Road\, Auburn\, 95603\, United States
ORGANIZER;CN="Christina A.":MAILTO:dcm@aaplacer.org
END:VEVENT
BEGIN:VEVENT
DTSTART;TZID=America/Los_Angeles:20251128T160000
DTEND;TZID=America/Los_Angeles:20251128T173000
DTSTAMP:20260423T164359
CREATED:20240725T202711Z
LAST-MODIFIED:20240725T202711Z
UID:4458-1764345600-1764351000@events.aaplacer.org
SUMMARY:Accessiblity Interest Group (AIG) Monthly Zoom Meeting
DESCRIPTION:Zoom Meeting ID: 830 3187 6507  No password \nhttps://us06web.zoom.us/j/83031876507 \n \n 
URL:https://events.aaplacer.org/event/accessiblity-interest-group-aig-monthly-zoom-meeting/2025-11-28/
END:VEVENT
BEGIN:VEVENT
DTSTART;TZID=America/Los_Angeles:20251129T190000
DTEND;TZID=America/Los_Angeles:20251129T203000
DTSTAMP:20260423T164359
CREATED:20240113T214740Z
LAST-MODIFIED:20241002T235602Z
UID:3908-1764442800-1764448200@events.aaplacer.org
SUMMARY:RTNG Saturday Night Speaker Meeting
DESCRIPTION:Roseville Tuesday Night Group – Saturday Night Speaker Meeting
URL:https://events.aaplacer.org/event/rtng-saturday-night-speaker-meeting/2025-11-29/
LOCATION:Roseville Tuesday Night Group\, 315 Lincoln Street\, Roseville\, CA\, 95678\, United States
END:VEVENT
BEGIN:VEVENT
DTSTART;TZID=America/Los_Angeles:20251130T160000
DTEND;TZID=America/Los_Angeles:20251130T173000
DTSTAMP:20260423T164359
CREATED:20240725T202711Z
LAST-MODIFIED:20240725T202711Z
UID:4459-1764518400-1764523800@events.aaplacer.org
SUMMARY:Accessiblity Interest Group (AIG) Monthly Zoom Meeting
DESCRIPTION:Zoom Meeting ID: 830 3187 6507  No password \nhttps://us06web.zoom.us/j/83031876507 \n \n 
URL:https://events.aaplacer.org/event/accessiblity-interest-group-aig-monthly-zoom-meeting/2025-11-30/
END:VEVENT
END:VCALENDAR