BEGIN:VCALENDAR
VERSION:2.0
PRODID:-//CNIA 07, District 21 Events - ECPv6.8.3//NONSGML v1.0//EN
CALSCALE:GREGORIAN
METHOD:PUBLISH
X-WR-CALNAME:CNIA 07, District 21 Events
X-ORIGINAL-URL:https://events.aaplacer.org
X-WR-CALDESC:Events for CNIA 07, District 21 Events
REFRESH-INTERVAL;VALUE=DURATION:PT1H
X-Robots-Tag:noindex
X-PUBLISHED-TTL:PT1H
BEGIN:VTIMEZONE
TZID:America/Los_Angeles
BEGIN:DAYLIGHT
TZOFFSETFROM:-0800
TZOFFSETTO:-0700
TZNAME:PDT
DTSTART:20230312T100000
END:DAYLIGHT
BEGIN:STANDARD
TZOFFSETFROM:-0700
TZOFFSETTO:-0800
TZNAME:PST
DTSTART:20231105T090000
END:STANDARD
END:VTIMEZONE
BEGIN:VEVENT
DTSTART;TZID=America/Los_Angeles:20231213T180000
DTEND;TZID=America/Los_Angeles:20231213T193000
DTSTAMP:20260425T064955
CREATED:20231210T182047Z
LAST-MODIFIED:20231210T182047Z
UID:3623-1702490400-1702495800@events.aaplacer.org
SUMMARY:Eden Valley Group Potluck 2023
DESCRIPTION:
URL:https://events.aaplacer.org/event/eden-valley-group-potluck-2023/
LOCATION:Applegate Community Center\, 18014 Applegate Road\, Colfax\, CA\, 95713\, United States
END:VEVENT
BEGIN:VEVENT
DTSTART;TZID=America/Los_Angeles:20231219T180000
DTEND;TZID=America/Los_Angeles:20231219T190000
DTSTAMP:20260425T064955
CREATED:20220115T213047Z
LAST-MODIFIED:20231210T162053Z
UID:118-1703008800-1703012400@events.aaplacer.org
SUMMARY:District Business Meeting
DESCRIPTION:Hybrid/Virtual login details: \nURL: https://zoom.us/j/2236613304\nMeeting ID: 223 661 3304\nPassword: District21
URL:https://events.aaplacer.org/event/district-business-meeting-2023-12-19/
LOCATION:534 Auburn Ravine Road\, 534 Auburn Ravine Road\, Auburn\, 95603\, United States
ORGANIZER;CN="Sam P.":MAILTO:dcm@aaplacer.org
END:VEVENT
BEGIN:VEVENT
DTSTART;TZID=America/Los_Angeles:20231229T180000
DTEND;TZID=America/Los_Angeles:20231229T203000
DTSTAMP:20260425T064955
CREATED:20231212T220240Z
LAST-MODIFIED:20231212T221922Z
UID:3636-1703872800-1703881800@events.aaplacer.org
SUMMARY:Good for Nothing Fellowship - A.A. Workshop
DESCRIPTION:Speaker Bob D. from Las Vegas – Bring Your Big Book \n6pm Food and 7-8:30pm Workshop \nSuggested Donation $20.00 – Venmo @GFNMens
URL:https://events.aaplacer.org/event/a-a-workshop-speaker-bob-d/
LOCATION:Mosiac Church\, 4430 Granite Drive\, Rocklin\, CA\, 95677\, United States
END:VEVENT
BEGIN:VEVENT
DTSTART;TZID=America/Los_Angeles:20231230T170000
DTEND;TZID=America/Los_Angeles:20231230T220000
DTSTAMP:20260425T064955
CREATED:20231212T215406Z
LAST-MODIFIED:20231212T222041Z
UID:3631-1703955600-1703973600@events.aaplacer.org
SUMMARY:Drunk Squad - New Year Speaker - Bob D. from Las Vegas
DESCRIPTION:5pm – Pasta Bar\, Sobriety Trivia\, 50/50 Raffle\, Dessert & Coffee \n7pm – Speaker (Bob D. / Las Vegas)\, 50/50 Raffle Draw\, Fellowship \n$20 Suggested Donation – Pre-Register with Venmo @Claire-Lack-1
URL:https://events.aaplacer.org/event/new-year-speaker-bob-d-from-las-vegas/
LOCATION:Orangevale Grange\, 5807 Walnut Avenue\, Orangevale\, CA\, 95662\, United States
END:VEVENT
END:VCALENDAR