BEGIN:VCALENDAR
VERSION:2.0
PRODID:-//CNIA 07, District 21 Events - ECPv6.8.3//NONSGML v1.0//EN
CALSCALE:GREGORIAN
METHOD:PUBLISH
X-ORIGINAL-URL:https://events.aaplacer.org
X-WR-CALDESC:Events for CNIA 07, District 21 Events
REFRESH-INTERVAL;VALUE=DURATION:PT1H
X-Robots-Tag:noindex
X-PUBLISHED-TTL:PT1H
BEGIN:VTIMEZONE
TZID:America/Los_Angeles
BEGIN:DAYLIGHT
TZOFFSETFROM:-0800
TZOFFSETTO:-0700
TZNAME:PDT
DTSTART:20250309T100000
END:DAYLIGHT
BEGIN:STANDARD
TZOFFSETFROM:-0700
TZOFFSETTO:-0800
TZNAME:PST
DTSTART:20251102T090000
END:STANDARD
END:VTIMEZONE
BEGIN:VEVENT
DTSTART;TZID=America/Los_Angeles:20250120T193000
DTEND;TZID=America/Los_Angeles:20250120T203000
DTSTAMP:20260425T065641
CREATED:20231031T070120Z
LAST-MODIFIED:20231031T070120Z
UID:3566-1737401400-1737405000@events.aaplacer.org
SUMMARY:Back to Basics - Loomis
DESCRIPTION:
URL:https://events.aaplacer.org/event/back-to-basics-loomis-3/2025-01-20/
LOCATION:First United Methodist Church\, 6414 Brace Road\, Loomis\, 95622\, United States
END:VEVENT
BEGIN:VEVENT
DTSTART;TZID=America/Los_Angeles:20250123T193000
DTEND;TZID=America/Los_Angeles:20250123T203000
DTSTAMP:20260425T065641
CREATED:20220526T003633Z
LAST-MODIFIED:20230822T011459Z
UID:2328-1737660600-1737664200@events.aaplacer.org
SUMMARY:Back to Basics - Auburn Fellowship
DESCRIPTION:
URL:https://events.aaplacer.org/event/back-to-basics-auburn-fellowship/2025-01-23/
LOCATION:534 Auburn Ravine Road\, 534 Auburn Ravine Road\, Auburn\, 95603\, United States
END:VEVENT
BEGIN:VEVENT
DTSTART;TZID=America/Los_Angeles:20250125T190000
DTEND;TZID=America/Los_Angeles:20250125T203000
DTSTAMP:20260425T065641
CREATED:20240113T214740Z
LAST-MODIFIED:20241002T235523Z
UID:3864-1737831600-1737837000@events.aaplacer.org
SUMMARY:RTNG Saturday Night Speaker Meeting
DESCRIPTION:Roseville Tuesday Night Group – Saturday Night Speaker Meeting
URL:https://events.aaplacer.org/event/rtng-saturday-night-speaker-meeting/2025-01-25/
LOCATION:Roseville Tuesday Night Group\, 315 Lincoln Street\, Roseville\, CA\, 95678\, United States
END:VEVENT
BEGIN:VEVENT
DTSTART;TZID=America/Los_Angeles:20250126T160000
DTEND;TZID=America/Los_Angeles:20250126T173000
DTSTAMP:20260425T065641
CREATED:20240725T202711Z
LAST-MODIFIED:20240725T202711Z
UID:4439-1737907200-1737912600@events.aaplacer.org
SUMMARY:Accessiblity Interest Group (AIG) Monthly Zoom Meeting
DESCRIPTION:Zoom Meeting ID: 830 3187 6507  No password \nhttps://us06web.zoom.us/j/83031876507 \n \n 
URL:https://events.aaplacer.org/event/accessiblity-interest-group-aig-monthly-zoom-meeting/2025-01-26/
END:VEVENT
BEGIN:VEVENT
DTSTART;TZID=America/Los_Angeles:20250127T193000
DTEND;TZID=America/Los_Angeles:20250127T203000
DTSTAMP:20260425T065641
CREATED:20231031T070120Z
LAST-MODIFIED:20231031T070120Z
UID:3567-1738006200-1738009800@events.aaplacer.org
SUMMARY:Back to Basics - Loomis
DESCRIPTION:
URL:https://events.aaplacer.org/event/back-to-basics-loomis-3/2025-01-27/
LOCATION:First United Methodist Church\, 6414 Brace Road\, Loomis\, 95622\, United States
END:VEVENT
BEGIN:VEVENT
DTSTART;TZID=America/Los_Angeles:20250128T160000
DTEND;TZID=America/Los_Angeles:20250128T173000
DTSTAMP:20260425T065641
CREATED:20240725T202711Z
LAST-MODIFIED:20240725T202711Z
UID:4440-1738080000-1738085400@events.aaplacer.org
SUMMARY:Accessiblity Interest Group (AIG) Monthly Zoom Meeting
DESCRIPTION:Zoom Meeting ID: 830 3187 6507  No password \nhttps://us06web.zoom.us/j/83031876507 \n \n 
URL:https://events.aaplacer.org/event/accessiblity-interest-group-aig-monthly-zoom-meeting/2025-01-28/
END:VEVENT
BEGIN:VEVENT
DTSTART;TZID=America/Los_Angeles:20250128T180000
DTEND;TZID=America/Los_Angeles:20250128T190000
DTSTAMP:20260425T065641
CREATED:20220115T213047Z
LAST-MODIFIED:20240224T221425Z
UID:2331-1738087200-1738090800@events.aaplacer.org
SUMMARY:District Business Meeting
DESCRIPTION:Hybrid/Virtual login details: \nURL: https://zoom.us/j/2236613304\nMeeting ID: 223 661 3304\nPassword: District21
URL:https://events.aaplacer.org/event/district-business-meeting/2025-01-28/
LOCATION:534 Auburn Ravine Road\, 534 Auburn Ravine Road\, Auburn\, 95603\, United States
ORGANIZER;CN="Christina A.":MAILTO:dcm@aaplacer.org
END:VEVENT
BEGIN:VEVENT
DTSTART;TZID=America/Los_Angeles:20250129T183000
DTEND;TZID=America/Los_Angeles:20250129T210000
DTSTAMP:20260425T065641
CREATED:20220526T011757Z
LAST-MODIFIED:20220526T011757Z
UID:2332-1738175400-1738184400@events.aaplacer.org
SUMMARY:Eden Valley at Applegate Birthday Speaker Meeting
DESCRIPTION:
URL:https://events.aaplacer.org/event/eden-valley-at-applegate-birthday-speaker-meeting/2025-01-29/
LOCATION:Applegate Community Center\, 18014 Applegate Road\, Colfax\, CA\, 95713\, United States
END:VEVENT
BEGIN:VEVENT
DTSTART;TZID=America/Los_Angeles:20250130T190000
DTEND;TZID=America/Los_Angeles:20250130T200000
DTSTAMP:20260425T065641
CREATED:20220628T165014Z
LAST-MODIFIED:20220628T165014Z
UID:2333-1738263600-1738267200@events.aaplacer.org
SUMMARY:Bent Nickel Monthly Birthday Night Speaker Meeting
DESCRIPTION:
URL:https://events.aaplacer.org/event/bent-nickel-monthly-birthday-night-speaker-meeting/2025-01-30/
LOCATION:Calvary Bible Church\, 20801 Todd Valley Road\, Foresthill\, CA\, 95631\, United States
END:VEVENT
BEGIN:VEVENT
DTSTART;TZID=America/Los_Angeles:20250201T160000
DTEND;TZID=America/Los_Angeles:20250201T170000
DTSTAMP:20260425T065641
CREATED:20240125T195219Z
LAST-MODIFIED:20240804T222014Z
UID:3992-1738425600-1738429200@events.aaplacer.org
SUMMARY:PLAYPAA Business Meeting
DESCRIPTION:First Saturday of every month @ 4pm!  Come be of service.  Positions available.
URL:https://events.aaplacer.org/event/playpaa-business-meeting/2025-02-01/
LOCATION:5645 Rocklin Road\, Loomis\, CA\, 5645 Rocklin Road\, Loomis\, CA\, United States
END:VEVENT
BEGIN:VEVENT
DTSTART;TZID=America/Los_Angeles:20250201T180000
DTEND;TZID=America/Los_Angeles:20250201T203000
DTSTAMP:20260425T065641
CREATED:20250117T172626Z
LAST-MODIFIED:20250117T172626Z
UID:4718-1738432800-1738441800@events.aaplacer.org
SUMMARY:PLAYPAA Presents Rose & Thorn Bingo
DESCRIPTION:
URL:https://events.aaplacer.org/event/playpaa-presents-rose-thorn-bingo/
LOCATION:5645 Rocklin Road\, Loomis\, CA\, 5645 Rocklin Road\, Loomis\, CA\, United States
END:VEVENT
BEGIN:VEVENT
DTSTART;TZID=America/Los_Angeles:20250201T190000
DTEND;TZID=America/Los_Angeles:20250201T203000
DTSTAMP:20260425T065641
CREATED:20240113T214740Z
LAST-MODIFIED:20241002T235523Z
UID:3865-1738436400-1738441800@events.aaplacer.org
SUMMARY:RTNG Saturday Night Speaker Meeting
DESCRIPTION:Roseville Tuesday Night Group – Saturday Night Speaker Meeting
URL:https://events.aaplacer.org/event/rtng-saturday-night-speaker-meeting/2025-02-01/
LOCATION:Roseville Tuesday Night Group\, 315 Lincoln Street\, Roseville\, CA\, 95678\, United States
END:VEVENT
BEGIN:VEVENT
DTSTART;TZID=America/Los_Angeles:20250203T193000
DTEND;TZID=America/Los_Angeles:20250203T203000
DTSTAMP:20260425T065641
CREATED:20231031T070120Z
LAST-MODIFIED:20231031T070120Z
UID:3568-1738611000-1738614600@events.aaplacer.org
SUMMARY:Back to Basics - Loomis
DESCRIPTION:
URL:https://events.aaplacer.org/event/back-to-basics-loomis-3/2025-02-03/
LOCATION:First United Methodist Church\, 6414 Brace Road\, Loomis\, 95622\, United States
END:VEVENT
BEGIN:VEVENT
DTSTART;TZID=America/Los_Angeles:20250206T193000
DTEND;TZID=America/Los_Angeles:20250206T203000
DTSTAMP:20260425T065641
CREATED:20220526T003633Z
LAST-MODIFIED:20230822T011459Z
UID:2336-1738870200-1738873800@events.aaplacer.org
SUMMARY:Back to Basics - Auburn Fellowship
DESCRIPTION:
URL:https://events.aaplacer.org/event/back-to-basics-auburn-fellowship/2025-02-06/
LOCATION:534 Auburn Ravine Road\, 534 Auburn Ravine Road\, Auburn\, 95603\, United States
END:VEVENT
BEGIN:VEVENT
DTSTART;TZID=America/Los_Angeles:20250208T190000
DTEND;TZID=America/Los_Angeles:20250208T203000
DTSTAMP:20260425T065641
CREATED:20240113T214740Z
LAST-MODIFIED:20241002T235524Z
UID:3866-1739041200-1739046600@events.aaplacer.org
SUMMARY:RTNG Saturday Night Speaker Meeting
DESCRIPTION:Roseville Tuesday Night Group – Saturday Night Speaker Meeting
URL:https://events.aaplacer.org/event/rtng-saturday-night-speaker-meeting/2025-02-08/
LOCATION:Roseville Tuesday Night Group\, 315 Lincoln Street\, Roseville\, CA\, 95678\, United States
END:VEVENT
BEGIN:VEVENT
DTSTART;TZID=America/Los_Angeles:20250210T180000
DTEND;TZID=America/Los_Angeles:20250210T190000
DTSTAMP:20260425T065641
CREATED:20240205T110618Z
LAST-MODIFIED:20240205T110652Z
UID:3776-1739210400-1739214000@events.aaplacer.org
SUMMARY:D21 Monthly Service Manual Study
DESCRIPTION:District 21 Zoom Credentials: Meeting ID: 223 661 3304\nPW: District21
URL:https://events.aaplacer.org/event/d21-monthly-service-manual-study/2025-02-10/
END:VEVENT
BEGIN:VEVENT
DTSTART;TZID=America/Los_Angeles:20250210T193000
DTEND;TZID=America/Los_Angeles:20250210T203000
DTSTAMP:20260425T065641
CREATED:20231031T070120Z
LAST-MODIFIED:20231031T070120Z
UID:3569-1739215800-1739219400@events.aaplacer.org
SUMMARY:Back to Basics - Loomis
DESCRIPTION:
URL:https://events.aaplacer.org/event/back-to-basics-loomis-3/2025-02-10/
LOCATION:First United Methodist Church\, 6414 Brace Road\, Loomis\, 95622\, United States
END:VEVENT
BEGIN:VEVENT
DTSTART;TZID=America/Los_Angeles:20250212T180000
DTEND;TZID=America/Los_Angeles:20250212T193000
DTSTAMP:20260425T065641
CREATED:20250117T172439Z
LAST-MODIFIED:20250117T172439Z
UID:4713-1739383200-1739388600@events.aaplacer.org
SUMMARY:Eden Valley at Applegate Spaghetti Feed Pot Luck
DESCRIPTION:
URL:https://events.aaplacer.org/event/eden-valley-at-applegate-spaghetti-feed-pot-luck/
LOCATION:18014 Applegate Rd.\, 18014 Applegate Rd.\, Applegate\, California\, 95703
ORGANIZER;CN="Margaret D.":MAILTO:bammaaa@gmail.com
END:VEVENT
BEGIN:VEVENT
DTSTART;TZID=America/Los_Angeles:20250213T193000
DTEND;TZID=America/Los_Angeles:20250213T203000
DTSTAMP:20260425T065641
CREATED:20220526T003633Z
LAST-MODIFIED:20230822T011459Z
UID:2341-1739475000-1739478600@events.aaplacer.org
SUMMARY:Back to Basics - Auburn Fellowship
DESCRIPTION:
URL:https://events.aaplacer.org/event/back-to-basics-auburn-fellowship/2025-02-13/
LOCATION:534 Auburn Ravine Road\, 534 Auburn Ravine Road\, Auburn\, 95603\, United States
END:VEVENT
BEGIN:VEVENT
DTSTART;TZID=America/Los_Angeles:20250215T190000
DTEND;TZID=America/Los_Angeles:20250215T203000
DTSTAMP:20260425T065641
CREATED:20240113T214740Z
LAST-MODIFIED:20241002T235524Z
UID:3867-1739646000-1739651400@events.aaplacer.org
SUMMARY:RTNG Saturday Night Speaker Meeting
DESCRIPTION:Roseville Tuesday Night Group – Saturday Night Speaker Meeting
URL:https://events.aaplacer.org/event/rtng-saturday-night-speaker-meeting/2025-02-15/
LOCATION:Roseville Tuesday Night Group\, 315 Lincoln Street\, Roseville\, CA\, 95678\, United States
END:VEVENT
BEGIN:VEVENT
DTSTART;TZID=America/Los_Angeles:20250217T193000
DTEND;TZID=America/Los_Angeles:20250217T203000
DTSTAMP:20260425T065641
CREATED:20231031T070120Z
LAST-MODIFIED:20231031T070120Z
UID:3570-1739820600-1739824200@events.aaplacer.org
SUMMARY:Back to Basics - Loomis
DESCRIPTION:
URL:https://events.aaplacer.org/event/back-to-basics-loomis-3/2025-02-17/
LOCATION:First United Methodist Church\, 6414 Brace Road\, Loomis\, 95622\, United States
END:VEVENT
BEGIN:VEVENT
DTSTART;TZID=America/Los_Angeles:20250220T193000
DTEND;TZID=America/Los_Angeles:20250220T203000
DTSTAMP:20260425T065641
CREATED:20220526T003633Z
LAST-MODIFIED:20230822T011500Z
UID:2352-1740079800-1740083400@events.aaplacer.org
SUMMARY:Back to Basics - Auburn Fellowship
DESCRIPTION:
URL:https://events.aaplacer.org/event/back-to-basics-auburn-fellowship/2025-02-20/
LOCATION:534 Auburn Ravine Road\, 534 Auburn Ravine Road\, Auburn\, 95603\, United States
END:VEVENT
BEGIN:VEVENT
DTSTART;TZID=America/Los_Angeles:20250222T190000
DTEND;TZID=America/Los_Angeles:20250222T203000
DTSTAMP:20260425T065641
CREATED:20240113T214740Z
LAST-MODIFIED:20241002T235524Z
UID:3868-1740250800-1740256200@events.aaplacer.org
SUMMARY:RTNG Saturday Night Speaker Meeting
DESCRIPTION:Roseville Tuesday Night Group – Saturday Night Speaker Meeting
URL:https://events.aaplacer.org/event/rtng-saturday-night-speaker-meeting/2025-02-22/
LOCATION:Roseville Tuesday Night Group\, 315 Lincoln Street\, Roseville\, CA\, 95678\, United States
END:VEVENT
BEGIN:VEVENT
DTSTART;TZID=America/Los_Angeles:20250223T160000
DTEND;TZID=America/Los_Angeles:20250223T173000
DTSTAMP:20260425T065641
CREATED:20240725T202711Z
LAST-MODIFIED:20240725T202711Z
UID:4441-1740326400-1740331800@events.aaplacer.org
SUMMARY:Accessiblity Interest Group (AIG) Monthly Zoom Meeting
DESCRIPTION:Zoom Meeting ID: 830 3187 6507  No password \nhttps://us06web.zoom.us/j/83031876507 \n \n 
URL:https://events.aaplacer.org/event/accessiblity-interest-group-aig-monthly-zoom-meeting/2025-02-23/
END:VEVENT
BEGIN:VEVENT
DTSTART;TZID=America/Los_Angeles:20250224T193000
DTEND;TZID=America/Los_Angeles:20250224T203000
DTSTAMP:20260425T065641
CREATED:20231031T070120Z
LAST-MODIFIED:20231031T070120Z
UID:3571-1740425400-1740429000@events.aaplacer.org
SUMMARY:Back to Basics - Loomis
DESCRIPTION:
URL:https://events.aaplacer.org/event/back-to-basics-loomis-3/2025-02-24/
LOCATION:First United Methodist Church\, 6414 Brace Road\, Loomis\, 95622\, United States
END:VEVENT
BEGIN:VEVENT
DTSTART;TZID=America/Los_Angeles:20250225T180000
DTEND;TZID=America/Los_Angeles:20250225T190000
DTSTAMP:20260425T065641
CREATED:20220115T213047Z
LAST-MODIFIED:20240224T221437Z
UID:2417-1740506400-1740510000@events.aaplacer.org
SUMMARY:District Business Meeting
DESCRIPTION:Hybrid/Virtual login details: \nURL: https://zoom.us/j/2236613304\nMeeting ID: 223 661 3304\nPassword: District21
URL:https://events.aaplacer.org/event/district-business-meeting/2025-02-25/
LOCATION:534 Auburn Ravine Road\, 534 Auburn Ravine Road\, Auburn\, 95603\, United States
ORGANIZER;CN="Christina A.":MAILTO:dcm@aaplacer.org
END:VEVENT
BEGIN:VEVENT
DTSTART;TZID=America/Los_Angeles:20250226T183000
DTEND;TZID=America/Los_Angeles:20250226T210000
DTSTAMP:20260425T065641
CREATED:20220526T011757Z
LAST-MODIFIED:20220526T011757Z
UID:2418-1740594600-1740603600@events.aaplacer.org
SUMMARY:Eden Valley at Applegate Birthday Speaker Meeting
DESCRIPTION:
URL:https://events.aaplacer.org/event/eden-valley-at-applegate-birthday-speaker-meeting/2025-02-26/
LOCATION:Applegate Community Center\, 18014 Applegate Road\, Colfax\, CA\, 95713\, United States
END:VEVENT
BEGIN:VEVENT
DTSTART;TZID=America/Los_Angeles:20250227T190000
DTEND;TZID=America/Los_Angeles:20250227T200000
DTSTAMP:20260425T065641
CREATED:20220628T165014Z
LAST-MODIFIED:20220628T165014Z
UID:2419-1740682800-1740686400@events.aaplacer.org
SUMMARY:Bent Nickel Monthly Birthday Night Speaker Meeting
DESCRIPTION:
URL:https://events.aaplacer.org/event/bent-nickel-monthly-birthday-night-speaker-meeting/2025-02-27/
LOCATION:Calvary Bible Church\, 20801 Todd Valley Road\, Foresthill\, CA\, 95631\, United States
END:VEVENT
BEGIN:VEVENT
DTSTART;TZID=America/Los_Angeles:20250227T193000
DTEND;TZID=America/Los_Angeles:20250227T203000
DTSTAMP:20260425T065641
CREATED:20220526T003633Z
LAST-MODIFIED:20230822T011501Z
UID:2420-1740684600-1740688200@events.aaplacer.org
SUMMARY:Back to Basics - Auburn Fellowship
DESCRIPTION:
URL:https://events.aaplacer.org/event/back-to-basics-auburn-fellowship/2025-02-27/
LOCATION:534 Auburn Ravine Road\, 534 Auburn Ravine Road\, Auburn\, 95603\, United States
END:VEVENT
BEGIN:VEVENT
DTSTART;TZID=America/Los_Angeles:20250228T160000
DTEND;TZID=America/Los_Angeles:20250228T173000
DTSTAMP:20260425T065641
CREATED:20240725T202711Z
LAST-MODIFIED:20240725T202711Z
UID:4442-1740758400-1740763800@events.aaplacer.org
SUMMARY:Accessiblity Interest Group (AIG) Monthly Zoom Meeting
DESCRIPTION:Zoom Meeting ID: 830 3187 6507  No password \nhttps://us06web.zoom.us/j/83031876507 \n \n 
URL:https://events.aaplacer.org/event/accessiblity-interest-group-aig-monthly-zoom-meeting/2025-02-28/
END:VEVENT
END:VCALENDAR