BEGIN:VCALENDAR
VERSION:2.0
PRODID:-//CNIA 07, District 21 Events - ECPv6.8.3//NONSGML v1.0//EN
CALSCALE:GREGORIAN
METHOD:PUBLISH
X-ORIGINAL-URL:https://events.aaplacer.org
X-WR-CALDESC:Events for CNIA 07, District 21 Events
REFRESH-INTERVAL;VALUE=DURATION:PT1H
X-Robots-Tag:noindex
X-PUBLISHED-TTL:PT1H
BEGIN:VTIMEZONE
TZID:America/Los_Angeles
BEGIN:DAYLIGHT
TZOFFSETFROM:-0800
TZOFFSETTO:-0700
TZNAME:PDT
DTSTART:20240310T100000
END:DAYLIGHT
BEGIN:STANDARD
TZOFFSETFROM:-0700
TZOFFSETTO:-0800
TZNAME:PST
DTSTART:20241103T090000
END:STANDARD
END:VTIMEZONE
BEGIN:VEVENT
DTSTART;TZID=America/Los_Angeles:20240909T193000
DTEND;TZID=America/Los_Angeles:20240909T203000
DTSTAMP:20260425T082217
CREATED:20231031T070120Z
LAST-MODIFIED:20231031T070120Z
UID:3549-1725910200-1725913800@events.aaplacer.org
SUMMARY:Back to Basics - Loomis
DESCRIPTION:
URL:https://events.aaplacer.org/event/back-to-basics-loomis-3/2024-09-09/
LOCATION:First United Methodist Church\, 6414 Brace Road\, Loomis\, 95622\, United States
END:VEVENT
BEGIN:VEVENT
DTSTART;TZID=America/Los_Angeles:20240910T180000
DTEND;TZID=America/Los_Angeles:20240910T193000
DTSTAMP:20260425T082217
CREATED:20240711T010931Z
LAST-MODIFIED:20240711T010931Z
UID:4413-1725991200-1725996600@events.aaplacer.org
SUMMARY:Auburn : "The Man in the Bed" Skit and Ice Cream Social
DESCRIPTION:
URL:https://events.aaplacer.org/event/auburn-the-man-in-the-bed-skit-and-ice-cream-social/
LOCATION:CA
END:VEVENT
BEGIN:VEVENT
DTSTART;TZID=America/Los_Angeles:20240912T193000
DTEND;TZID=America/Los_Angeles:20240912T203000
DTSTAMP:20260425T082217
CREATED:20220526T003633Z
LAST-MODIFIED:20230822T011450Z
UID:1898-1726169400-1726173000@events.aaplacer.org
SUMMARY:Back to Basics - Auburn Fellowship
DESCRIPTION:
URL:https://events.aaplacer.org/event/back-to-basics-auburn-fellowship/2024-09-12/
LOCATION:534 Auburn Ravine Road\, 534 Auburn Ravine Road\, Auburn\, 95603\, United States
END:VEVENT
BEGIN:VEVENT
DTSTART;TZID=America/Los_Angeles:20240914T190000
DTEND;TZID=America/Los_Angeles:20240914T203000
DTSTAMP:20260425T082217
CREATED:20240113T214740Z
LAST-MODIFIED:20241002T235504Z
UID:3845-1726340400-1726345800@events.aaplacer.org
SUMMARY:RTNG Saturday Night Speaker Meeting
DESCRIPTION:Roseville Tuesday Night Group – Saturday Night Speaker Meeting
URL:https://events.aaplacer.org/event/rtng-saturday-night-speaker-meeting/2024-09-14/
LOCATION:Roseville Tuesday Night Group\, 315 Lincoln Street\, Roseville\, CA\, 95678\, United States
END:VEVENT
BEGIN:VEVENT
DTSTART;TZID=America/Los_Angeles:20240916T193000
DTEND;TZID=America/Los_Angeles:20240916T203000
DTSTAMP:20260425T082217
CREATED:20231031T070120Z
LAST-MODIFIED:20231031T070120Z
UID:3550-1726515000-1726518600@events.aaplacer.org
SUMMARY:Back to Basics - Loomis
DESCRIPTION:
URL:https://events.aaplacer.org/event/back-to-basics-loomis-3/2024-09-16/
LOCATION:First United Methodist Church\, 6414 Brace Road\, Loomis\, 95622\, United States
END:VEVENT
BEGIN:VEVENT
DTSTART;TZID=America/Los_Angeles:20240919T193000
DTEND;TZID=America/Los_Angeles:20240919T203000
DTSTAMP:20260425T082217
CREATED:20220526T003633Z
LAST-MODIFIED:20230822T011450Z
UID:1901-1726774200-1726777800@events.aaplacer.org
SUMMARY:Back to Basics - Auburn Fellowship
DESCRIPTION:
URL:https://events.aaplacer.org/event/back-to-basics-auburn-fellowship/2024-09-19/
LOCATION:534 Auburn Ravine Road\, 534 Auburn Ravine Road\, Auburn\, 95603\, United States
END:VEVENT
BEGIN:VEVENT
DTSTART;TZID=America/Los_Angeles:20240921T103000
DTEND;TZID=America/Los_Angeles:20240921T130000
DTSTAMP:20260425T082217
CREATED:20240627T050106Z
LAST-MODIFIED:20240702T171641Z
UID:4292-1726914600-1726923600@events.aaplacer.org
SUMMARY:Primordial Ooze 13th Anniversary Picnic
DESCRIPTION:
URL:https://events.aaplacer.org/event/primordial-ooze-13th-anniversary-picnic/
LOCATION:Kaseberg Park\, 1151 Rand Way\, Roseville\, CA\, 95747\, United States
ORGANIZER;CN="John E":MAILTO:jellis2003@yahoo.com
END:VEVENT
BEGIN:VEVENT
DTSTART;TZID=America/Los_Angeles:20240921T190000
DTEND;TZID=America/Los_Angeles:20240921T203000
DTSTAMP:20260425T082217
CREATED:20240113T214740Z
LAST-MODIFIED:20241002T235504Z
UID:3846-1726945200-1726950600@events.aaplacer.org
SUMMARY:RTNG Saturday Night Speaker Meeting
DESCRIPTION:Roseville Tuesday Night Group – Saturday Night Speaker Meeting
URL:https://events.aaplacer.org/event/rtng-saturday-night-speaker-meeting/2024-09-21/
LOCATION:Roseville Tuesday Night Group\, 315 Lincoln Street\, Roseville\, CA\, 95678\, United States
END:VEVENT
BEGIN:VEVENT
DTSTART;TZID=America/Los_Angeles:20240923T193000
DTEND;TZID=America/Los_Angeles:20240923T203000
DTSTAMP:20260425T082217
CREATED:20231031T070120Z
LAST-MODIFIED:20231031T070120Z
UID:3551-1727119800-1727123400@events.aaplacer.org
SUMMARY:Back to Basics - Loomis
DESCRIPTION:
URL:https://events.aaplacer.org/event/back-to-basics-loomis-3/2024-09-23/
LOCATION:First United Methodist Church\, 6414 Brace Road\, Loomis\, 95622\, United States
END:VEVENT
BEGIN:VEVENT
DTSTART;TZID=America/Los_Angeles:20240924T180000
DTEND;TZID=America/Los_Angeles:20240924T190000
DTSTAMP:20260425T082217
CREATED:20220115T213047Z
LAST-MODIFIED:20240224T221423Z
UID:1919-1727200800-1727204400@events.aaplacer.org
SUMMARY:District Business Meeting
DESCRIPTION:Hybrid/Virtual login details: \nURL: https://zoom.us/j/2236613304\nMeeting ID: 223 661 3304\nPassword: District21
URL:https://events.aaplacer.org/event/district-business-meeting/2024-09-24/
LOCATION:534 Auburn Ravine Road\, 534 Auburn Ravine Road\, Auburn\, 95603\, United States
ORGANIZER;CN="Christina A.":MAILTO:dcm@aaplacer.org
END:VEVENT
BEGIN:VEVENT
DTSTART;TZID=America/Los_Angeles:20240925T183000
DTEND;TZID=America/Los_Angeles:20240925T210000
DTSTAMP:20260425T082217
CREATED:20220526T011757Z
LAST-MODIFIED:20220526T011757Z
UID:1920-1727289000-1727298000@events.aaplacer.org
SUMMARY:Eden Valley at Applegate Birthday Speaker Meeting
DESCRIPTION:
URL:https://events.aaplacer.org/event/eden-valley-at-applegate-birthday-speaker-meeting/2024-09-25/
LOCATION:Applegate Community Center\, 18014 Applegate Road\, Colfax\, CA\, 95713\, United States
END:VEVENT
BEGIN:VEVENT
DTSTART;TZID=America/Los_Angeles:20240926T190000
DTEND;TZID=America/Los_Angeles:20240926T200000
DTSTAMP:20260425T082217
CREATED:20220628T165014Z
LAST-MODIFIED:20220628T165014Z
UID:1925-1727377200-1727380800@events.aaplacer.org
SUMMARY:Bent Nickel Monthly Birthday Night Speaker Meeting
DESCRIPTION:
URL:https://events.aaplacer.org/event/bent-nickel-monthly-birthday-night-speaker-meeting/2024-09-26/
LOCATION:Calvary Bible Church\, 20801 Todd Valley Road\, Foresthill\, CA\, 95631\, United States
END:VEVENT
BEGIN:VEVENT
DTSTART;TZID=America/Los_Angeles:20240926T193000
DTEND;TZID=America/Los_Angeles:20240926T203000
DTSTAMP:20260425T082217
CREATED:20220526T003633Z
LAST-MODIFIED:20230822T011451Z
UID:1926-1727379000-1727382600@events.aaplacer.org
SUMMARY:Back to Basics - Auburn Fellowship
DESCRIPTION:
URL:https://events.aaplacer.org/event/back-to-basics-auburn-fellowship/2024-09-26/
LOCATION:534 Auburn Ravine Road\, 534 Auburn Ravine Road\, Auburn\, 95603\, United States
END:VEVENT
BEGIN:VEVENT
DTSTART;TZID=America/Los_Angeles:20240928T160000
DTEND;TZID=America/Los_Angeles:20240928T173000
DTSTAMP:20260425T082217
CREATED:20240725T202711Z
LAST-MODIFIED:20240725T202711Z
UID:4431-1727539200-1727544600@events.aaplacer.org
SUMMARY:Accessiblity Interest Group (AIG) Monthly Zoom Meeting
DESCRIPTION:Zoom Meeting ID: 830 3187 6507  No password \nhttps://us06web.zoom.us/j/83031876507 \n \n 
URL:https://events.aaplacer.org/event/accessiblity-interest-group-aig-monthly-zoom-meeting/2024-09-28/
LOCATION:CA
END:VEVENT
BEGIN:VEVENT
DTSTART;TZID=America/Los_Angeles:20240928T190000
DTEND;TZID=America/Los_Angeles:20240928T203000
DTSTAMP:20260425T082217
CREATED:20240113T214740Z
LAST-MODIFIED:20241002T235505Z
UID:3847-1727550000-1727555400@events.aaplacer.org
SUMMARY:RTNG Saturday Night Speaker Meeting
DESCRIPTION:Roseville Tuesday Night Group – Saturday Night Speaker Meeting
URL:https://events.aaplacer.org/event/rtng-saturday-night-speaker-meeting/2024-09-28/
LOCATION:Roseville Tuesday Night Group\, 315 Lincoln Street\, Roseville\, CA\, 95678\, United States
END:VEVENT
BEGIN:VEVENT
DTSTART;TZID=America/Los_Angeles:20240929T160000
DTEND;TZID=America/Los_Angeles:20240929T173000
DTSTAMP:20260425T082217
CREATED:20240725T202711Z
LAST-MODIFIED:20240725T202711Z
UID:4432-1727625600-1727631000@events.aaplacer.org
SUMMARY:Accessiblity Interest Group (AIG) Monthly Zoom Meeting
DESCRIPTION:Zoom Meeting ID: 830 3187 6507  No password \nhttps://us06web.zoom.us/j/83031876507 \n \n 
URL:https://events.aaplacer.org/event/accessiblity-interest-group-aig-monthly-zoom-meeting/2024-09-29/
LOCATION:CA
END:VEVENT
BEGIN:VEVENT
DTSTART;TZID=America/Los_Angeles:20241003T193000
DTEND;TZID=America/Los_Angeles:20241003T203000
DTSTAMP:20260425T082217
CREATED:20220526T003633Z
LAST-MODIFIED:20230822T011451Z
UID:1928-1727983800-1727987400@events.aaplacer.org
SUMMARY:Back to Basics - Auburn Fellowship
DESCRIPTION:
URL:https://events.aaplacer.org/event/back-to-basics-auburn-fellowship/2024-10-03/
LOCATION:534 Auburn Ravine Road\, 534 Auburn Ravine Road\, Auburn\, 95603\, United States
END:VEVENT
BEGIN:VEVENT
DTSTART;TZID=America/Los_Angeles:20241004T080000
DTEND;TZID=America/Los_Angeles:20241004T170000
DTSTAMP:20260425T082217
CREATED:20240430T042148Z
LAST-MODIFIED:20240828T035831Z
UID:4228-1728028800-1728061200@events.aaplacer.org
SUMMARY:NCCCA Fall Conference
DESCRIPTION:
URL:https://events.aaplacer.org/event/nccca-fall-conference/2024-10-04/
LOCATION:Wyndham Hotel\, 5321 Date Avenue\, Sacramento\, CA\, 95841\, United States
END:VEVENT
BEGIN:VEVENT
DTSTART;TZID=America/Los_Angeles:20241005T080000
DTEND;TZID=America/Los_Angeles:20241005T170000
DTSTAMP:20260425T082217
CREATED:20240430T042148Z
LAST-MODIFIED:20240828T035834Z
UID:4502-1728115200-1728147600@events.aaplacer.org
SUMMARY:NCCCA Fall Conference
DESCRIPTION:
URL:https://events.aaplacer.org/event/nccca-fall-conference/2024-10-05/
LOCATION:Wyndham Hotel\, 5321 Date Avenue\, Sacramento\, CA\, 95841\, United States
END:VEVENT
BEGIN:VEVENT
DTSTART;TZID=America/Los_Angeles:20241005T160000
DTEND;TZID=America/Los_Angeles:20241005T170000
DTSTAMP:20260425T082217
CREATED:20240125T195219Z
LAST-MODIFIED:20240804T222012Z
UID:3988-1728144000-1728147600@events.aaplacer.org
SUMMARY:PLAYPAA Business Meeting
DESCRIPTION:First Saturday of every month @ 4pm!  Come be of service.  Positions available.
URL:https://events.aaplacer.org/event/playpaa-business-meeting/2024-10-05/
LOCATION:5645 Rocklin Road\, Loomis\, CA\, 5645 Rocklin Road\, Loomis\, CA\, United States
END:VEVENT
BEGIN:VEVENT
DTSTART;TZID=America/Los_Angeles:20241005T190000
DTEND;TZID=America/Los_Angeles:20241005T203000
DTSTAMP:20260425T082217
CREATED:20240113T214740Z
LAST-MODIFIED:20241002T235505Z
UID:3848-1728154800-1728160200@events.aaplacer.org
SUMMARY:RTNG Saturday Night Speaker Meeting
DESCRIPTION:Roseville Tuesday Night Group – Saturday Night Speaker Meeting
URL:https://events.aaplacer.org/event/rtng-saturday-night-speaker-meeting/2024-10-05/
LOCATION:Roseville Tuesday Night Group\, 315 Lincoln Street\, Roseville\, CA\, 95678\, United States
END:VEVENT
BEGIN:VEVENT
DTSTART;TZID=America/Los_Angeles:20241006T080000
DTEND;TZID=America/Los_Angeles:20241006T170000
DTSTAMP:20260425T082217
CREATED:20240430T042148Z
LAST-MODIFIED:20240828T035835Z
UID:4503-1728201600-1728234000@events.aaplacer.org
SUMMARY:NCCCA Fall Conference
DESCRIPTION:
URL:https://events.aaplacer.org/event/nccca-fall-conference/2024-10-06/
LOCATION:Wyndham Hotel\, 5321 Date Avenue\, Sacramento\, CA\, 95841\, United States
END:VEVENT
BEGIN:VEVENT
DTSTART;TZID=America/Los_Angeles:20241007T193000
DTEND;TZID=America/Los_Angeles:20241007T203000
DTSTAMP:20260425T082217
CREATED:20231031T070120Z
LAST-MODIFIED:20231031T070120Z
UID:3552-1728329400-1728333000@events.aaplacer.org
SUMMARY:Back to Basics - Loomis
DESCRIPTION:
URL:https://events.aaplacer.org/event/back-to-basics-loomis-3/2024-10-07/
LOCATION:First United Methodist Church\, 6414 Brace Road\, Loomis\, 95622\, United States
END:VEVENT
BEGIN:VEVENT
DTSTART;TZID=America/Los_Angeles:20241008T180000
DTEND;TZID=America/Los_Angeles:20241008T190000
DTSTAMP:20260425T082217
CREATED:20240911T184041Z
LAST-MODIFIED:20240911T184246Z
UID:4508-1728410400-1728414000@events.aaplacer.org
SUMMARY:Auburn Fellowship: DO YOU THINK YOU ARE DIFFERENT? Workshop
DESCRIPTION:
URL:https://events.aaplacer.org/event/do-you-think-you-are-different-workshop-october-8-2024/
LOCATION:534 Auburn Ravine Road\, 534 Auburn Ravine Road\, Auburn\, 95603\, United States
END:VEVENT
BEGIN:VEVENT
DTSTART;TZID=America/Los_Angeles:20241010T193000
DTEND;TZID=America/Los_Angeles:20241010T203000
DTSTAMP:20260425T082217
CREATED:20220526T003633Z
LAST-MODIFIED:20230822T011452Z
UID:1933-1728588600-1728592200@events.aaplacer.org
SUMMARY:Back to Basics - Auburn Fellowship
DESCRIPTION:
URL:https://events.aaplacer.org/event/back-to-basics-auburn-fellowship/2024-10-10/
LOCATION:534 Auburn Ravine Road\, 534 Auburn Ravine Road\, Auburn\, 95603\, United States
END:VEVENT
BEGIN:VEVENT
DTSTART;TZID=America/Los_Angeles:20241011T180000
DTEND;TZID=America/Los_Angeles:20241012T220000
DTSTAMP:20260425T082217
CREATED:20240322T164612Z
LAST-MODIFIED:20240322T164612Z
UID:4084-1728669600-1728770400@events.aaplacer.org
SUMMARY:Three Legacies Conference Oct 11-12
DESCRIPTION:The Love and Service Three Legacies Conference: October 11-12\, 2024\,  Event Cost $45 See Flyer for Details
URL:https://events.aaplacer.org/event/three-legacies-conference-oct-11-12/2024-10-11/
LOCATION:The Hope Center\, 2275 Morello Ave\, Pleasant Hill\, CA\, 94523\, United States
END:VEVENT
BEGIN:VEVENT
DTSTART;TZID=America/Los_Angeles:20241012T190000
DTEND;TZID=America/Los_Angeles:20241012T203000
DTSTAMP:20260425T082217
CREATED:20240113T214740Z
LAST-MODIFIED:20241002T235505Z
UID:3849-1728759600-1728765000@events.aaplacer.org
SUMMARY:RTNG Saturday Night Speaker Meeting
DESCRIPTION:Roseville Tuesday Night Group – Saturday Night Speaker Meeting
URL:https://events.aaplacer.org/event/rtng-saturday-night-speaker-meeting/2024-10-12/
LOCATION:Roseville Tuesday Night Group\, 315 Lincoln Street\, Roseville\, CA\, 95678\, United States
END:VEVENT
BEGIN:VEVENT
DTSTART;TZID=America/Los_Angeles:20241014T180000
DTEND;TZID=America/Los_Angeles:20241014T190000
DTSTAMP:20260425T082217
CREATED:20240205T110618Z
LAST-MODIFIED:20240205T110647Z
UID:3772-1728928800-1728932400@events.aaplacer.org
SUMMARY:D21 Monthly Service Manual Study
DESCRIPTION:District 21 Zoom Credentials: Meeting ID: 223 661 3304\nPW: District21
URL:https://events.aaplacer.org/event/d21-monthly-service-manual-study/2024-10-14/
LOCATION:CA
END:VEVENT
BEGIN:VEVENT
DTSTART;TZID=America/Los_Angeles:20241014T193000
DTEND;TZID=America/Los_Angeles:20241014T203000
DTSTAMP:20260425T082217
CREATED:20231031T070120Z
LAST-MODIFIED:20231031T070120Z
UID:3553-1728934200-1728937800@events.aaplacer.org
SUMMARY:Back to Basics - Loomis
DESCRIPTION:
URL:https://events.aaplacer.org/event/back-to-basics-loomis-3/2024-10-14/
LOCATION:First United Methodist Church\, 6414 Brace Road\, Loomis\, 95622\, United States
END:VEVENT
BEGIN:VEVENT
DTSTART;TZID=America/Los_Angeles:20241017T193000
DTEND;TZID=America/Los_Angeles:20241017T203000
DTSTAMP:20260425T082217
CREATED:20220526T003633Z
LAST-MODIFIED:20230822T011453Z
UID:1965-1729193400-1729197000@events.aaplacer.org
SUMMARY:Back to Basics - Auburn Fellowship
DESCRIPTION:
URL:https://events.aaplacer.org/event/back-to-basics-auburn-fellowship/2024-10-17/
LOCATION:534 Auburn Ravine Road\, 534 Auburn Ravine Road\, Auburn\, 95603\, United States
END:VEVENT
END:VCALENDAR