BEGIN:VCALENDAR
VERSION:2.0
PRODID:-//CNIA 07, District 21 Events - ECPv6.8.3//NONSGML v1.0//EN
CALSCALE:GREGORIAN
METHOD:PUBLISH
X-WR-CALNAME:CNIA 07, District 21 Events
X-ORIGINAL-URL:https://events.aaplacer.org
X-WR-CALDESC:Events for CNIA 07, District 21 Events
REFRESH-INTERVAL;VALUE=DURATION:PT1H
X-Robots-Tag:noindex
X-PUBLISHED-TTL:PT1H
BEGIN:VTIMEZONE
TZID:America/Los_Angeles
BEGIN:DAYLIGHT
TZOFFSETFROM:-0800
TZOFFSETTO:-0700
TZNAME:PDT
DTSTART:20240310T100000
END:DAYLIGHT
BEGIN:STANDARD
TZOFFSETFROM:-0700
TZOFFSETTO:-0800
TZNAME:PST
DTSTART:20241103T090000
END:STANDARD
END:VTIMEZONE
BEGIN:VEVENT
DTSTART;TZID=America/Los_Angeles:20241214T190000
DTEND;TZID=America/Los_Angeles:20241214T203000
DTSTAMP:20260425T043423
CREATED:20240113T214740Z
LAST-MODIFIED:20241002T235521Z
UID:3858-1734202800-1734208200@events.aaplacer.org
SUMMARY:RTNG Saturday Night Speaker Meeting
DESCRIPTION:Roseville Tuesday Night Group – Saturday Night Speaker Meeting
URL:https://events.aaplacer.org/event/rtng-saturday-night-speaker-meeting/2024-12-14/
LOCATION:Roseville Tuesday Night Group\, 315 Lincoln Street\, Roseville\, CA\, 95678\, United States
END:VEVENT
BEGIN:VEVENT
DTSTART;TZID=America/Los_Angeles:20241212T193000
DTEND;TZID=America/Los_Angeles:20241212T203000
DTSTAMP:20260425T043423
CREATED:20220526T003633Z
LAST-MODIFIED:20230822T011456Z
UID:2123-1734031800-1734035400@events.aaplacer.org
SUMMARY:Back to Basics - Auburn Fellowship
DESCRIPTION:
URL:https://events.aaplacer.org/event/back-to-basics-auburn-fellowship/2024-12-12/
LOCATION:534 Auburn Ravine Road\, 534 Auburn Ravine Road\, Auburn\, 95603\, United States
END:VEVENT
BEGIN:VEVENT
DTSTART;TZID=America/Los_Angeles:20241211T180000
DTEND;TZID=America/Los_Angeles:20241211T203000
DTSTAMP:20260425T043423
CREATED:20241111T193422Z
LAST-MODIFIED:20241111T193508Z
UID:4643-1733940000-1733949000@events.aaplacer.org
SUMMARY:Eden Valley Turkey BBQ and meeting
DESCRIPTION:Come join us for our annual turkey barbecue and potluck Dec 11. \nDoors open at 6:00 pm \nDinner at 6:30 pm followed with 50/50 raffle\nSpeaker at 7:30 pm \n21400 Placer Hills Rd\nColfax\, CA 95713
URL:https://events.aaplacer.org/event/eden-valley-turkey-bbq-and-meeting/
LOCATION:Eden Valley Community Center\, 21400 Placer Hills Rd\, Colfax\, CA\, 95713\, United States
END:VEVENT
BEGIN:VEVENT
DTSTART;TZID=America/Los_Angeles:20241209T193000
DTEND;TZID=America/Los_Angeles:20241209T203000
DTSTAMP:20260425T043423
CREATED:20231031T070120Z
LAST-MODIFIED:20231031T070120Z
UID:3561-1733772600-1733776200@events.aaplacer.org
SUMMARY:Back to Basics - Loomis
DESCRIPTION:
URL:https://events.aaplacer.org/event/back-to-basics-loomis-3/2024-12-09/
LOCATION:First United Methodist Church\, 6414 Brace Road\, Loomis\, 95622\, United States
END:VEVENT
BEGIN:VEVENT
DTSTART;TZID=America/Los_Angeles:20241209T180000
DTEND;TZID=America/Los_Angeles:20241209T190000
DTSTAMP:20260425T043423
CREATED:20240205T110618Z
LAST-MODIFIED:20240205T110648Z
UID:3774-1733767200-1733770800@events.aaplacer.org
SUMMARY:D21 Monthly Service Manual Study
DESCRIPTION:District 21 Zoom Credentials: Meeting ID: 223 661 3304\nPW: District21
URL:https://events.aaplacer.org/event/d21-monthly-service-manual-study/2024-12-09/
LOCATION:CA
END:VEVENT
BEGIN:VEVENT
DTSTART;TZID=America/Los_Angeles:20241207T190000
DTEND;TZID=America/Los_Angeles:20241207T203000
DTSTAMP:20260425T043423
CREATED:20240113T214740Z
LAST-MODIFIED:20241002T235521Z
UID:3857-1733598000-1733603400@events.aaplacer.org
SUMMARY:RTNG Saturday Night Speaker Meeting
DESCRIPTION:Roseville Tuesday Night Group – Saturday Night Speaker Meeting
URL:https://events.aaplacer.org/event/rtng-saturday-night-speaker-meeting/2024-12-07/
LOCATION:Roseville Tuesday Night Group\, 315 Lincoln Street\, Roseville\, CA\, 95678\, United States
END:VEVENT
BEGIN:VEVENT
DTSTART;TZID=America/Los_Angeles:20241207T160000
DTEND;TZID=America/Los_Angeles:20241207T170000
DTSTAMP:20260425T043423
CREATED:20240125T195219Z
LAST-MODIFIED:20240804T222012Z
UID:3990-1733587200-1733590800@events.aaplacer.org
SUMMARY:PLAYPAA Business Meeting
DESCRIPTION:First Saturday of every month @ 4pm!  Come be of service.  Positions available.
URL:https://events.aaplacer.org/event/playpaa-business-meeting/2024-12-07/
LOCATION:5645 Rocklin Road\, Loomis\, CA\, 5645 Rocklin Road\, Loomis\, CA\, United States
END:VEVENT
BEGIN:VEVENT
DTSTART;TZID=America/Los_Angeles:20241205T193000
DTEND;TZID=America/Los_Angeles:20241205T203000
DTSTAMP:20260425T043423
CREATED:20220526T003633Z
LAST-MODIFIED:20230822T011456Z
UID:2119-1733427000-1733430600@events.aaplacer.org
SUMMARY:Back to Basics - Auburn Fellowship
DESCRIPTION:
URL:https://events.aaplacer.org/event/back-to-basics-auburn-fellowship/2024-12-05/
LOCATION:534 Auburn Ravine Road\, 534 Auburn Ravine Road\, Auburn\, 95603\, United States
END:VEVENT
BEGIN:VEVENT
DTSTART;TZID=America/Los_Angeles:20241202T193000
DTEND;TZID=America/Los_Angeles:20241202T203000
DTSTAMP:20260425T043423
CREATED:20231031T070120Z
LAST-MODIFIED:20231031T070120Z
UID:3560-1733167800-1733171400@events.aaplacer.org
SUMMARY:Back to Basics - Loomis
DESCRIPTION:
URL:https://events.aaplacer.org/event/back-to-basics-loomis-3/2024-12-02/
LOCATION:First United Methodist Church\, 6414 Brace Road\, Loomis\, 95622\, United States
END:VEVENT
BEGIN:VEVENT
DTSTART;TZID=America/Los_Angeles:20241130T190000
DTEND;TZID=America/Los_Angeles:20241130T203000
DTSTAMP:20260425T043423
CREATED:20240113T214740Z
LAST-MODIFIED:20241002T235520Z
UID:3856-1732993200-1732998600@events.aaplacer.org
SUMMARY:RTNG Saturday Night Speaker Meeting
DESCRIPTION:Roseville Tuesday Night Group – Saturday Night Speaker Meeting
URL:https://events.aaplacer.org/event/rtng-saturday-night-speaker-meeting/2024-11-30/
LOCATION:Roseville Tuesday Night Group\, 315 Lincoln Street\, Roseville\, CA\, 95678\, United States
END:VEVENT
BEGIN:VEVENT
DTSTART;TZID=America/Los_Angeles:20241128T193000
DTEND;TZID=America/Los_Angeles:20241128T203000
DTSTAMP:20260425T043423
CREATED:20220526T003633Z
LAST-MODIFIED:20230822T011455Z
UID:2083-1732822200-1732825800@events.aaplacer.org
SUMMARY:Back to Basics - Auburn Fellowship
DESCRIPTION:
URL:https://events.aaplacer.org/event/back-to-basics-auburn-fellowship/2024-11-28/
LOCATION:534 Auburn Ravine Road\, 534 Auburn Ravine Road\, Auburn\, 95603\, United States
END:VEVENT
BEGIN:VEVENT
DTSTART;TZID=America/Los_Angeles:20241128T190000
DTEND;TZID=America/Los_Angeles:20241128T200000
DTSTAMP:20260425T043423
CREATED:20220628T165014Z
LAST-MODIFIED:20220628T165014Z
UID:2082-1732820400-1732824000@events.aaplacer.org
SUMMARY:Bent Nickel Monthly Birthday Night Speaker Meeting
DESCRIPTION:
URL:https://events.aaplacer.org/event/bent-nickel-monthly-birthday-night-speaker-meeting/2024-11-28/
LOCATION:Calvary Bible Church\, 20801 Todd Valley Road\, Foresthill\, CA\, 95631\, United States
END:VEVENT
BEGIN:VEVENT
DTSTART;TZID=America/Los_Angeles:20241128T160000
DTEND;TZID=America/Los_Angeles:20241128T173000
DTSTAMP:20260425T043423
CREATED:20240725T202711Z
LAST-MODIFIED:20240725T202711Z
UID:4436-1732809600-1732815000@events.aaplacer.org
SUMMARY:Accessiblity Interest Group (AIG) Monthly Zoom Meeting
DESCRIPTION:Zoom Meeting ID: 830 3187 6507  No password \nhttps://us06web.zoom.us/j/83031876507 \n \n 
URL:https://events.aaplacer.org/event/accessiblity-interest-group-aig-monthly-zoom-meeting/2024-11-28/
LOCATION:CA
END:VEVENT
BEGIN:VEVENT
DTSTART;TZID=America/Los_Angeles:20241127T183000
DTEND;TZID=America/Los_Angeles:20241127T210000
DTSTAMP:20260425T043423
CREATED:20220526T011757Z
LAST-MODIFIED:20220526T011757Z
UID:2081-1732732200-1732741200@events.aaplacer.org
SUMMARY:Eden Valley at Applegate Birthday Speaker Meeting
DESCRIPTION:
URL:https://events.aaplacer.org/event/eden-valley-at-applegate-birthday-speaker-meeting/2024-11-27/
LOCATION:Applegate Community Center\, 18014 Applegate Road\, Colfax\, CA\, 95713\, United States
END:VEVENT
BEGIN:VEVENT
DTSTART;TZID=America/Los_Angeles:20241126T180000
DTEND;TZID=America/Los_Angeles:20241126T190000
DTSTAMP:20260425T043423
CREATED:20220115T213047Z
LAST-MODIFIED:20240224T221424Z
UID:2080-1732644000-1732647600@events.aaplacer.org
SUMMARY:District Business Meeting
DESCRIPTION:Hybrid/Virtual login details: \nURL: https://zoom.us/j/2236613304\nMeeting ID: 223 661 3304\nPassword: District21
URL:https://events.aaplacer.org/event/district-business-meeting/2024-11-26/
LOCATION:534 Auburn Ravine Road\, 534 Auburn Ravine Road\, Auburn\, 95603\, United States
ORGANIZER;CN="Christina A.":MAILTO:dcm@aaplacer.org
END:VEVENT
BEGIN:VEVENT
DTSTART;TZID=America/Los_Angeles:20241125T193000
DTEND;TZID=America/Los_Angeles:20241125T203000
DTSTAMP:20260425T043423
CREATED:20231031T070120Z
LAST-MODIFIED:20231031T070120Z
UID:3559-1732563000-1732566600@events.aaplacer.org
SUMMARY:Back to Basics - Loomis
DESCRIPTION:
URL:https://events.aaplacer.org/event/back-to-basics-loomis-3/2024-11-25/
LOCATION:First United Methodist Church\, 6414 Brace Road\, Loomis\, 95622\, United States
END:VEVENT
BEGIN:VEVENT
DTSTART;TZID=America/Los_Angeles:20241124T160000
DTEND;TZID=America/Los_Angeles:20241124T173000
DTSTAMP:20260425T043423
CREATED:20240725T202711Z
LAST-MODIFIED:20240725T202711Z
UID:4435-1732464000-1732469400@events.aaplacer.org
SUMMARY:Accessiblity Interest Group (AIG) Monthly Zoom Meeting
DESCRIPTION:Zoom Meeting ID: 830 3187 6507  No password \nhttps://us06web.zoom.us/j/83031876507 \n \n 
URL:https://events.aaplacer.org/event/accessiblity-interest-group-aig-monthly-zoom-meeting/2024-11-24/
LOCATION:CA
END:VEVENT
BEGIN:VEVENT
DTSTART;TZID=America/Los_Angeles:20241123T190000
DTEND;TZID=America/Los_Angeles:20241123T203000
DTSTAMP:20260425T043423
CREATED:20240113T214740Z
LAST-MODIFIED:20241002T235520Z
UID:3855-1732388400-1732393800@events.aaplacer.org
SUMMARY:RTNG Saturday Night Speaker Meeting
DESCRIPTION:Roseville Tuesday Night Group – Saturday Night Speaker Meeting
URL:https://events.aaplacer.org/event/rtng-saturday-night-speaker-meeting/2024-11-23/
LOCATION:Roseville Tuesday Night Group\, 315 Lincoln Street\, Roseville\, CA\, 95678\, United States
END:VEVENT
BEGIN:VEVENT
DTSTART;TZID=America/Los_Angeles:20241121T193000
DTEND;TZID=America/Los_Angeles:20241121T203000
DTSTAMP:20260425T043423
CREATED:20220526T003633Z
LAST-MODIFIED:20230822T011455Z
UID:2078-1732217400-1732221000@events.aaplacer.org
SUMMARY:Back to Basics - Auburn Fellowship
DESCRIPTION:
URL:https://events.aaplacer.org/event/back-to-basics-auburn-fellowship/2024-11-21/
LOCATION:534 Auburn Ravine Road\, 534 Auburn Ravine Road\, Auburn\, 95603\, United States
END:VEVENT
BEGIN:VEVENT
DTSTART;TZID=America/Los_Angeles:20241118T193000
DTEND;TZID=America/Los_Angeles:20241118T203000
DTSTAMP:20260425T043423
CREATED:20231031T070120Z
LAST-MODIFIED:20231031T070120Z
UID:3558-1731958200-1731961800@events.aaplacer.org
SUMMARY:Back to Basics - Loomis
DESCRIPTION:
URL:https://events.aaplacer.org/event/back-to-basics-loomis-3/2024-11-18/
LOCATION:First United Methodist Church\, 6414 Brace Road\, Loomis\, 95622\, United States
END:VEVENT
BEGIN:VEVENT
DTSTART;TZID=America/Los_Angeles:20241116T190000
DTEND;TZID=America/Los_Angeles:20241116T203000
DTSTAMP:20260425T043423
CREATED:20240113T214740Z
LAST-MODIFIED:20241002T235507Z
UID:3854-1731783600-1731789000@events.aaplacer.org
SUMMARY:RTNG Saturday Night Speaker Meeting
DESCRIPTION:Roseville Tuesday Night Group – Saturday Night Speaker Meeting
URL:https://events.aaplacer.org/event/rtng-saturday-night-speaker-meeting/2024-11-16/
LOCATION:Roseville Tuesday Night Group\, 315 Lincoln Street\, Roseville\, CA\, 95678\, United States
END:VEVENT
BEGIN:VEVENT
DTSTART;TZID=America/Los_Angeles:20241116T140000
DTEND;TZID=America/Los_Angeles:20241116T150000
DTSTAMP:20260425T043423
CREATED:20241017T192116Z
LAST-MODIFIED:20241017T192116Z
UID:4637-1731765600-1731769200@events.aaplacer.org
SUMMARY:11/16/24 H&I Auburn Workshop
DESCRIPTION:
URL:https://events.aaplacer.org/event/11-16-24-hi-auburn-workshop/
LOCATION:Auburn Fellowship\, 244 Palm Avenue\, Auburn\, CA\, 95604\, United States
END:VEVENT
BEGIN:VEVENT
DTSTART;TZID=America/Los_Angeles:20241114T193000
DTEND;TZID=America/Los_Angeles:20241114T203000
DTSTAMP:20260425T043423
CREATED:20220526T003633Z
LAST-MODIFIED:20230822T011454Z
UID:2008-1731612600-1731616200@events.aaplacer.org
SUMMARY:Back to Basics - Auburn Fellowship
DESCRIPTION:
URL:https://events.aaplacer.org/event/back-to-basics-auburn-fellowship/2024-11-14/
LOCATION:534 Auburn Ravine Road\, 534 Auburn Ravine Road\, Auburn\, 95603\, United States
END:VEVENT
BEGIN:VEVENT
DTSTART;TZID=America/Los_Angeles:20241111T193000
DTEND;TZID=America/Los_Angeles:20241111T203000
DTSTAMP:20260425T043423
CREATED:20231031T070120Z
LAST-MODIFIED:20231031T070120Z
UID:3557-1731353400-1731357000@events.aaplacer.org
SUMMARY:Back to Basics - Loomis
DESCRIPTION:
URL:https://events.aaplacer.org/event/back-to-basics-loomis-3/2024-11-11/
LOCATION:First United Methodist Church\, 6414 Brace Road\, Loomis\, 95622\, United States
END:VEVENT
BEGIN:VEVENT
DTSTART;TZID=America/Los_Angeles:20241111T180000
DTEND;TZID=America/Los_Angeles:20241111T190000
DTSTAMP:20260425T043423
CREATED:20240205T110618Z
LAST-MODIFIED:20240205T110648Z
UID:3773-1731348000-1731351600@events.aaplacer.org
SUMMARY:D21 Monthly Service Manual Study
DESCRIPTION:District 21 Zoom Credentials: Meeting ID: 223 661 3304\nPW: District21
URL:https://events.aaplacer.org/event/d21-monthly-service-manual-study/2024-11-11/
LOCATION:CA
END:VEVENT
BEGIN:VEVENT
DTSTART;TZID=America/Los_Angeles:20241110T180000
DTEND;TZID=America/Los_Angeles:20241110T210000
DTSTAMP:20260425T043423
CREATED:20241009T151707Z
LAST-MODIFIED:20241009T151707Z
UID:4633-1731261600-1731272400@events.aaplacer.org
SUMMARY:49th Anniversary Celebration Roseville Eastside Group
DESCRIPTION:
URL:https://events.aaplacer.org/event/49th-anniversary-celebration-roseville-eastside-group/
LOCATION:Roseville Seventh-Day Adventist Church\, 914 Cirby Way\, Roseville\, CA\, 95678\, United States
END:VEVENT
BEGIN:VEVENT
DTSTART;TZID=America/Los_Angeles:20241109T190000
DTEND;TZID=America/Los_Angeles:20241109T203000
DTSTAMP:20260425T043423
CREATED:20240113T214740Z
LAST-MODIFIED:20241002T235506Z
UID:3853-1731178800-1731184200@events.aaplacer.org
SUMMARY:RTNG Saturday Night Speaker Meeting
DESCRIPTION:Roseville Tuesday Night Group – Saturday Night Speaker Meeting
URL:https://events.aaplacer.org/event/rtng-saturday-night-speaker-meeting/2024-11-09/
LOCATION:Roseville Tuesday Night Group\, 315 Lincoln Street\, Roseville\, CA\, 95678\, United States
END:VEVENT
BEGIN:VEVENT
DTSTART;TZID=America/Los_Angeles:20241109T150000
DTEND;TZID=America/Los_Angeles:20241109T170000
DTSTAMP:20260425T043423
CREATED:20240924T202811Z
LAST-MODIFIED:20240924T202811Z
UID:4517-1731164400-1731171600@events.aaplacer.org
SUMMARY:Writing for the Grapevine Workshop
DESCRIPTION:6015 Pacific Street\, UNIT 6\, Rocklin
URL:https://events.aaplacer.org/event/writing-for-the-grapevine-workshop/
LOCATION:Rocklin Fellowship\, 6015 Pacific St. #6\, Rocklin\, CA\, 95677\, United States
END:VEVENT
BEGIN:VEVENT
DTSTART;TZID=America/Los_Angeles:20241107T193000
DTEND;TZID=America/Los_Angeles:20241107T203000
DTSTAMP:20260425T043423
CREATED:20220526T003633Z
LAST-MODIFIED:20230822T011454Z
UID:2003-1731007800-1731011400@events.aaplacer.org
SUMMARY:Back to Basics - Auburn Fellowship
DESCRIPTION:
URL:https://events.aaplacer.org/event/back-to-basics-auburn-fellowship/2024-11-07/
LOCATION:534 Auburn Ravine Road\, 534 Auburn Ravine Road\, Auburn\, 95603\, United States
END:VEVENT
BEGIN:VEVENT
DTSTART;TZID=America/Los_Angeles:20241105T170000
DTEND;TZID=America/Los_Angeles:20241105T200000
DTSTAMP:20260425T043423
CREATED:20240924T201532Z
LAST-MODIFIED:20240924T201532Z
UID:4513-1730826000-1730836800@events.aaplacer.org
SUMMARY:2024 District 21 Service Fair - Roseville
DESCRIPTION:
URL:https://events.aaplacer.org/event/2024-district-21-service-fair-roseville/
LOCATION:725 Vernon Street\, Roseville\, CA 95678\, 725 Vernon Street\, Roseville\, CA\, 95678\, United States
END:VEVENT
END:VCALENDAR