BEGIN:VCALENDAR
VERSION:2.0
PRODID:-//CNIA 07, District 21 Events - ECPv6.8.3//NONSGML v1.0//EN
CALSCALE:GREGORIAN
METHOD:PUBLISH
X-WR-CALNAME:CNIA 07, District 21 Events
X-ORIGINAL-URL:https://events.aaplacer.org
X-WR-CALDESC:Events for CNIA 07, District 21 Events
REFRESH-INTERVAL;VALUE=DURATION:PT1H
X-Robots-Tag:noindex
X-PUBLISHED-TTL:PT1H
BEGIN:VTIMEZONE
TZID:America/Los_Angeles
BEGIN:DAYLIGHT
TZOFFSETFROM:-0800
TZOFFSETTO:-0700
TZNAME:PDT
DTSTART:20250309T100000
END:DAYLIGHT
BEGIN:STANDARD
TZOFFSETFROM:-0700
TZOFFSETTO:-0800
TZNAME:PST
DTSTART:20251102T090000
END:STANDARD
END:VTIMEZONE
BEGIN:VEVENT
DTSTART;TZID=America/Los_Angeles:20250223T160000
DTEND;TZID=America/Los_Angeles:20250223T173000
DTSTAMP:20260425T094206
CREATED:20240725T202711Z
LAST-MODIFIED:20240725T202711Z
UID:4441-1740326400-1740331800@events.aaplacer.org
SUMMARY:Accessiblity Interest Group (AIG) Monthly Zoom Meeting
DESCRIPTION:Zoom Meeting ID: 830 3187 6507  No password \nhttps://us06web.zoom.us/j/83031876507 \n \n 
URL:https://events.aaplacer.org/event/accessiblity-interest-group-aig-monthly-zoom-meeting/2025-02-23/
END:VEVENT
BEGIN:VEVENT
DTSTART;TZID=America/Los_Angeles:20250224T193000
DTEND;TZID=America/Los_Angeles:20250224T203000
DTSTAMP:20260425T094206
CREATED:20231031T070120Z
LAST-MODIFIED:20231031T070120Z
UID:3571-1740425400-1740429000@events.aaplacer.org
SUMMARY:Back to Basics - Loomis
DESCRIPTION:
URL:https://events.aaplacer.org/event/back-to-basics-loomis-3/2025-02-24/
LOCATION:First United Methodist Church\, 6414 Brace Road\, Loomis\, 95622\, United States
END:VEVENT
BEGIN:VEVENT
DTSTART;TZID=America/Los_Angeles:20250225T180000
DTEND;TZID=America/Los_Angeles:20250225T190000
DTSTAMP:20260425T094206
CREATED:20220115T213047Z
LAST-MODIFIED:20240224T221437Z
UID:2417-1740506400-1740510000@events.aaplacer.org
SUMMARY:District Business Meeting
DESCRIPTION:Hybrid/Virtual login details: \nURL: https://zoom.us/j/2236613304\nMeeting ID: 223 661 3304\nPassword: District21
URL:https://events.aaplacer.org/event/district-business-meeting/2025-02-25/
LOCATION:534 Auburn Ravine Road\, 534 Auburn Ravine Road\, Auburn\, 95603\, United States
ORGANIZER;CN="Christina A.":MAILTO:dcm@aaplacer.org
END:VEVENT
BEGIN:VEVENT
DTSTART;TZID=America/Los_Angeles:20250226T183000
DTEND;TZID=America/Los_Angeles:20250226T210000
DTSTAMP:20260425T094206
CREATED:20220526T011757Z
LAST-MODIFIED:20220526T011757Z
UID:2418-1740594600-1740603600@events.aaplacer.org
SUMMARY:Eden Valley at Applegate Birthday Speaker Meeting
DESCRIPTION:
URL:https://events.aaplacer.org/event/eden-valley-at-applegate-birthday-speaker-meeting/2025-02-26/
LOCATION:Applegate Community Center\, 18014 Applegate Road\, Colfax\, CA\, 95713\, United States
END:VEVENT
BEGIN:VEVENT
DTSTART;TZID=America/Los_Angeles:20250227T190000
DTEND;TZID=America/Los_Angeles:20250227T200000
DTSTAMP:20260425T094206
CREATED:20220628T165014Z
LAST-MODIFIED:20220628T165014Z
UID:2419-1740682800-1740686400@events.aaplacer.org
SUMMARY:Bent Nickel Monthly Birthday Night Speaker Meeting
DESCRIPTION:
URL:https://events.aaplacer.org/event/bent-nickel-monthly-birthday-night-speaker-meeting/2025-02-27/
LOCATION:Calvary Bible Church\, 20801 Todd Valley Road\, Foresthill\, CA\, 95631\, United States
END:VEVENT
BEGIN:VEVENT
DTSTART;TZID=America/Los_Angeles:20250227T193000
DTEND;TZID=America/Los_Angeles:20250227T203000
DTSTAMP:20260425T094206
CREATED:20220526T003633Z
LAST-MODIFIED:20230822T011501Z
UID:2420-1740684600-1740688200@events.aaplacer.org
SUMMARY:Back to Basics - Auburn Fellowship
DESCRIPTION:
URL:https://events.aaplacer.org/event/back-to-basics-auburn-fellowship/2025-02-27/
LOCATION:534 Auburn Ravine Road\, 534 Auburn Ravine Road\, Auburn\, 95603\, United States
END:VEVENT
BEGIN:VEVENT
DTSTART;TZID=America/Los_Angeles:20250228T160000
DTEND;TZID=America/Los_Angeles:20250228T173000
DTSTAMP:20260425T094206
CREATED:20240725T202711Z
LAST-MODIFIED:20240725T202711Z
UID:4442-1740758400-1740763800@events.aaplacer.org
SUMMARY:Accessiblity Interest Group (AIG) Monthly Zoom Meeting
DESCRIPTION:Zoom Meeting ID: 830 3187 6507  No password \nhttps://us06web.zoom.us/j/83031876507 \n \n 
URL:https://events.aaplacer.org/event/accessiblity-interest-group-aig-monthly-zoom-meeting/2025-02-28/
END:VEVENT
BEGIN:VEVENT
DTSTART;TZID=America/Los_Angeles:20250301T160000
DTEND;TZID=America/Los_Angeles:20250301T170000
DTSTAMP:20260425T094206
CREATED:20240125T195219Z
LAST-MODIFIED:20240804T222015Z
UID:3993-1740844800-1740848400@events.aaplacer.org
SUMMARY:PLAYPAA Business Meeting
DESCRIPTION:First Saturday of every month @ 4pm!  Come be of service.  Positions available.
URL:https://events.aaplacer.org/event/playpaa-business-meeting/2025-03-01/
LOCATION:5645 Rocklin Road\, Loomis\, CA\, 5645 Rocklin Road\, Loomis\, CA\, United States
END:VEVENT
BEGIN:VEVENT
DTSTART;TZID=America/Los_Angeles:20250301T190000
DTEND;TZID=America/Los_Angeles:20250301T203000
DTSTAMP:20260425T094206
CREATED:20240113T214740Z
LAST-MODIFIED:20241002T235525Z
UID:3869-1740855600-1740861000@events.aaplacer.org
SUMMARY:RTNG Saturday Night Speaker Meeting
DESCRIPTION:Roseville Tuesday Night Group – Saturday Night Speaker Meeting
URL:https://events.aaplacer.org/event/rtng-saturday-night-speaker-meeting/2025-03-01/
LOCATION:Roseville Tuesday Night Group\, 315 Lincoln Street\, Roseville\, CA\, 95678\, United States
END:VEVENT
BEGIN:VEVENT
DTSTART;TZID=America/Los_Angeles:20250301T190000
DTEND;TZID=America/Los_Angeles:20250301T203000
DTSTAMP:20260425T094206
CREATED:20250207T004837Z
LAST-MODIFIED:20250207T004837Z
UID:4727-1740855600-1740861000@events.aaplacer.org
SUMMARY:Rocklin Fellowship Quarterly Speaker Meeting
DESCRIPTION:Dessert Potluck Doors Open @ 6pm
URL:https://events.aaplacer.org/event/rocklin-fellowship-quarterly-speaker-meeting-2/
LOCATION:5480 5th Street\, 5480 5th Street\, Rocklin\, CA\, 95677\, United States
ORGANIZER;CN="Heather O.":MAILTO:heatherdanielson2121@yahoo.com
END:VEVENT
BEGIN:VEVENT
DTSTART;TZID=America/Los_Angeles:20250303T193000
DTEND;TZID=America/Los_Angeles:20250303T203000
DTSTAMP:20260425T094206
CREATED:20231031T070120Z
LAST-MODIFIED:20231031T070120Z
UID:3572-1741030200-1741033800@events.aaplacer.org
SUMMARY:Back to Basics - Loomis
DESCRIPTION:
URL:https://events.aaplacer.org/event/back-to-basics-loomis-3/2025-03-03/
LOCATION:First United Methodist Church\, 6414 Brace Road\, Loomis\, 95622\, United States
END:VEVENT
BEGIN:VEVENT
DTSTART;TZID=America/Los_Angeles:20250306T193000
DTEND;TZID=America/Los_Angeles:20250306T203000
DTSTAMP:20260425T094206
CREATED:20220526T003633Z
LAST-MODIFIED:20230822T011501Z
UID:2429-1741289400-1741293000@events.aaplacer.org
SUMMARY:Back to Basics - Auburn Fellowship
DESCRIPTION:
URL:https://events.aaplacer.org/event/back-to-basics-auburn-fellowship/2025-03-06/
LOCATION:534 Auburn Ravine Road\, 534 Auburn Ravine Road\, Auburn\, 95603\, United States
END:VEVENT
BEGIN:VEVENT
DTSTART;TZID=America/Los_Angeles:20250308T190000
DTEND;TZID=America/Los_Angeles:20250308T203000
DTSTAMP:20260425T094206
CREATED:20240113T214740Z
LAST-MODIFIED:20241002T235525Z
UID:3870-1741460400-1741465800@events.aaplacer.org
SUMMARY:RTNG Saturday Night Speaker Meeting
DESCRIPTION:Roseville Tuesday Night Group – Saturday Night Speaker Meeting
URL:https://events.aaplacer.org/event/rtng-saturday-night-speaker-meeting/2025-03-08/
LOCATION:Roseville Tuesday Night Group\, 315 Lincoln Street\, Roseville\, CA\, 95678\, United States
END:VEVENT
BEGIN:VEVENT
DTSTART;TZID=America/Los_Angeles:20250310T180000
DTEND;TZID=America/Los_Angeles:20250310T190000
DTSTAMP:20260425T094206
CREATED:20240205T110618Z
LAST-MODIFIED:20240205T110653Z
UID:3777-1741629600-1741633200@events.aaplacer.org
SUMMARY:D21 Monthly Service Manual Study
DESCRIPTION:District 21 Zoom Credentials: Meeting ID: 223 661 3304\nPW: District21
URL:https://events.aaplacer.org/event/d21-monthly-service-manual-study/2025-03-10/
END:VEVENT
BEGIN:VEVENT
DTSTART;TZID=America/Los_Angeles:20250310T183000
DTEND;TZID=America/Los_Angeles:20250310T193000
DTSTAMP:20260425T094206
CREATED:20250224T183454Z
LAST-MODIFIED:20250224T183454Z
UID:4736-1741631400-1741635000@events.aaplacer.org
SUMMARY:CCFAA Teleservice Virtual Workshop
DESCRIPTION:Zoom Meeting: 812 4256 3454
URL:https://events.aaplacer.org/event/ccfaa-teleservice-virtual-workshop/
ORGANIZER;CN="Elaine P.":MAILTO:teleserviceorientation@gmail.com
END:VEVENT
BEGIN:VEVENT
DTSTART;TZID=America/Los_Angeles:20250310T193000
DTEND;TZID=America/Los_Angeles:20250310T203000
DTSTAMP:20260425T094206
CREATED:20231031T070120Z
LAST-MODIFIED:20231031T070120Z
UID:3573-1741635000-1741638600@events.aaplacer.org
SUMMARY:Back to Basics - Loomis
DESCRIPTION:
URL:https://events.aaplacer.org/event/back-to-basics-loomis-3/2025-03-10/
LOCATION:First United Methodist Church\, 6414 Brace Road\, Loomis\, 95622\, United States
END:VEVENT
BEGIN:VEVENT
DTSTART;TZID=America/Los_Angeles:20250313T193000
DTEND;TZID=America/Los_Angeles:20250313T203000
DTSTAMP:20260425T094206
CREATED:20220526T003633Z
LAST-MODIFIED:20230822T011502Z
UID:2437-1741894200-1741897800@events.aaplacer.org
SUMMARY:Back to Basics - Auburn Fellowship
DESCRIPTION:
URL:https://events.aaplacer.org/event/back-to-basics-auburn-fellowship/2025-03-13/
LOCATION:534 Auburn Ravine Road\, 534 Auburn Ravine Road\, Auburn\, 95603\, United States
END:VEVENT
BEGIN:VEVENT
DTSTART;TZID=America/Los_Angeles:20250315T190000
DTEND;TZID=America/Los_Angeles:20250315T203000
DTSTAMP:20260425T094206
CREATED:20240113T214740Z
LAST-MODIFIED:20241002T235525Z
UID:3871-1742065200-1742070600@events.aaplacer.org
SUMMARY:RTNG Saturday Night Speaker Meeting
DESCRIPTION:Roseville Tuesday Night Group – Saturday Night Speaker Meeting
URL:https://events.aaplacer.org/event/rtng-saturday-night-speaker-meeting/2025-03-15/
LOCATION:Roseville Tuesday Night Group\, 315 Lincoln Street\, Roseville\, CA\, 95678\, United States
END:VEVENT
BEGIN:VEVENT
DTSTART;TZID=America/Los_Angeles:20250316T140000
DTEND;TZID=America/Los_Angeles:20250316T160000
DTSTAMP:20260425T094206
CREATED:20250218T222704Z
LAST-MODIFIED:20250218T222704Z
UID:4733-1742133600-1742140800@events.aaplacer.org
SUMMARY:2025 General Service Conference - Agenda Topics Workshop
DESCRIPTION:HYBRID Co-hosted by Districts 20/21/22\n\n\n\n\n\n\nIn-Person at Auburn Fellowship\, 534 Auburn Ravine Rd\, Auburn / Zoom login 223 661 3304/passcode District21
URL:https://events.aaplacer.org/event/2025-general-service-conference-agenda-topics-workshop/
LOCATION:534 Auburn Ravine Road\, 534 Auburn Ravine Road\, Auburn\, 95603\, United States
ORGANIZER;CN="Christina A.":MAILTO:dcm@aaplacer.org
END:VEVENT
BEGIN:VEVENT
DTSTART;TZID=America/Los_Angeles:20250317T193000
DTEND;TZID=America/Los_Angeles:20250317T203000
DTSTAMP:20260425T094206
CREATED:20231031T070120Z
LAST-MODIFIED:20231031T070120Z
UID:3574-1742239800-1742243400@events.aaplacer.org
SUMMARY:Back to Basics - Loomis
DESCRIPTION:
URL:https://events.aaplacer.org/event/back-to-basics-loomis-3/2025-03-17/
LOCATION:First United Methodist Church\, 6414 Brace Road\, Loomis\, 95622\, United States
END:VEVENT
BEGIN:VEVENT
DTSTART;TZID=America/Los_Angeles:20250320T193000
DTEND;TZID=America/Los_Angeles:20250320T203000
DTSTAMP:20260425T094206
CREATED:20220526T003633Z
LAST-MODIFIED:20230822T011503Z
UID:2441-1742499000-1742502600@events.aaplacer.org
SUMMARY:Back to Basics - Auburn Fellowship
DESCRIPTION:
URL:https://events.aaplacer.org/event/back-to-basics-auburn-fellowship/2025-03-20/
LOCATION:534 Auburn Ravine Road\, 534 Auburn Ravine Road\, Auburn\, 95603\, United States
END:VEVENT
BEGIN:VEVENT
DTSTART;TZID=America/Los_Angeles:20250322T190000
DTEND;TZID=America/Los_Angeles:20250322T203000
DTSTAMP:20260425T094206
CREATED:20240113T214740Z
LAST-MODIFIED:20241002T235526Z
UID:3872-1742670000-1742675400@events.aaplacer.org
SUMMARY:RTNG Saturday Night Speaker Meeting
DESCRIPTION:Roseville Tuesday Night Group – Saturday Night Speaker Meeting
URL:https://events.aaplacer.org/event/rtng-saturday-night-speaker-meeting/2025-03-22/
LOCATION:Roseville Tuesday Night Group\, 315 Lincoln Street\, Roseville\, CA\, 95678\, United States
END:VEVENT
BEGIN:VEVENT
DTSTART;TZID=America/Los_Angeles:20250324T193000
DTEND;TZID=America/Los_Angeles:20250324T203000
DTSTAMP:20260425T094206
CREATED:20231031T070120Z
LAST-MODIFIED:20231031T070120Z
UID:3575-1742844600-1742848200@events.aaplacer.org
SUMMARY:Back to Basics - Loomis
DESCRIPTION:
URL:https://events.aaplacer.org/event/back-to-basics-loomis-3/2025-03-24/
LOCATION:First United Methodist Church\, 6414 Brace Road\, Loomis\, 95622\, United States
END:VEVENT
BEGIN:VEVENT
DTSTART;TZID=America/Los_Angeles:20250325T180000
DTEND;TZID=America/Los_Angeles:20250325T190000
DTSTAMP:20260425T094206
CREATED:20220115T213047Z
LAST-MODIFIED:20240224T221438Z
UID:2444-1742925600-1742929200@events.aaplacer.org
SUMMARY:District Business Meeting
DESCRIPTION:Hybrid/Virtual login details: \nURL: https://zoom.us/j/2236613304\nMeeting ID: 223 661 3304\nPassword: District21
URL:https://events.aaplacer.org/event/district-business-meeting/2025-03-25/
LOCATION:534 Auburn Ravine Road\, 534 Auburn Ravine Road\, Auburn\, 95603\, United States
ORGANIZER;CN="Christina A.":MAILTO:dcm@aaplacer.org
END:VEVENT
BEGIN:VEVENT
DTSTART;TZID=America/Los_Angeles:20250326T183000
DTEND;TZID=America/Los_Angeles:20250326T210000
DTSTAMP:20260425T094206
CREATED:20220526T011757Z
LAST-MODIFIED:20220526T011757Z
UID:2445-1743013800-1743022800@events.aaplacer.org
SUMMARY:Eden Valley at Applegate Birthday Speaker Meeting
DESCRIPTION:
URL:https://events.aaplacer.org/event/eden-valley-at-applegate-birthday-speaker-meeting/2025-03-26/
LOCATION:Applegate Community Center\, 18014 Applegate Road\, Colfax\, CA\, 95713\, United States
END:VEVENT
BEGIN:VEVENT
DTSTART;TZID=America/Los_Angeles:20250327T190000
DTEND;TZID=America/Los_Angeles:20250327T200000
DTSTAMP:20260425T094206
CREATED:20220628T165014Z
LAST-MODIFIED:20220628T165014Z
UID:2446-1743102000-1743105600@events.aaplacer.org
SUMMARY:Bent Nickel Monthly Birthday Night Speaker Meeting
DESCRIPTION:
URL:https://events.aaplacer.org/event/bent-nickel-monthly-birthday-night-speaker-meeting/2025-03-27/
LOCATION:Calvary Bible Church\, 20801 Todd Valley Road\, Foresthill\, CA\, 95631\, United States
END:VEVENT
BEGIN:VEVENT
DTSTART;TZID=America/Los_Angeles:20250327T193000
DTEND;TZID=America/Los_Angeles:20250327T203000
DTSTAMP:20260425T094206
CREATED:20220526T003633Z
LAST-MODIFIED:20230822T011504Z
UID:2447-1743103800-1743107400@events.aaplacer.org
SUMMARY:Back to Basics - Auburn Fellowship
DESCRIPTION:
URL:https://events.aaplacer.org/event/back-to-basics-auburn-fellowship/2025-03-27/
LOCATION:534 Auburn Ravine Road\, 534 Auburn Ravine Road\, Auburn\, 95603\, United States
END:VEVENT
BEGIN:VEVENT
DTSTART;TZID=America/Los_Angeles:20250328T160000
DTEND;TZID=America/Los_Angeles:20250328T173000
DTSTAMP:20260425T094206
CREATED:20240725T202711Z
LAST-MODIFIED:20240725T202711Z
UID:4443-1743177600-1743183000@events.aaplacer.org
SUMMARY:Accessiblity Interest Group (AIG) Monthly Zoom Meeting
DESCRIPTION:Zoom Meeting ID: 830 3187 6507  No password \nhttps://us06web.zoom.us/j/83031876507 \n \n 
URL:https://events.aaplacer.org/event/accessiblity-interest-group-aig-monthly-zoom-meeting/2025-03-28/
END:VEVENT
BEGIN:VEVENT
DTSTART;TZID=America/Los_Angeles:20250329T090000
DTEND;TZID=America/Los_Angeles:20250329T170000
DTSTAMP:20260425T094206
CREATED:20250203T171509Z
LAST-MODIFIED:20250203T171509Z
UID:4723-1743238800-1743267600@events.aaplacer.org
SUMMARY:Unity Day
DESCRIPTION:
URL:https://events.aaplacer.org/event/unity-day/
LOCATION:Auburn Grace Community Church\, 3126 Olympic Way\, Auburn\, CA\, 95603\, United States
ORGANIZER;CN="Julianne C.":MAILTO:jshineon9@gmail.com
END:VEVENT
BEGIN:VEVENT
DTSTART;TZID=America/Los_Angeles:20250329T190000
DTEND;TZID=America/Los_Angeles:20250329T203000
DTSTAMP:20260425T094206
CREATED:20240113T214740Z
LAST-MODIFIED:20241002T235526Z
UID:3873-1743274800-1743280200@events.aaplacer.org
SUMMARY:RTNG Saturday Night Speaker Meeting
DESCRIPTION:Roseville Tuesday Night Group – Saturday Night Speaker Meeting
URL:https://events.aaplacer.org/event/rtng-saturday-night-speaker-meeting/2025-03-29/
LOCATION:Roseville Tuesday Night Group\, 315 Lincoln Street\, Roseville\, CA\, 95678\, United States
END:VEVENT
END:VCALENDAR