BEGIN:VCALENDAR
VERSION:2.0
PRODID:-//CNIA 07, District 21 Events - ECPv6.8.3//NONSGML v1.0//EN
CALSCALE:GREGORIAN
METHOD:PUBLISH
X-WR-CALNAME:CNIA 07, District 21 Events
X-ORIGINAL-URL:https://events.aaplacer.org
X-WR-CALDESC:Events for CNIA 07, District 21 Events
REFRESH-INTERVAL;VALUE=DURATION:PT1H
X-Robots-Tag:noindex
X-PUBLISHED-TTL:PT1H
BEGIN:VTIMEZONE
TZID:America/Los_Angeles
BEGIN:DAYLIGHT
TZOFFSETFROM:-0800
TZOFFSETTO:-0700
TZNAME:PDT
DTSTART:20260308T100000
END:DAYLIGHT
BEGIN:STANDARD
TZOFFSETFROM:-0700
TZOFFSETTO:-0800
TZNAME:PST
DTSTART:20261101T090000
END:STANDARD
END:VTIMEZONE
BEGIN:VEVENT
DTSTART;TZID=America/Los_Angeles:20260328T090000
DTEND;TZID=America/Los_Angeles:20260328T170000
DTSTAMP:20260423T164938
CREATED:20260117T202220Z
LAST-MODIFIED:20260117T202220Z
UID:4917-1774688400-1774717200@events.aaplacer.org
SUMMARY:Unity Day 2026
DESCRIPTION:
URL:https://events.aaplacer.org/event/unity-day-2026/
LOCATION:3126 Olympic Way\, 3126 Olympic Way\, Auburn\, CA\, 95603\, United States
ORGANIZER;CN="Auburn Fellowship":MAILTO:auburnfellowshipunityday@gmail.com
END:VEVENT
BEGIN:VEVENT
DTSTART;TZID=America/Los_Angeles:20260421T180000
DTEND;TZID=America/Los_Angeles:20260421T190000
DTSTAMP:20260423T164938
CREATED:20260124T010336Z
LAST-MODIFIED:20260124T010336Z
UID:4930-1776794400-1776798000@events.aaplacer.org
SUMMARY:Area 34 H&I Monthly Business Meeting (zoom only)
DESCRIPTION:3rd Tuesday of each month  6-7pm\nID: 839 7354 8044\nPW:  449
URL:https://events.aaplacer.org/event/area-34-hi-monthly-business-meeting-zoom-only/2026-04-21/
END:VEVENT
BEGIN:VEVENT
DTSTART;VALUE=DATE:20260424
DTEND;VALUE=DATE:20260427
DTSTAMP:20260423T164938
CREATED:20260210T183553Z
LAST-MODIFIED:20260210T183553Z
UID:4957-1776988800-1777247999@events.aaplacer.org
SUMMARY:Alta Men's Retreat
DESCRIPTION:Alta 2026 Flier
URL:https://events.aaplacer.org/event/alta-mens-retreat/
LOCATION:Camp Alta\, 794 Alta Power House Road\, Alta\, CA\, 95701\, United States
END:VEVENT
BEGIN:VEVENT
DTSTART;TZID=America/Los_Angeles:20260502T133000
DTEND;TZID=America/Los_Angeles:20260502T163000
DTSTAMP:20260423T164938
CREATED:20260324T221904Z
LAST-MODIFIED:20260324T221904Z
UID:4977-1777728600-1777739400@events.aaplacer.org
SUMMARY:12 Traditions Workshop
DESCRIPTION:
URL:https://events.aaplacer.org/event/12-traditions-workshop-2/
LOCATION:4044 Pasadena Ave. Sacramento\, CA 95821\, 4044 Pasadena Ave.\, Sacramento\, CA\, 95821\, United States
ORGANIZER;CN="Rick S.":MAILTO:r.santos52995@gmail.com
END:VEVENT
BEGIN:VEVENT
DTSTART;TZID=America/Los_Angeles:20260519T180000
DTEND;TZID=America/Los_Angeles:20260519T190000
DTSTAMP:20260423T164938
CREATED:20260124T010336Z
LAST-MODIFIED:20260124T010336Z
UID:4931-1779213600-1779217200@events.aaplacer.org
SUMMARY:Area 34 H&I Monthly Business Meeting (zoom only)
DESCRIPTION:3rd Tuesday of each month  6-7pm\nID: 839 7354 8044\nPW:  449
URL:https://events.aaplacer.org/event/area-34-hi-monthly-business-meeting-zoom-only/2026-05-19/
END:VEVENT
BEGIN:VEVENT
DTSTART;TZID=America/Los_Angeles:20260607T100000
DTEND;TZID=America/Los_Angeles:20260607T160000
DTSTAMP:20260423T164938
CREATED:20260324T221652Z
LAST-MODIFIED:20260324T221652Z
UID:4974-1780826400-1780848000@events.aaplacer.org
SUMMARY:Rocklin Fellowship 25th Anniversary Picnic & Speaker Meeting
DESCRIPTION:
URL:https://events.aaplacer.org/event/rocklin-fellowship-25th-anniversary-picnic-speaker-meeting/
LOCATION:Johnson Springview Park\, 5480 Fifth Street\, Rocklin\, CA\, 95677\, United States
ORGANIZER;CN="marla m.":MAILTO:avalawday999@gmail.com
END:VEVENT
BEGIN:VEVENT
DTSTART;TZID=America/Los_Angeles:20260613T140000
DTEND;TZID=America/Los_Angeles:20260613T150000
DTSTAMP:20260423T164938
CREATED:20260327T161945Z
LAST-MODIFIED:20260327T161945Z
UID:4980-1781359200-1781362800@events.aaplacer.org
SUMMARY:CCFAA Teleservice Virtual Workshop
DESCRIPTION:
URL:https://events.aaplacer.org/event/ccfaa-teleservice-virtual-workshop-3/
ORGANIZER;CN="Elaine P.":MAILTO:teleserviceorientation@gmail.com
LOCATION:
END:VEVENT
BEGIN:VEVENT
DTSTART;TZID=America/Los_Angeles:20260616T180000
DTEND;TZID=America/Los_Angeles:20260616T190000
DTSTAMP:20260423T164938
CREATED:20260124T010336Z
LAST-MODIFIED:20260124T010336Z
UID:4932-1781632800-1781636400@events.aaplacer.org
SUMMARY:Area 34 H&I Monthly Business Meeting (zoom only)
DESCRIPTION:3rd Tuesday of each month  6-7pm\nID: 839 7354 8044\nPW:  449
URL:https://events.aaplacer.org/event/area-34-hi-monthly-business-meeting-zoom-only/2026-06-16/
END:VEVENT
BEGIN:VEVENT
DTSTART;TZID=America/Los_Angeles:20260721T180000
DTEND;TZID=America/Los_Angeles:20260721T190000
DTSTAMP:20260423T164938
CREATED:20260124T010336Z
LAST-MODIFIED:20260124T010336Z
UID:4933-1784656800-1784660400@events.aaplacer.org
SUMMARY:Area 34 H&I Monthly Business Meeting (zoom only)
DESCRIPTION:3rd Tuesday of each month  6-7pm\nID: 839 7354 8044\nPW:  449
URL:https://events.aaplacer.org/event/area-34-hi-monthly-business-meeting-zoom-only/2026-07-21/
END:VEVENT
BEGIN:VEVENT
DTSTART;TZID=America/Los_Angeles:20260818T180000
DTEND;TZID=America/Los_Angeles:20260818T190000
DTSTAMP:20260423T164938
CREATED:20260124T010336Z
LAST-MODIFIED:20260124T010336Z
UID:4934-1787076000-1787079600@events.aaplacer.org
SUMMARY:Area 34 H&I Monthly Business Meeting (zoom only)
DESCRIPTION:3rd Tuesday of each month  6-7pm\nID: 839 7354 8044\nPW:  449
URL:https://events.aaplacer.org/event/area-34-hi-monthly-business-meeting-zoom-only/2026-08-18/
END:VEVENT
BEGIN:VEVENT
DTSTART;TZID=America/Los_Angeles:20260915T180000
DTEND;TZID=America/Los_Angeles:20260915T190000
DTSTAMP:20260423T164938
CREATED:20260124T010336Z
LAST-MODIFIED:20260124T010336Z
UID:4935-1789495200-1789498800@events.aaplacer.org
SUMMARY:Area 34 H&I Monthly Business Meeting (zoom only)
DESCRIPTION:3rd Tuesday of each month  6-7pm\nID: 839 7354 8044\nPW:  449
URL:https://events.aaplacer.org/event/area-34-hi-monthly-business-meeting-zoom-only/2026-09-15/
END:VEVENT
BEGIN:VEVENT
DTSTART;TZID=America/Los_Angeles:20261020T180000
DTEND;TZID=America/Los_Angeles:20261020T190000
DTSTAMP:20260423T164938
CREATED:20260124T010336Z
LAST-MODIFIED:20260124T010336Z
UID:4936-1792519200-1792522800@events.aaplacer.org
SUMMARY:Area 34 H&I Monthly Business Meeting (zoom only)
DESCRIPTION:3rd Tuesday of each month  6-7pm\nID: 839 7354 8044\nPW:  449
URL:https://events.aaplacer.org/event/area-34-hi-monthly-business-meeting-zoom-only/2026-10-20/
END:VEVENT
BEGIN:VEVENT
DTSTART;TZID=America/Los_Angeles:20261117T180000
DTEND;TZID=America/Los_Angeles:20261117T190000
DTSTAMP:20260423T164938
CREATED:20260124T010336Z
LAST-MODIFIED:20260124T010336Z
UID:4937-1794938400-1794942000@events.aaplacer.org
SUMMARY:Area 34 H&I Monthly Business Meeting (zoom only)
DESCRIPTION:3rd Tuesday of each month  6-7pm\nID: 839 7354 8044\nPW:  449
URL:https://events.aaplacer.org/event/area-34-hi-monthly-business-meeting-zoom-only/2026-11-17/
END:VEVENT
BEGIN:VEVENT
DTSTART;TZID=America/Los_Angeles:20261215T180000
DTEND;TZID=America/Los_Angeles:20261215T190000
DTSTAMP:20260423T164938
CREATED:20260124T010336Z
LAST-MODIFIED:20260124T010336Z
UID:4938-1797357600-1797361200@events.aaplacer.org
SUMMARY:Area 34 H&I Monthly Business Meeting (zoom only)
DESCRIPTION:3rd Tuesday of each month  6-7pm\nID: 839 7354 8044\nPW:  449
URL:https://events.aaplacer.org/event/area-34-hi-monthly-business-meeting-zoom-only/2026-12-15/
END:VEVENT
END:VCALENDAR