BEGIN:VCALENDAR
VERSION:2.0
PRODID:-//CNIA 07, District 21 Events - ECPv6.8.3//NONSGML v1.0//EN
CALSCALE:GREGORIAN
METHOD:PUBLISH
X-WR-CALNAME:CNIA 07, District 21 Events
X-ORIGINAL-URL:https://events.aaplacer.org
X-WR-CALDESC:Events for CNIA 07, District 21 Events
REFRESH-INTERVAL;VALUE=DURATION:PT1H
X-Robots-Tag:noindex
X-PUBLISHED-TTL:PT1H
BEGIN:VTIMEZONE
TZID:America/Los_Angeles
BEGIN:DAYLIGHT
TZOFFSETFROM:-0800
TZOFFSETTO:-0700
TZNAME:PDT
DTSTART:20260308T100000
END:DAYLIGHT
BEGIN:STANDARD
TZOFFSETFROM:-0700
TZOFFSETTO:-0800
TZNAME:PST
DTSTART:20261101T090000
END:STANDARD
END:VTIMEZONE
BEGIN:VEVENT
DTSTART;TZID=America/Los_Angeles:20260328T090000
DTEND;TZID=America/Los_Angeles:20260328T170000
DTSTAMP:20260423T114201
CREATED:20260117T202220Z
LAST-MODIFIED:20260117T202220Z
UID:4917-1774688400-1774717200@events.aaplacer.org
SUMMARY:Unity Day 2026
DESCRIPTION:
URL:https://events.aaplacer.org/event/unity-day-2026/
LOCATION:3126 Olympic Way\, 3126 Olympic Way\, Auburn\, CA\, 95603\, United States
ORGANIZER;CN="Auburn Fellowship":MAILTO:auburnfellowshipunityday@gmail.com
END:VEVENT
END:VCALENDAR