BEGIN:VCALENDAR
VERSION:2.0
PRODID:-//CNIA 07, District 21 Events - ECPv6.8.3//NONSGML v1.0//EN
CALSCALE:GREGORIAN
METHOD:PUBLISH
X-WR-CALNAME:CNIA 07, District 21 Events
X-ORIGINAL-URL:https://events.aaplacer.org
X-WR-CALDESC:Events for CNIA 07, District 21 Events
REFRESH-INTERVAL;VALUE=DURATION:PT1H
X-Robots-Tag:noindex
X-PUBLISHED-TTL:PT1H
BEGIN:VTIMEZONE
TZID:America/Los_Angeles
BEGIN:DAYLIGHT
TZOFFSETFROM:-0800
TZOFFSETTO:-0700
TZNAME:PDT
DTSTART:20260308T100000
END:DAYLIGHT
BEGIN:STANDARD
TZOFFSETFROM:-0700
TZOFFSETTO:-0800
TZNAME:PST
DTSTART:20261101T090000
END:STANDARD
END:VTIMEZONE
BEGIN:VEVENT
DTSTART;TZID=America/Los_Angeles:20260314T140000
DTEND;TZID=America/Los_Angeles:20260314T150000
DTSTAMP:20260423T114201
CREATED:20260124T005944Z
LAST-MODIFIED:20260124T005944Z
UID:4924-1773496800-1773500400@events.aaplacer.org
SUMMARY:TELESERVICE VIRTUAL WORKSHOP
DESCRIPTION:ZOOM MEETING ID: 843-9035-0334
URL:https://events.aaplacer.org/event/teleservice-virtual-workshop-2/
ORGANIZER;CN="Elaine P.":MAILTO:teleserviceorientation@gmail.com
LOCATION:
END:VEVENT
END:VCALENDAR