BEGIN:VCALENDAR
VERSION:2.0
PRODID:-//CNIA 07, District 21 Events - ECPv6.8.3//NONSGML v1.0//EN
CALSCALE:GREGORIAN
METHOD:PUBLISH
X-WR-CALNAME:CNIA 07, District 21 Events
X-ORIGINAL-URL:https://events.aaplacer.org
X-WR-CALDESC:Events for CNIA 07, District 21 Events
REFRESH-INTERVAL;VALUE=DURATION:PT1H
X-Robots-Tag:noindex
X-PUBLISHED-TTL:PT1H
BEGIN:VTIMEZONE
TZID:America/Los_Angeles
BEGIN:DAYLIGHT
TZOFFSETFROM:-0800
TZOFFSETTO:-0700
TZNAME:PDT
DTSTART:20260308T100000
END:DAYLIGHT
BEGIN:STANDARD
TZOFFSETFROM:-0700
TZOFFSETTO:-0800
TZNAME:PST
DTSTART:20261101T090000
END:STANDARD
END:VTIMEZONE
BEGIN:VEVENT
DTSTART;TZID=America/Los_Angeles:20260103T160000
DTEND;TZID=America/Los_Angeles:20260103T170000
DTSTAMP:20260423T145628
CREATED:20240125T195219Z
LAST-MODIFIED:20240804T222017Z
UID:4003-1767456000-1767459600@events.aaplacer.org
SUMMARY:PLAYPAA Business Meeting
DESCRIPTION:First Saturday of every month @ 4pm!  Come be of service.  Positions available.
URL:https://events.aaplacer.org/event/playpaa-business-meeting/2026-01-03/
LOCATION:5645 Rocklin Road\, Loomis\, CA\, 5645 Rocklin Road\, Loomis\, CA\, United States
END:VEVENT
END:VCALENDAR