BEGIN:VCALENDAR
VERSION:2.0
PRODID:-//CNIA 07, District 21 Events - ECPv6.8.3//NONSGML v1.0//EN
CALSCALE:GREGORIAN
METHOD:PUBLISH
X-ORIGINAL-URL:https://events.aaplacer.org
X-WR-CALDESC:Events for CNIA 07, District 21 Events
REFRESH-INTERVAL;VALUE=DURATION:PT1H
X-Robots-Tag:noindex
X-PUBLISHED-TTL:PT1H
BEGIN:VTIMEZONE
TZID:America/Los_Angeles
BEGIN:DAYLIGHT
TZOFFSETFROM:-0800
TZOFFSETTO:-0700
TZNAME:PDT
DTSTART:20250309T100000
END:DAYLIGHT
BEGIN:STANDARD
TZOFFSETFROM:-0700
TZOFFSETTO:-0800
TZNAME:PST
DTSTART:20251102T090000
END:STANDARD
END:VTIMEZONE
BEGIN:VEVENT
DTSTART;TZID=America/Los_Angeles:20250809T170000
DTEND;TZID=America/Los_Angeles:20250809T203000
DTSTAMP:20260423T223551
CREATED:20250610T165927Z
LAST-MODIFIED:20250610T165927Z
UID:4794-1754758800-1754771400@events.aaplacer.org
SUMMARY:Foresthill Bent Nickel 43rd Anniversary
DESCRIPTION:
URL:https://events.aaplacer.org/event/foresthill-bent-nickel-43rd-anniversary/
LOCATION:Canyon View Assembly Church\, 23221 Foresthill Rd.\, Foresthill\, CA\, 95631\, United States
ORGANIZER;CN="Craig A.":MAILTO:craiga93@sbcglobal.net
END:VEVENT
BEGIN:VEVENT
DTSTART;TZID=America/Los_Angeles:20250809T190000
DTEND;TZID=America/Los_Angeles:20250809T203000
DTSTAMP:20260423T223551
CREATED:20240113T214740Z
LAST-MODIFIED:20241002T235532Z
UID:3892-1754766000-1754771400@events.aaplacer.org
SUMMARY:RTNG Saturday Night Speaker Meeting
DESCRIPTION:Roseville Tuesday Night Group – Saturday Night Speaker Meeting
URL:https://events.aaplacer.org/event/rtng-saturday-night-speaker-meeting/2025-08-09/
LOCATION:Roseville Tuesday Night Group\, 315 Lincoln Street\, Roseville\, CA\, 95678\, United States
END:VEVENT
END:VCALENDAR