BEGIN:VCALENDAR
VERSION:2.0
PRODID:-//CNIA 07, District 21 Events - ECPv6.8.3//NONSGML v1.0//EN
CALSCALE:GREGORIAN
METHOD:PUBLISH
X-ORIGINAL-URL:https://events.aaplacer.org
X-WR-CALDESC:Events for CNIA 07, District 21 Events
REFRESH-INTERVAL;VALUE=DURATION:PT1H
X-Robots-Tag:noindex
X-PUBLISHED-TTL:PT1H
BEGIN:VTIMEZONE
TZID:America/Los_Angeles
BEGIN:DAYLIGHT
TZOFFSETFROM:-0800
TZOFFSETTO:-0700
TZNAME:PDT
DTSTART:20250309T100000
END:DAYLIGHT
BEGIN:STANDARD
TZOFFSETFROM:-0700
TZOFFSETTO:-0800
TZNAME:PST
DTSTART:20251102T090000
END:STANDARD
END:VTIMEZONE
BEGIN:VEVENT
DTSTART;TZID=America/Los_Angeles:20250529T190000
DTEND;TZID=America/Los_Angeles:20250529T200000
DTSTAMP:20260424T054541
CREATED:20220628T165014Z
LAST-MODIFIED:20220628T165014Z
UID:2485-1748545200-1748548800@events.aaplacer.org
SUMMARY:Bent Nickel Monthly Birthday Night Speaker Meeting
DESCRIPTION:
URL:https://events.aaplacer.org/event/bent-nickel-monthly-birthday-night-speaker-meeting/2025-05-29/
LOCATION:Calvary Bible Church\, 20801 Todd Valley Road\, Foresthill\, CA\, 95631\, United States
END:VEVENT
BEGIN:VEVENT
DTSTART;TZID=America/Los_Angeles:20250529T190000
DTEND;TZID=America/Los_Angeles:20250529T203000
DTSTAMP:20260424T054541
CREATED:20250510T233838Z
LAST-MODIFIED:20250510T233838Z
UID:4766-1748545200-1748550600@events.aaplacer.org
SUMMARY:Birthday Night Speaker Meeting
DESCRIPTION:
URL:https://events.aaplacer.org/event/birthday-night-speaker-meeting/
LOCATION:Canyon View Assembly Church\, 23221 Foresthill Rd.\, Foresthill\, CA\, 95631\, United States
ORGANIZER;CN="Craig A.":MAILTO:craiga93@sbcglobal.net
END:VEVENT
END:VCALENDAR