BEGIN:VCALENDAR
VERSION:2.0
PRODID:-//CNIA 07, District 21 Events - ECPv6.8.3//NONSGML v1.0//EN
CALSCALE:GREGORIAN
METHOD:PUBLISH
X-WR-CALNAME:CNIA 07, District 21 Events
X-ORIGINAL-URL:https://events.aaplacer.org
X-WR-CALDESC:Events for CNIA 07, District 21 Events
REFRESH-INTERVAL;VALUE=DURATION:PT1H
X-Robots-Tag:noindex
X-PUBLISHED-TTL:PT1H
BEGIN:VTIMEZONE
TZID:America/Los_Angeles
BEGIN:DAYLIGHT
TZOFFSETFROM:-0800
TZOFFSETTO:-0700
TZNAME:PDT
DTSTART:20250309T100000
END:DAYLIGHT
BEGIN:STANDARD
TZOFFSETFROM:-0700
TZOFFSETTO:-0800
TZNAME:PST
DTSTART:20251102T090000
END:STANDARD
END:VTIMEZONE
BEGIN:VEVENT
DTSTART;TZID=America/Los_Angeles:20250528T160000
DTEND;TZID=America/Los_Angeles:20250528T173000
DTSTAMP:20260424T070655
CREATED:20240725T202711Z
LAST-MODIFIED:20240725T202711Z
UID:4448-1748448000-1748453400@events.aaplacer.org
SUMMARY:Accessiblity Interest Group (AIG) Monthly Zoom Meeting
DESCRIPTION:Zoom Meeting ID: 830 3187 6507  No password \nhttps://us06web.zoom.us/j/83031876507 \n \n 
URL:https://events.aaplacer.org/event/accessiblity-interest-group-aig-monthly-zoom-meeting/2025-05-28/
END:VEVENT
BEGIN:VEVENT
DTSTART;TZID=America/Los_Angeles:20250528T180000
DTEND;TZID=America/Los_Angeles:20250528T210000
DTSTAMP:20260424T070655
CREATED:20250502T232908Z
LAST-MODIFIED:20250502T232908Z
UID:4761-1748455200-1748466000@events.aaplacer.org
SUMMARY:Applegate B-B-Q
DESCRIPTION:
URL:https://events.aaplacer.org/event/applegate-b-b-q/
LOCATION:18014 Applegate Rd.\, 18014 Applegate Rd.\, Applegate\, California\, 95703
ORGANIZER;CN="Margaret D.":MAILTO:bammaaa@gmail.com
END:VEVENT
BEGIN:VEVENT
DTSTART;TZID=America/Los_Angeles:20250528T180000
DTEND;TZID=America/Los_Angeles:20250528T210000
DTSTAMP:20260424T070655
CREATED:20250510T234823Z
LAST-MODIFIED:20250510T234823Z
UID:4774-1748455200-1748466000@events.aaplacer.org
SUMMARY:Applegate B-B-Q
DESCRIPTION:
URL:https://events.aaplacer.org/event/applegate-b-b-q-2/
LOCATION:18014 Applegate Rd.\, 18014 Applegate Rd.\, Applegate\, California\, 95703
ORGANIZER;CN="Margaret D.":MAILTO:bammaaa@gmail.com
END:VEVENT
BEGIN:VEVENT
DTSTART;TZID=America/Los_Angeles:20250528T180000
DTEND;TZID=America/Los_Angeles:20250528T210000
DTSTAMP:20260424T070655
CREATED:20250527T164009Z
LAST-MODIFIED:20250527T164009Z
UID:4787-1748455200-1748466000@events.aaplacer.org
SUMMARY:Applegate Birthday Night
DESCRIPTION:
URL:https://events.aaplacer.org/event/applegate-birthday-night/
LOCATION:Applegate Community Center\, 18014 Applegate Road\, Colfax\, CA\, 95713\, United States
ORGANIZER;CN="Margaret D.":MAILTO:bammaaa@gmail.com
END:VEVENT
END:VCALENDAR