BEGIN:VCALENDAR
VERSION:2.0
PRODID:-//CNIA 07, District 21 Events - ECPv6.8.3//NONSGML v1.0//EN
CALSCALE:GREGORIAN
METHOD:PUBLISH
X-ORIGINAL-URL:https://events.aaplacer.org
X-WR-CALDESC:Events for CNIA 07, District 21 Events
REFRESH-INTERVAL;VALUE=DURATION:PT1H
X-Robots-Tag:noindex
X-PUBLISHED-TTL:PT1H
BEGIN:VTIMEZONE
TZID:America/Los_Angeles
BEGIN:DAYLIGHT
TZOFFSETFROM:-0800
TZOFFSETTO:-0700
TZNAME:PDT
DTSTART:20250309T100000
END:DAYLIGHT
BEGIN:STANDARD
TZOFFSETFROM:-0700
TZOFFSETTO:-0800
TZNAME:PST
DTSTART:20251102T090000
END:STANDARD
END:VTIMEZONE
BEGIN:VEVENT
DTSTART;TZID=America/Los_Angeles:20250310T180000
DTEND;TZID=America/Los_Angeles:20250310T190000
DTSTAMP:20260424T101045
CREATED:20240205T110618Z
LAST-MODIFIED:20240205T110653Z
UID:3777-1741629600-1741633200@events.aaplacer.org
SUMMARY:D21 Monthly Service Manual Study
DESCRIPTION:District 21 Zoom Credentials: Meeting ID: 223 661 3304\nPW: District21
URL:https://events.aaplacer.org/event/d21-monthly-service-manual-study/2025-03-10/
END:VEVENT
BEGIN:VEVENT
DTSTART;TZID=America/Los_Angeles:20250310T183000
DTEND;TZID=America/Los_Angeles:20250310T193000
DTSTAMP:20260424T101045
CREATED:20250224T183454Z
LAST-MODIFIED:20250224T183454Z
UID:4736-1741631400-1741635000@events.aaplacer.org
SUMMARY:CCFAA Teleservice Virtual Workshop
DESCRIPTION:Zoom Meeting: 812 4256 3454
URL:https://events.aaplacer.org/event/ccfaa-teleservice-virtual-workshop/
ORGANIZER;CN="Elaine P.":MAILTO:teleserviceorientation@gmail.com
END:VEVENT
BEGIN:VEVENT
DTSTART;TZID=America/Los_Angeles:20250310T193000
DTEND;TZID=America/Los_Angeles:20250310T203000
DTSTAMP:20260424T101045
CREATED:20231031T070120Z
LAST-MODIFIED:20231031T070120Z
UID:3573-1741635000-1741638600@events.aaplacer.org
SUMMARY:Back to Basics - Loomis
DESCRIPTION:
URL:https://events.aaplacer.org/event/back-to-basics-loomis-3/2025-03-10/
LOCATION:First United Methodist Church\, 6414 Brace Road\, Loomis\, 95622\, United States
END:VEVENT
END:VCALENDAR