BEGIN:VCALENDAR
VERSION:2.0
PRODID:-//CNIA 07, District 21 Events - ECPv6.8.3//NONSGML v1.0//EN
CALSCALE:GREGORIAN
METHOD:PUBLISH
X-WR-CALNAME:CNIA 07, District 21 Events
X-ORIGINAL-URL:https://events.aaplacer.org
X-WR-CALDESC:Events for CNIA 07, District 21 Events
REFRESH-INTERVAL;VALUE=DURATION:PT1H
X-Robots-Tag:noindex
X-PUBLISHED-TTL:PT1H
BEGIN:VTIMEZONE
TZID:America/Los_Angeles
BEGIN:DAYLIGHT
TZOFFSETFROM:-0800
TZOFFSETTO:-0700
TZNAME:PDT
DTSTART:20240310T100000
END:DAYLIGHT
BEGIN:STANDARD
TZOFFSETFROM:-0700
TZOFFSETTO:-0800
TZNAME:PST
DTSTART:20241103T090000
END:STANDARD
END:VTIMEZONE
BEGIN:VEVENT
DTSTART;VALUE=DATE:20241225
DTEND;VALUE=DATE:20241226
DTSTAMP:20260424T141651
CREATED:20241222T233402Z
LAST-MODIFIED:20241222T233402Z
UID:4702-1735084800-1735171199@events.aaplacer.org
SUMMARY:Christmas Day Alkathon
DESCRIPTION:Christmas Day Alkathon meetings every hour and a half – first meeting at 7:00 AM last meeting at midnight
URL:https://events.aaplacer.org/event/christmas-day-alkathon/
LOCATION:Auburn Fellowship\, 244 Palm Avenue\, Auburn\, CA\, 95604\, United States
ORGANIZER;CN="Christy P.":MAILTO:1118Clparsons@gmail.com
END:VEVENT
BEGIN:VEVENT
DTSTART;TZID=America/Los_Angeles:20241225T183000
DTEND;TZID=America/Los_Angeles:20241225T210000
DTSTAMP:20260424T141651
CREATED:20220526T011757Z
LAST-MODIFIED:20220526T011757Z
UID:2140-1735151400-1735160400@events.aaplacer.org
SUMMARY:Eden Valley at Applegate Birthday Speaker Meeting
DESCRIPTION:
URL:https://events.aaplacer.org/event/eden-valley-at-applegate-birthday-speaker-meeting/2024-12-25/
LOCATION:Applegate Community Center\, 18014 Applegate Road\, Colfax\, CA\, 95713\, United States
END:VEVENT
END:VCALENDAR