BEGIN:VCALENDAR
VERSION:2.0
PRODID:-//CNIA 07, District 21 Events - ECPv6.8.3//NONSGML v1.0//EN
CALSCALE:GREGORIAN
METHOD:PUBLISH
X-ORIGINAL-URL:https://events.aaplacer.org
X-WR-CALDESC:Events for CNIA 07, District 21 Events
REFRESH-INTERVAL;VALUE=DURATION:PT1H
X-Robots-Tag:noindex
X-PUBLISHED-TTL:PT1H
BEGIN:VTIMEZONE
TZID:America/Los_Angeles
BEGIN:DAYLIGHT
TZOFFSETFROM:-0800
TZOFFSETTO:-0700
TZNAME:PDT
DTSTART:20240310T100000
END:DAYLIGHT
BEGIN:STANDARD
TZOFFSETFROM:-0700
TZOFFSETTO:-0800
TZNAME:PST
DTSTART:20241103T090000
END:STANDARD
END:VTIMEZONE
BEGIN:VEVENT
DTSTART;TZID=America/Los_Angeles:20240713T090000
DTEND;TZID=America/Los_Angeles:20240713T180000
DTSTAMP:20260424T213337
CREATED:20240430T041447Z
LAST-MODIFIED:20240430T041447Z
UID:4225-1720861200-1720893600@events.aaplacer.org
SUMMARY:36th Auburn Fellowship Unity Day. *Cost:  See Flyer
DESCRIPTION:
URL:https://events.aaplacer.org/event/36th-auburn-fellowship-unity-day-cost-see-flyer/
LOCATION:Auburn Grace Community Church\, 3126 Olympic Way\, Auburn\, CA\, 95603\, United States
END:VEVENT
BEGIN:VEVENT
DTSTART;TZID=America/Los_Angeles:20240713T190000
DTEND;TZID=America/Los_Angeles:20240713T203000
DTSTAMP:20260424T213337
CREATED:20240113T214740Z
LAST-MODIFIED:20241002T235449Z
UID:3836-1720897200-1720902600@events.aaplacer.org
SUMMARY:RTNG Saturday Night Speaker Meeting
DESCRIPTION:Roseville Tuesday Night Group – Saturday Night Speaker Meeting
URL:https://events.aaplacer.org/event/rtng-saturday-night-speaker-meeting/2024-07-13/
LOCATION:Roseville Tuesday Night Group\, 315 Lincoln Street\, Roseville\, CA\, 95678\, United States
END:VEVENT
END:VCALENDAR