BEGIN:VCALENDAR
VERSION:2.0
PRODID:-//CNIA 07, District 21 Events - ECPv6.8.3//NONSGML v1.0//EN
CALSCALE:GREGORIAN
METHOD:PUBLISH
X-WR-CALNAME:CNIA 07, District 21 Events
X-ORIGINAL-URL:https://events.aaplacer.org
X-WR-CALDESC:Events for CNIA 07, District 21 Events
REFRESH-INTERVAL;VALUE=DURATION:PT1H
X-Robots-Tag:noindex
X-PUBLISHED-TTL:PT1H
BEGIN:VTIMEZONE
TZID:America/Los_Angeles
BEGIN:DAYLIGHT
TZOFFSETFROM:-0800
TZOFFSETTO:-0700
TZNAME:PDT
DTSTART:20240310T100000
END:DAYLIGHT
BEGIN:STANDARD
TZOFFSETFROM:-0700
TZOFFSETTO:-0800
TZNAME:PST
DTSTART:20241103T090000
END:STANDARD
END:VTIMEZONE
BEGIN:VEVENT
DTSTART;TZID=America/Los_Angeles:20241011T180000
DTEND;TZID=America/Los_Angeles:20241012T220000
DTSTAMP:20260424T005327
CREATED:20240322T164612Z
LAST-MODIFIED:20240322T164612Z
UID:4084-1728669600-1728770400@events.aaplacer.org
SUMMARY:Three Legacies Conference Oct 11-12
DESCRIPTION:The Love and Service Three Legacies Conference: October 11-12\, 2024\,  Event Cost $45 See Flyer for Details
URL:https://events.aaplacer.org/event/three-legacies-conference-oct-11-12/2024-10-11/
LOCATION:The Hope Center\, 2275 Morello Ave\, Pleasant Hill\, CA\, 94523\, United States
END:VEVENT
END:VCALENDAR