BEGIN:VCALENDAR
VERSION:2.0
PRODID:-//CNIA 07, District 21 Events - ECPv6.8.3//NONSGML v1.0//EN
CALSCALE:GREGORIAN
METHOD:PUBLISH
X-WR-CALNAME:CNIA 07, District 21 Events
X-ORIGINAL-URL:https://events.aaplacer.org
X-WR-CALDESC:Events for CNIA 07, District 21 Events
REFRESH-INTERVAL;VALUE=DURATION:PT1H
X-Robots-Tag:noindex
X-PUBLISHED-TTL:PT1H
BEGIN:VTIMEZONE
TZID:America/Los_Angeles
BEGIN:DAYLIGHT
TZOFFSETFROM:-0800
TZOFFSETTO:-0700
TZNAME:PDT
DTSTART:20240310T100000
END:DAYLIGHT
BEGIN:STANDARD
TZOFFSETFROM:-0700
TZOFFSETTO:-0800
TZNAME:PST
DTSTART:20241103T090000
END:STANDARD
BEGIN:DAYLIGHT
TZOFFSETFROM:-0800
TZOFFSETTO:-0700
TZNAME:PDT
DTSTART:20250309T100000
END:DAYLIGHT
BEGIN:STANDARD
TZOFFSETFROM:-0700
TZOFFSETTO:-0800
TZNAME:PST
DTSTART:20251102T090000
END:STANDARD
BEGIN:DAYLIGHT
TZOFFSETFROM:-0800
TZOFFSETTO:-0700
TZNAME:PDT
DTSTART:20260308T100000
END:DAYLIGHT
BEGIN:STANDARD
TZOFFSETFROM:-0700
TZOFFSETTO:-0800
TZNAME:PST
DTSTART:20261101T090000
END:STANDARD
END:VTIMEZONE
BEGIN:VEVENT
DTSTART;TZID=America/Los_Angeles:20260112T180000
DTEND;TZID=America/Los_Angeles:20260112T190000
DTSTAMP:20260423T121829
CREATED:20240205T110618Z
LAST-MODIFIED:20240205T110657Z
UID:3787-1768240800-1768244400@events.aaplacer.org
SUMMARY:D21 Monthly Service Manual Study
DESCRIPTION:District 21 Zoom Credentials: Meeting ID: 223 661 3304\nPW: District21
URL:https://events.aaplacer.org/event/d21-monthly-service-manual-study/2026-01-12/
END:VEVENT
BEGIN:VEVENT
DTSTART;TZID=America/Los_Angeles:20251208T180000
DTEND;TZID=America/Los_Angeles:20251208T190000
DTSTAMP:20260423T121829
CREATED:20240205T110618Z
LAST-MODIFIED:20240205T110656Z
UID:3786-1765216800-1765220400@events.aaplacer.org
SUMMARY:D21 Monthly Service Manual Study
DESCRIPTION:District 21 Zoom Credentials: Meeting ID: 223 661 3304\nPW: District21
URL:https://events.aaplacer.org/event/d21-monthly-service-manual-study/2025-12-08/
END:VEVENT
BEGIN:VEVENT
DTSTART;TZID=America/Los_Angeles:20251110T180000
DTEND;TZID=America/Los_Angeles:20251110T190000
DTSTAMP:20260423T121829
CREATED:20240205T110618Z
LAST-MODIFIED:20240205T110656Z
UID:3785-1762797600-1762801200@events.aaplacer.org
SUMMARY:D21 Monthly Service Manual Study
DESCRIPTION:District 21 Zoom Credentials: Meeting ID: 223 661 3304\nPW: District21
URL:https://events.aaplacer.org/event/d21-monthly-service-manual-study/2025-11-10/
END:VEVENT
BEGIN:VEVENT
DTSTART;TZID=America/Los_Angeles:20251013T180000
DTEND;TZID=America/Los_Angeles:20251013T190000
DTSTAMP:20260423T121829
CREATED:20240205T110618Z
LAST-MODIFIED:20240205T110655Z
UID:3784-1760378400-1760382000@events.aaplacer.org
SUMMARY:D21 Monthly Service Manual Study
DESCRIPTION:District 21 Zoom Credentials: Meeting ID: 223 661 3304\nPW: District21
URL:https://events.aaplacer.org/event/d21-monthly-service-manual-study/2025-10-13/
END:VEVENT
BEGIN:VEVENT
DTSTART;TZID=America/Los_Angeles:20250908T180000
DTEND;TZID=America/Los_Angeles:20250908T190000
DTSTAMP:20260423T121829
CREATED:20240205T110618Z
LAST-MODIFIED:20240205T110655Z
UID:3783-1757354400-1757358000@events.aaplacer.org
SUMMARY:D21 Monthly Service Manual Study
DESCRIPTION:District 21 Zoom Credentials: Meeting ID: 223 661 3304\nPW: District21
URL:https://events.aaplacer.org/event/d21-monthly-service-manual-study/2025-09-08/
END:VEVENT
BEGIN:VEVENT
DTSTART;TZID=America/Los_Angeles:20250811T180000
DTEND;TZID=America/Los_Angeles:20250811T190000
DTSTAMP:20260423T121829
CREATED:20240205T110618Z
LAST-MODIFIED:20240205T110654Z
UID:3782-1754935200-1754938800@events.aaplacer.org
SUMMARY:D21 Monthly Service Manual Study
DESCRIPTION:District 21 Zoom Credentials: Meeting ID: 223 661 3304\nPW: District21
URL:https://events.aaplacer.org/event/d21-monthly-service-manual-study/2025-08-11/
END:VEVENT
BEGIN:VEVENT
DTSTART;TZID=America/Los_Angeles:20250714T180000
DTEND;TZID=America/Los_Angeles:20250714T190000
DTSTAMP:20260423T121829
CREATED:20240205T110618Z
LAST-MODIFIED:20240205T110654Z
UID:3781-1752516000-1752519600@events.aaplacer.org
SUMMARY:D21 Monthly Service Manual Study
DESCRIPTION:District 21 Zoom Credentials: Meeting ID: 223 661 3304\nPW: District21
URL:https://events.aaplacer.org/event/d21-monthly-service-manual-study/2025-07-14/
END:VEVENT
BEGIN:VEVENT
DTSTART;TZID=America/Los_Angeles:20250609T180000
DTEND;TZID=America/Los_Angeles:20250609T190000
DTSTAMP:20260423T121829
CREATED:20240205T110618Z
LAST-MODIFIED:20240205T110654Z
UID:3780-1749492000-1749495600@events.aaplacer.org
SUMMARY:D21 Monthly Service Manual Study
DESCRIPTION:District 21 Zoom Credentials: Meeting ID: 223 661 3304\nPW: District21
URL:https://events.aaplacer.org/event/d21-monthly-service-manual-study/2025-06-09/
END:VEVENT
BEGIN:VEVENT
DTSTART;TZID=America/Los_Angeles:20250512T180000
DTEND;TZID=America/Los_Angeles:20250512T190000
DTSTAMP:20260423T121829
CREATED:20240205T110618Z
LAST-MODIFIED:20240205T110654Z
UID:3779-1747072800-1747076400@events.aaplacer.org
SUMMARY:D21 Monthly Service Manual Study
DESCRIPTION:District 21 Zoom Credentials: Meeting ID: 223 661 3304\nPW: District21
URL:https://events.aaplacer.org/event/d21-monthly-service-manual-study/2025-05-12/
END:VEVENT
BEGIN:VEVENT
DTSTART;TZID=America/Los_Angeles:20250414T180000
DTEND;TZID=America/Los_Angeles:20250414T190000
DTSTAMP:20260423T121829
CREATED:20240205T110618Z
LAST-MODIFIED:20240205T110653Z
UID:3778-1744653600-1744657200@events.aaplacer.org
SUMMARY:D21 Monthly Service Manual Study
DESCRIPTION:District 21 Zoom Credentials: Meeting ID: 223 661 3304\nPW: District21
URL:https://events.aaplacer.org/event/d21-monthly-service-manual-study/2025-04-14/
END:VEVENT
BEGIN:VEVENT
DTSTART;TZID=America/Los_Angeles:20250310T180000
DTEND;TZID=America/Los_Angeles:20250310T190000
DTSTAMP:20260423T121829
CREATED:20240205T110618Z
LAST-MODIFIED:20240205T110653Z
UID:3777-1741629600-1741633200@events.aaplacer.org
SUMMARY:D21 Monthly Service Manual Study
DESCRIPTION:District 21 Zoom Credentials: Meeting ID: 223 661 3304\nPW: District21
URL:https://events.aaplacer.org/event/d21-monthly-service-manual-study/2025-03-10/
END:VEVENT
BEGIN:VEVENT
DTSTART;TZID=America/Los_Angeles:20250210T180000
DTEND;TZID=America/Los_Angeles:20250210T190000
DTSTAMP:20260423T121829
CREATED:20240205T110618Z
LAST-MODIFIED:20240205T110652Z
UID:3776-1739210400-1739214000@events.aaplacer.org
SUMMARY:D21 Monthly Service Manual Study
DESCRIPTION:District 21 Zoom Credentials: Meeting ID: 223 661 3304\nPW: District21
URL:https://events.aaplacer.org/event/d21-monthly-service-manual-study/2025-02-10/
END:VEVENT
BEGIN:VEVENT
DTSTART;TZID=America/Los_Angeles:20250113T180000
DTEND;TZID=America/Los_Angeles:20250113T190000
DTSTAMP:20260423T121829
CREATED:20240205T110618Z
LAST-MODIFIED:20240205T110652Z
UID:3775-1736791200-1736794800@events.aaplacer.org
SUMMARY:D21 Monthly Service Manual Study
DESCRIPTION:District 21 Zoom Credentials: Meeting ID: 223 661 3304\nPW: District21
URL:https://events.aaplacer.org/event/d21-monthly-service-manual-study/2025-01-13/
END:VEVENT
BEGIN:VEVENT
DTSTART;TZID=America/Los_Angeles:20241209T180000
DTEND;TZID=America/Los_Angeles:20241209T190000
DTSTAMP:20260423T121829
CREATED:20240205T110618Z
LAST-MODIFIED:20240205T110648Z
UID:3774-1733767200-1733770800@events.aaplacer.org
SUMMARY:D21 Monthly Service Manual Study
DESCRIPTION:District 21 Zoom Credentials: Meeting ID: 223 661 3304\nPW: District21
URL:https://events.aaplacer.org/event/d21-monthly-service-manual-study/2024-12-09/
END:VEVENT
BEGIN:VEVENT
DTSTART;TZID=America/Los_Angeles:20241111T180000
DTEND;TZID=America/Los_Angeles:20241111T190000
DTSTAMP:20260423T121829
CREATED:20240205T110618Z
LAST-MODIFIED:20240205T110648Z
UID:3773-1731348000-1731351600@events.aaplacer.org
SUMMARY:D21 Monthly Service Manual Study
DESCRIPTION:District 21 Zoom Credentials: Meeting ID: 223 661 3304\nPW: District21
URL:https://events.aaplacer.org/event/d21-monthly-service-manual-study/2024-11-11/
END:VEVENT
BEGIN:VEVENT
DTSTART;TZID=America/Los_Angeles:20241014T180000
DTEND;TZID=America/Los_Angeles:20241014T190000
DTSTAMP:20260423T121829
CREATED:20240205T110618Z
LAST-MODIFIED:20240205T110647Z
UID:3772-1728928800-1728932400@events.aaplacer.org
SUMMARY:D21 Monthly Service Manual Study
DESCRIPTION:District 21 Zoom Credentials: Meeting ID: 223 661 3304\nPW: District21
URL:https://events.aaplacer.org/event/d21-monthly-service-manual-study/2024-10-14/
END:VEVENT
BEGIN:VEVENT
DTSTART;TZID=America/Los_Angeles:20240909T180000
DTEND;TZID=America/Los_Angeles:20240909T190000
DTSTAMP:20260423T121829
CREATED:20240205T110618Z
LAST-MODIFIED:20240205T110647Z
UID:3771-1725904800-1725908400@events.aaplacer.org
SUMMARY:D21 Monthly Service Manual Study
DESCRIPTION:District 21 Zoom Credentials: Meeting ID: 223 661 3304\nPW: District21
URL:https://events.aaplacer.org/event/d21-monthly-service-manual-study/2024-09-09/
END:VEVENT
BEGIN:VEVENT
DTSTART;TZID=America/Los_Angeles:20240812T180000
DTEND;TZID=America/Los_Angeles:20240812T190000
DTSTAMP:20260423T121829
CREATED:20240205T110618Z
LAST-MODIFIED:20240205T110647Z
UID:3770-1723485600-1723489200@events.aaplacer.org
SUMMARY:D21 Monthly Service Manual Study
DESCRIPTION:District 21 Zoom Credentials: Meeting ID: 223 661 3304\nPW: District21
URL:https://events.aaplacer.org/event/d21-monthly-service-manual-study/2024-08-12/
END:VEVENT
BEGIN:VEVENT
DTSTART;TZID=America/Los_Angeles:20240708T180000
DTEND;TZID=America/Los_Angeles:20240708T190000
DTSTAMP:20260423T121829
CREATED:20240205T110618Z
LAST-MODIFIED:20240205T110647Z
UID:3769-1720461600-1720465200@events.aaplacer.org
SUMMARY:D21 Monthly Service Manual Study
DESCRIPTION:District 21 Zoom Credentials: Meeting ID: 223 661 3304\nPW: District21
URL:https://events.aaplacer.org/event/d21-monthly-service-manual-study/2024-07-08/
END:VEVENT
BEGIN:VEVENT
DTSTART;TZID=America/Los_Angeles:20240610T180000
DTEND;TZID=America/Los_Angeles:20240610T190000
DTSTAMP:20260423T121829
CREATED:20240205T110618Z
LAST-MODIFIED:20240205T110647Z
UID:3768-1718042400-1718046000@events.aaplacer.org
SUMMARY:D21 Monthly Service Manual Study
DESCRIPTION:District 21 Zoom Credentials: Meeting ID: 223 661 3304\nPW: District21
URL:https://events.aaplacer.org/event/d21-monthly-service-manual-study/2024-06-10/
END:VEVENT
BEGIN:VEVENT
DTSTART;TZID=America/Los_Angeles:20240513T180000
DTEND;TZID=America/Los_Angeles:20240513T190000
DTSTAMP:20260423T121829
CREATED:20240205T110618Z
LAST-MODIFIED:20240205T110647Z
UID:3767-1715623200-1715626800@events.aaplacer.org
SUMMARY:D21 Monthly Service Manual Study
DESCRIPTION:District 21 Zoom Credentials: Meeting ID: 223 661 3304\nPW: District21
URL:https://events.aaplacer.org/event/d21-monthly-service-manual-study/2024-05-13/
END:VEVENT
BEGIN:VEVENT
DTSTART;TZID=America/Los_Angeles:20240212T180000
DTEND;TZID=America/Los_Angeles:20240212T190000
DTSTAMP:20260423T121829
CREATED:20240205T110618Z
LAST-MODIFIED:20240205T110646Z
UID:3760-1707760800-1707764400@events.aaplacer.org
SUMMARY:D21 Monthly Service Manual Study
DESCRIPTION:District 21 Zoom Credentials: Meeting ID: 223 661 3304\nPW: District21
URL:https://events.aaplacer.org/event/d21-monthly-service-manual-study/2024-02-12/
END:VEVENT
END:VCALENDAR