BEGIN:VCALENDAR
VERSION:2.0
PRODID:-//CNIA 07, District 21 Events - ECPv6.8.3//NONSGML v1.0//EN
CALSCALE:GREGORIAN
METHOD:PUBLISH
X-ORIGINAL-URL:https://events.aaplacer.org
X-WR-CALDESC:Events for CNIA 07, District 21 Events
REFRESH-INTERVAL;VALUE=DURATION:PT1H
X-Robots-Tag:noindex
X-PUBLISHED-TTL:PT1H
BEGIN:VTIMEZONE
TZID:America/Los_Angeles
BEGIN:DAYLIGHT
TZOFFSETFROM:-0800
TZOFFSETTO:-0700
TZNAME:PDT
DTSTART:20220313T100000
END:DAYLIGHT
BEGIN:STANDARD
TZOFFSETFROM:-0700
TZOFFSETTO:-0800
TZNAME:PST
DTSTART:20221106T090000
END:STANDARD
BEGIN:DAYLIGHT
TZOFFSETFROM:-0800
TZOFFSETTO:-0700
TZNAME:PDT
DTSTART:20230312T100000
END:DAYLIGHT
BEGIN:STANDARD
TZOFFSETFROM:-0700
TZOFFSETTO:-0800
TZNAME:PST
DTSTART:20231105T090000
END:STANDARD
BEGIN:DAYLIGHT
TZOFFSETFROM:-0800
TZOFFSETTO:-0700
TZNAME:PDT
DTSTART:20240310T100000
END:DAYLIGHT
BEGIN:STANDARD
TZOFFSETFROM:-0700
TZOFFSETTO:-0800
TZNAME:PST
DTSTART:20241103T090000
END:STANDARD
BEGIN:DAYLIGHT
TZOFFSETFROM:-0800
TZOFFSETTO:-0700
TZNAME:PDT
DTSTART:20250309T100000
END:DAYLIGHT
BEGIN:STANDARD
TZOFFSETFROM:-0700
TZOFFSETTO:-0800
TZNAME:PST
DTSTART:20251102T090000
END:STANDARD
END:VTIMEZONE
BEGIN:VEVENT
DTSTART;TZID=America/Los_Angeles:20250626T190000
DTEND;TZID=America/Los_Angeles:20250626T200000
DTSTAMP:20260423T171547
CREATED:20220628T165014Z
LAST-MODIFIED:20220628T165014Z
UID:2744-1750964400-1750968000@events.aaplacer.org
SUMMARY:Bent Nickel Monthly Birthday Night Speaker Meeting
DESCRIPTION:
URL:https://events.aaplacer.org/event/bent-nickel-monthly-birthday-night-speaker-meeting/2025-06-26/
LOCATION:Calvary Bible Church\, 20801 Todd Valley Road\, Foresthill\, CA\, 95631\, United States
END:VEVENT
BEGIN:VEVENT
DTSTART;TZID=America/Los_Angeles:20250529T190000
DTEND;TZID=America/Los_Angeles:20250529T200000
DTSTAMP:20260423T171547
CREATED:20220628T165014Z
LAST-MODIFIED:20220628T165014Z
UID:2485-1748545200-1748548800@events.aaplacer.org
SUMMARY:Bent Nickel Monthly Birthday Night Speaker Meeting
DESCRIPTION:
URL:https://events.aaplacer.org/event/bent-nickel-monthly-birthday-night-speaker-meeting/2025-05-29/
LOCATION:Calvary Bible Church\, 20801 Todd Valley Road\, Foresthill\, CA\, 95631\, United States
END:VEVENT
BEGIN:VEVENT
DTSTART;TZID=America/Los_Angeles:20250424T190000
DTEND;TZID=America/Los_Angeles:20250424T200000
DTSTAMP:20260423T171547
CREATED:20220628T165014Z
LAST-MODIFIED:20220628T165014Z
UID:2465-1745521200-1745524800@events.aaplacer.org
SUMMARY:Bent Nickel Monthly Birthday Night Speaker Meeting
DESCRIPTION:
URL:https://events.aaplacer.org/event/bent-nickel-monthly-birthday-night-speaker-meeting/2025-04-24/
LOCATION:Calvary Bible Church\, 20801 Todd Valley Road\, Foresthill\, CA\, 95631\, United States
END:VEVENT
BEGIN:VEVENT
DTSTART;TZID=America/Los_Angeles:20250327T190000
DTEND;TZID=America/Los_Angeles:20250327T200000
DTSTAMP:20260423T171547
CREATED:20220628T165014Z
LAST-MODIFIED:20220628T165014Z
UID:2446-1743102000-1743105600@events.aaplacer.org
SUMMARY:Bent Nickel Monthly Birthday Night Speaker Meeting
DESCRIPTION:
URL:https://events.aaplacer.org/event/bent-nickel-monthly-birthday-night-speaker-meeting/2025-03-27/
LOCATION:Calvary Bible Church\, 20801 Todd Valley Road\, Foresthill\, CA\, 95631\, United States
END:VEVENT
BEGIN:VEVENT
DTSTART;TZID=America/Los_Angeles:20250227T190000
DTEND;TZID=America/Los_Angeles:20250227T200000
DTSTAMP:20260423T171547
CREATED:20220628T165014Z
LAST-MODIFIED:20220628T165014Z
UID:2419-1740682800-1740686400@events.aaplacer.org
SUMMARY:Bent Nickel Monthly Birthday Night Speaker Meeting
DESCRIPTION:
URL:https://events.aaplacer.org/event/bent-nickel-monthly-birthday-night-speaker-meeting/2025-02-27/
LOCATION:Calvary Bible Church\, 20801 Todd Valley Road\, Foresthill\, CA\, 95631\, United States
END:VEVENT
BEGIN:VEVENT
DTSTART;TZID=America/Los_Angeles:20250130T190000
DTEND;TZID=America/Los_Angeles:20250130T200000
DTSTAMP:20260423T171547
CREATED:20220628T165014Z
LAST-MODIFIED:20220628T165014Z
UID:2333-1738263600-1738267200@events.aaplacer.org
SUMMARY:Bent Nickel Monthly Birthday Night Speaker Meeting
DESCRIPTION:
URL:https://events.aaplacer.org/event/bent-nickel-monthly-birthday-night-speaker-meeting/2025-01-30/
LOCATION:Calvary Bible Church\, 20801 Todd Valley Road\, Foresthill\, CA\, 95631\, United States
END:VEVENT
BEGIN:VEVENT
DTSTART;TZID=America/Los_Angeles:20241226T190000
DTEND;TZID=America/Los_Angeles:20241226T200000
DTSTAMP:20260423T171547
CREATED:20220628T165014Z
LAST-MODIFIED:20220628T165014Z
UID:2143-1735239600-1735243200@events.aaplacer.org
SUMMARY:Bent Nickel Monthly Birthday Night Speaker Meeting
DESCRIPTION:
URL:https://events.aaplacer.org/event/bent-nickel-monthly-birthday-night-speaker-meeting/2024-12-26/
LOCATION:Calvary Bible Church\, 20801 Todd Valley Road\, Foresthill\, CA\, 95631\, United States
END:VEVENT
BEGIN:VEVENT
DTSTART;TZID=America/Los_Angeles:20241128T190000
DTEND;TZID=America/Los_Angeles:20241128T200000
DTSTAMP:20260423T171547
CREATED:20220628T165014Z
LAST-MODIFIED:20220628T165014Z
UID:2082-1732820400-1732824000@events.aaplacer.org
SUMMARY:Bent Nickel Monthly Birthday Night Speaker Meeting
DESCRIPTION:
URL:https://events.aaplacer.org/event/bent-nickel-monthly-birthday-night-speaker-meeting/2024-11-28/
LOCATION:Calvary Bible Church\, 20801 Todd Valley Road\, Foresthill\, CA\, 95631\, United States
END:VEVENT
BEGIN:VEVENT
DTSTART;TZID=America/Los_Angeles:20241031T190000
DTEND;TZID=America/Los_Angeles:20241031T200000
DTSTAMP:20260423T171547
CREATED:20220628T165014Z
LAST-MODIFIED:20220628T165014Z
UID:1993-1730401200-1730404800@events.aaplacer.org
SUMMARY:Bent Nickel Monthly Birthday Night Speaker Meeting
DESCRIPTION:
URL:https://events.aaplacer.org/event/bent-nickel-monthly-birthday-night-speaker-meeting/2024-10-31/
LOCATION:Calvary Bible Church\, 20801 Todd Valley Road\, Foresthill\, CA\, 95631\, United States
END:VEVENT
BEGIN:VEVENT
DTSTART;TZID=America/Los_Angeles:20240926T190000
DTEND;TZID=America/Los_Angeles:20240926T200000
DTSTAMP:20260423T171547
CREATED:20220628T165014Z
LAST-MODIFIED:20220628T165014Z
UID:1925-1727377200-1727380800@events.aaplacer.org
SUMMARY:Bent Nickel Monthly Birthday Night Speaker Meeting
DESCRIPTION:
URL:https://events.aaplacer.org/event/bent-nickel-monthly-birthday-night-speaker-meeting/2024-09-26/
LOCATION:Calvary Bible Church\, 20801 Todd Valley Road\, Foresthill\, CA\, 95631\, United States
END:VEVENT
BEGIN:VEVENT
DTSTART;TZID=America/Los_Angeles:20240829T190000
DTEND;TZID=America/Los_Angeles:20240829T200000
DTSTAMP:20260423T171547
CREATED:20220628T165014Z
LAST-MODIFIED:20220628T165014Z
UID:1889-1724958000-1724961600@events.aaplacer.org
SUMMARY:Bent Nickel Monthly Birthday Night Speaker Meeting
DESCRIPTION:
URL:https://events.aaplacer.org/event/bent-nickel-monthly-birthday-night-speaker-meeting/2024-08-29/
LOCATION:Calvary Bible Church\, 20801 Todd Valley Road\, Foresthill\, CA\, 95631\, United States
END:VEVENT
BEGIN:VEVENT
DTSTART;TZID=America/Los_Angeles:20240725T190000
DTEND;TZID=America/Los_Angeles:20240725T200000
DTSTAMP:20260423T171547
CREATED:20220628T165014Z
LAST-MODIFIED:20220628T165014Z
UID:1825-1721934000-1721937600@events.aaplacer.org
SUMMARY:Bent Nickel Monthly Birthday Night Speaker Meeting
DESCRIPTION:
URL:https://events.aaplacer.org/event/bent-nickel-monthly-birthday-night-speaker-meeting/2024-07-25/
LOCATION:Calvary Bible Church\, 20801 Todd Valley Road\, Foresthill\, CA\, 95631\, United States
END:VEVENT
BEGIN:VEVENT
DTSTART;TZID=America/Los_Angeles:20240627T190000
DTEND;TZID=America/Los_Angeles:20240627T200000
DTSTAMP:20260423T171547
CREATED:20220628T165014Z
LAST-MODIFIED:20220628T165806Z
UID:1697-1719514800-1719518400@events.aaplacer.org
SUMMARY:Bent Nickel Monthly Birthday Night Speaker Meeting
DESCRIPTION:
URL:https://events.aaplacer.org/event/bent-nickel-monthly-birthday-night-speaker-meeting/2024-06-27/
LOCATION:Calvary Bible Church\, 20801 Todd Valley Road\, Foresthill\, CA\, 95631\, United States
END:VEVENT
BEGIN:VEVENT
DTSTART;TZID=America/Los_Angeles:20240530T190000
DTEND;TZID=America/Los_Angeles:20240530T200000
DTSTAMP:20260423T171547
CREATED:20220628T165014Z
LAST-MODIFIED:20220628T165805Z
UID:1696-1717095600-1717099200@events.aaplacer.org
SUMMARY:Bent Nickel Monthly Birthday Night Speaker Meeting
DESCRIPTION:
URL:https://events.aaplacer.org/event/bent-nickel-monthly-birthday-night-speaker-meeting/2024-05-30/
LOCATION:Calvary Bible Church\, 20801 Todd Valley Road\, Foresthill\, CA\, 95631\, United States
END:VEVENT
BEGIN:VEVENT
DTSTART;TZID=America/Los_Angeles:20240425T190000
DTEND;TZID=America/Los_Angeles:20240425T200000
DTSTAMP:20260423T171547
CREATED:20220628T165014Z
LAST-MODIFIED:20220628T165805Z
UID:1695-1714071600-1714075200@events.aaplacer.org
SUMMARY:Bent Nickel Monthly Birthday Night Speaker Meeting
DESCRIPTION:
URL:https://events.aaplacer.org/event/bent-nickel-monthly-birthday-night-speaker-meeting/2024-04-25/
LOCATION:Calvary Bible Church\, 20801 Todd Valley Road\, Foresthill\, CA\, 95631\, United States
END:VEVENT
BEGIN:VEVENT
DTSTART;TZID=America/Los_Angeles:20220630T190000
DTEND;TZID=America/Los_Angeles:20220630T200000
DTSTAMP:20260423T171547
CREATED:20220628T165014Z
LAST-MODIFIED:20220628T165755Z
UID:1645-1656615600-1656619200@events.aaplacer.org
SUMMARY:Bent Nickel Monthly Birthday Night Speaker Meeting
DESCRIPTION:
URL:https://events.aaplacer.org/event/bent-nickel-monthly-birthday-night-speaker-meeting/2022-06-30/
LOCATION:Calvary Bible Church\, 20801 Todd Valley Road\, Foresthill\, CA\, 95631\, United States
END:VEVENT
END:VCALENDAR