BEGIN:VCALENDAR
VERSION:2.0
PRODID:-//CNIA 07, District 21 Events - ECPv6.8.3//NONSGML v1.0//EN
CALSCALE:GREGORIAN
METHOD:PUBLISH
X-WR-CALNAME:CNIA 07, District 21 Events
X-ORIGINAL-URL:https://events.aaplacer.org
X-WR-CALDESC:Events for CNIA 07, District 21 Events
REFRESH-INTERVAL;VALUE=DURATION:PT1H
X-Robots-Tag:noindex
X-PUBLISHED-TTL:PT1H
BEGIN:VTIMEZONE
TZID:America/Los_Angeles
BEGIN:DAYLIGHT
TZOFFSETFROM:-0800
TZOFFSETTO:-0700
TZNAME:PDT
DTSTART:20230312T100000
END:DAYLIGHT
BEGIN:STANDARD
TZOFFSETFROM:-0700
TZOFFSETTO:-0800
TZNAME:PST
DTSTART:20231105T090000
END:STANDARD
END:VTIMEZONE
BEGIN:VEVENT
DTSTART;TZID=America/Los_Angeles:20230612T193000
DTEND;TZID=America/Los_Angeles:20230612T203000
DTSTAMP:20260423T223557
CREATED:20230611T182125Z
LAST-MODIFIED:20230822T011156Z
UID:2548-1686598200-1686601800@events.aaplacer.org
SUMMARY:Back to Basics - Rocklin
DESCRIPTION:
URL:https://events.aaplacer.org/event/back-to-basics-rocklin/2023-06-12/
LOCATION:Mosaic Christian Church\, 4430 Granite Drive\, Rocklin\, CA\, 95677\, United States
END:VEVENT
END:VCALENDAR